BEGIN:VCALENDAR
VERSION:2.0
PRODID:-//3W Magazine - ECPv6.15.20//NONSGML v1.0//EN
CALSCALE:GREGORIAN
METHOD:PUBLISH
X-ORIGINAL-URL:https://3wmagazine.com
X-WR-CALDESC:Events for 3W Magazine
REFRESH-INTERVAL;VALUE=DURATION:PT1H
X-Robots-Tag:noindex
X-PUBLISHED-TTL:PT1H
BEGIN:VTIMEZONE
TZID:America/Denver
BEGIN:DAYLIGHT
TZOFFSETFROM:-0700
TZOFFSETTO:-0600
TZNAME:MDT
DTSTART:20150308T090000
END:DAYLIGHT
BEGIN:STANDARD
TZOFFSETFROM:-0600
TZOFFSETTO:-0700
TZNAME:MST
DTSTART:20151101T080000
END:STANDARD
BEGIN:DAYLIGHT
TZOFFSETFROM:-0700
TZOFFSETTO:-0600
TZNAME:MDT
DTSTART:20160313T090000
END:DAYLIGHT
BEGIN:STANDARD
TZOFFSETFROM:-0600
TZOFFSETTO:-0700
TZNAME:MST
DTSTART:20161106T080000
END:STANDARD
BEGIN:DAYLIGHT
TZOFFSETFROM:-0700
TZOFFSETTO:-0600
TZNAME:MDT
DTSTART:20170312T090000
END:DAYLIGHT
BEGIN:STANDARD
TZOFFSETFROM:-0600
TZOFFSETTO:-0700
TZNAME:MST
DTSTART:20171105T080000
END:STANDARD
END:VTIMEZONE
BEGIN:VEVENT
DTSTART;VALUE=DATE:20160929
DTEND;VALUE=DATE:20160930
DTSTAMP:20260425T061839
CREATED:20160725T151028Z
LAST-MODIFIED:20160725T151152Z
UID:12735-1475107200-1475193599@3wmagazine.com
SUMMARY:Hall of Honor
DESCRIPTION:The Hall of Honor commemorates educators\, alumni\, and friends who have demonstrated extraordinary fidelity\, honor and service to the Fayetteville Public Schools and the community.
URL:https://3wmagazine.com/event/hall-of-honor-2/
LOCATION:Fayetteville Town Center\, 15 West Mountain\, Fayetteville\, AR\, 72701\, United States
CATEGORIES:Happenings,September,Sponsored
ATTACH;FMTTYPE=image/jpeg:https://3wmagazine.com/wp-content/uploads/2016/07/2016-FPEF-HOH-Invite-sponsor-bottom-731x1024.jpg
END:VEVENT
BEGIN:VEVENT
DTSTART;TZID=America/Denver:20160929T173000
DTEND;TZID=America/Denver:20160929T173000
DTSTAMP:20260425T061839
CREATED:20160107T180235Z
LAST-MODIFIED:20160621T145648Z
UID:12025-1475170200-1475170200@3wmagazine.com
SUMMARY:The Big Event
DESCRIPTION:A highlight of the social season\, this fun and unique event is Big Brothers Big Sisters NWA’s annual autumn event featuring good company\, fine wines\, delicious treats and a high quality auction.
URL:https://3wmagazine.com/event/the-big-event-2/
LOCATION:Barn at the Springs\, 5392 Highway 112\, Springdale\, AR\, 72762\, United States
CATEGORIES:Happenings,September,Sponsored
ATTACH;FMTTYPE=image/jpeg:https://3wmagazine.com/wp-content/uploads/2016/06/The-Big-Event.jpg
END:VEVENT
END:VCALENDAR