BEGIN:VCALENDAR
VERSION:2.0
PRODID:-//3W Magazine - ECPv6.15.20//NONSGML v1.0//EN
CALSCALE:GREGORIAN
METHOD:PUBLISH
X-ORIGINAL-URL:https://3wmagazine.com
X-WR-CALDESC:Events for 3W Magazine
REFRESH-INTERVAL;VALUE=DURATION:PT1H
X-Robots-Tag:noindex
X-PUBLISHED-TTL:PT1H
BEGIN:VTIMEZONE
TZID:America/Denver
BEGIN:DAYLIGHT
TZOFFSETFROM:-0700
TZOFFSETTO:-0600
TZNAME:MDT
DTSTART:20150308T090000
END:DAYLIGHT
BEGIN:STANDARD
TZOFFSETFROM:-0600
TZOFFSETTO:-0700
TZNAME:MST
DTSTART:20151101T080000
END:STANDARD
BEGIN:DAYLIGHT
TZOFFSETFROM:-0700
TZOFFSETTO:-0600
TZNAME:MDT
DTSTART:20160313T090000
END:DAYLIGHT
BEGIN:STANDARD
TZOFFSETFROM:-0600
TZOFFSETTO:-0700
TZNAME:MST
DTSTART:20161106T080000
END:STANDARD
BEGIN:DAYLIGHT
TZOFFSETFROM:-0700
TZOFFSETTO:-0600
TZNAME:MDT
DTSTART:20170312T090000
END:DAYLIGHT
BEGIN:STANDARD
TZOFFSETFROM:-0600
TZOFFSETTO:-0700
TZNAME:MST
DTSTART:20171105T080000
END:STANDARD
END:VTIMEZONE
BEGIN:VEVENT
DTSTART;VALUE=DATE:20161006
DTEND;VALUE=DATE:20161009
DTSTAMP:20260424T195513
CREATED:20160107T182538Z
LAST-MODIFIED:20160107T182538Z
UID:12033-1475712000-1475971199@3wmagazine.com
SUMMARY:Redbone Fly Fishing Invitational
DESCRIPTION:Angler teams enjoy two days of guiding fishing.
URL:https://3wmagazine.com/event/redbone-fly-fishing-invitational-2/
CATEGORIES:Happenings,October,Play
ATTACH;FMTTYPE=image/jpeg:https://3wmagazine.com/wp-content/uploads/2015/08/404010_10151136885577112_1096291584_n.jpg
END:VEVENT
BEGIN:VEVENT
DTSTART;TZID=America/Denver:20161008T090000
DTEND;TZID=America/Denver:20161008T090000
DTSTAMP:20260424T195513
CREATED:20161004T175010Z
LAST-MODIFIED:20161004T175129Z
UID:13048-1475917200-1475917200@3wmagazine.com
SUMMARY:Pea Ridge Mule Jump
DESCRIPTION:The 28th annual Pea Ridge Mule Jump hosts close to 100 vendors who will share their food and beverage options\, along with crafts and special Ozark-specific gift selections. This family-friendly event includes music\, entertainment\, a car show\, children’s stick horse race and more!
URL:https://3wmagazine.com/event/pea-ridge-mule-jump/
LOCATION:Unnamed Venue\, Pea Ridge\, AR\, United States
CATEGORIES:Family-Friendly,Happenings,October
ATTACH;FMTTYPE=image/jpeg:https://3wmagazine.com/wp-content/uploads/2016/10/14485126_1401591586537415_5780370863278618878_n.jpg
END:VEVENT
END:VCALENDAR