BEGIN:VCALENDAR
VERSION:2.0
PRODID:-//3W Magazine - ECPv6.15.20//NONSGML v1.0//EN
CALSCALE:GREGORIAN
METHOD:PUBLISH
X-ORIGINAL-URL:https://3wmagazine.com
X-WR-CALDESC:Events for 3W Magazine
REFRESH-INTERVAL;VALUE=DURATION:PT1H
X-Robots-Tag:noindex
X-PUBLISHED-TTL:PT1H
BEGIN:VTIMEZONE
TZID:America/Denver
BEGIN:DAYLIGHT
TZOFFSETFROM:-0700
TZOFFSETTO:-0600
TZNAME:MDT
DTSTART:20150308T090000
END:DAYLIGHT
BEGIN:STANDARD
TZOFFSETFROM:-0600
TZOFFSETTO:-0700
TZNAME:MST
DTSTART:20151101T080000
END:STANDARD
BEGIN:DAYLIGHT
TZOFFSETFROM:-0700
TZOFFSETTO:-0600
TZNAME:MDT
DTSTART:20160313T090000
END:DAYLIGHT
BEGIN:STANDARD
TZOFFSETFROM:-0600
TZOFFSETTO:-0700
TZNAME:MST
DTSTART:20161106T080000
END:STANDARD
BEGIN:DAYLIGHT
TZOFFSETFROM:-0700
TZOFFSETTO:-0600
TZNAME:MDT
DTSTART:20170312T090000
END:DAYLIGHT
BEGIN:STANDARD
TZOFFSETFROM:-0600
TZOFFSETTO:-0700
TZNAME:MST
DTSTART:20171105T080000
END:STANDARD
END:VTIMEZONE
BEGIN:VEVENT
DTSTART;TZID=America/Denver:20161009T100000
DTEND;TZID=America/Denver:20161009T100000
DTSTAMP:20260425T135300
CREATED:20160615T155326Z
LAST-MODIFIED:20160621T185406Z
UID:12570-1476007200-1476007200@3wmagazine.com
SUMMARY:Fayetteville Firefighters' Hero Half Marathon
DESCRIPTION:The Hero Half Marathon event includes half marathon race and a 1 mile fun run for kids of all ages. This is a fundraising race and community event hosted by the Fayetteville Firefighters’ IAFF – Local 2866 in partnership with The Spark Foundation\, Inc. Race proceeds benefit organizations that meet important community needs\, increase fitness opportunities for the community\, and make Fayetteville and Arkansas a great place to live\, work\, and play. \n  \nSchedule \n10 am:  Half marathon start time at Lake Fayetteville \n11 am:  1-mile start time  at the Walton Arts Center parking lot \nUntil 2 pm:  Post-race festivities and awards
URL:https://3wmagazine.com/event/hero-half-marathon-2/
LOCATION:Lake Fayetteville & Walton Arts Center\, Fayetteville\, AR\, United States
CATEGORIES:Happenings,Kids,October,Play,Sponsored
ATTACH;FMTTYPE=image/jpeg:https://3wmagazine.com/wp-content/uploads/2016/06/Hero-Half-Marathon-2016.jpg
END:VEVENT
END:VCALENDAR