BEGIN:VCALENDAR
VERSION:2.0
PRODID:-//3W Magazine - ECPv6.15.20//NONSGML v1.0//EN
CALSCALE:GREGORIAN
METHOD:PUBLISH
X-WR-CALNAME:3W Magazine
X-ORIGINAL-URL:https://3wmagazine.com
X-WR-CALDESC:Events for 3W Magazine
REFRESH-INTERVAL;VALUE=DURATION:PT1H
X-Robots-Tag:noindex
X-PUBLISHED-TTL:PT1H
BEGIN:VTIMEZONE
TZID:America/Denver
BEGIN:DAYLIGHT
TZOFFSETFROM:-0700
TZOFFSETTO:-0600
TZNAME:MDT
DTSTART:20150308T090000
END:DAYLIGHT
BEGIN:STANDARD
TZOFFSETFROM:-0600
TZOFFSETTO:-0700
TZNAME:MST
DTSTART:20151101T080000
END:STANDARD
BEGIN:DAYLIGHT
TZOFFSETFROM:-0700
TZOFFSETTO:-0600
TZNAME:MDT
DTSTART:20160313T090000
END:DAYLIGHT
BEGIN:STANDARD
TZOFFSETFROM:-0600
TZOFFSETTO:-0700
TZNAME:MST
DTSTART:20161106T080000
END:STANDARD
BEGIN:DAYLIGHT
TZOFFSETFROM:-0700
TZOFFSETTO:-0600
TZNAME:MDT
DTSTART:20170312T090000
END:DAYLIGHT
BEGIN:STANDARD
TZOFFSETFROM:-0600
TZOFFSETTO:-0700
TZNAME:MST
DTSTART:20171105T080000
END:STANDARD
END:VTIMEZONE
BEGIN:VEVENT
DTSTART;TZID=America/Denver:20161014T113000
DTEND;TZID=America/Denver:20161014T113000
DTSTAMP:20260424T055441
CREATED:20160914T170539Z
LAST-MODIFIED:20160914T170539Z
UID:12979-1476444600-1476444600@3wmagazine.com
SUMMARY:Chilirhea Swag Classic
DESCRIPTION:The Chilirhea Swag Classic in honor of Gary K. Swagerty benefits Alzheimer’s Arkansas and the UAMS Reynolds Institute on Aging.
URL:https://3wmagazine.com/event/chilirhea-swag-classic/
LOCATION:Stonebridge Meadows Golf Club\, Fayetteville\, AR\, United States
CATEGORIES:Happenings,October,Play
ATTACH;FMTTYPE=image/jpeg:https://3wmagazine.com/wp-content/uploads/2016/09/Chilirhea.jpg
END:VEVENT
END:VCALENDAR