BEGIN:VCALENDAR
VERSION:2.0
PRODID:-//3W Magazine - ECPv6.15.20//NONSGML v1.0//EN
CALSCALE:GREGORIAN
METHOD:PUBLISH
X-WR-CALNAME:3W Magazine
X-ORIGINAL-URL:https://3wmagazine.com
X-WR-CALDESC:Events for 3W Magazine
REFRESH-INTERVAL;VALUE=DURATION:PT1H
X-Robots-Tag:noindex
X-PUBLISHED-TTL:PT1H
BEGIN:VTIMEZONE
TZID:America/Denver
BEGIN:DAYLIGHT
TZOFFSETFROM:-0700
TZOFFSETTO:-0600
TZNAME:MDT
DTSTART:20150308T090000
END:DAYLIGHT
BEGIN:STANDARD
TZOFFSETFROM:-0600
TZOFFSETTO:-0700
TZNAME:MST
DTSTART:20151101T080000
END:STANDARD
BEGIN:DAYLIGHT
TZOFFSETFROM:-0700
TZOFFSETTO:-0600
TZNAME:MDT
DTSTART:20160313T090000
END:DAYLIGHT
BEGIN:STANDARD
TZOFFSETFROM:-0600
TZOFFSETTO:-0700
TZNAME:MST
DTSTART:20161106T080000
END:STANDARD
BEGIN:DAYLIGHT
TZOFFSETFROM:-0700
TZOFFSETTO:-0600
TZNAME:MDT
DTSTART:20170312T090000
END:DAYLIGHT
BEGIN:STANDARD
TZOFFSETFROM:-0600
TZOFFSETTO:-0700
TZNAME:MST
DTSTART:20171105T080000
END:STANDARD
END:VTIMEZONE
BEGIN:VEVENT
DTSTART;TZID=America/Denver:20161018T180000
DTEND;TZID=America/Denver:20161018T180000
DTSTAMP:20260424T212317
CREATED:20160919T143626Z
LAST-MODIFIED:20160919T143626Z
UID:12983-1476813600-1476813600@3wmagazine.com
SUMMARY:Open Hearts Open Homes Gala
DESCRIPTION:The Open Hearts Open Homes Gala raises funds to assist The Call in NWA with recruiting and training Christian families and supporting all foster and adoptive homes in our community. It is our desire to also bring awareness to the continual foster care crisis in the state of Arkansas. This gala features a cocktail hour\, silent auction and dinner.
URL:https://3wmagazine.com/event/open-hearts-open-homes-gala/
LOCATION:Horton Farms\, 15799 Bethlehem Road\, Gravette\, AR\, 72736\, United States
CATEGORIES:Entertainment,Galas,Happenings,October
ATTACH;FMTTYPE=image/jpeg:https://3wmagazine.com/wp-content/uploads/2016/09/https-cdn.evbuc_.com-images-21712681-133706060368-1-original.jpg
END:VEVENT
END:VCALENDAR