BEGIN:VCALENDAR
VERSION:2.0
PRODID:-//3W Magazine - ECPv6.15.20//NONSGML v1.0//EN
CALSCALE:GREGORIAN
METHOD:PUBLISH
X-ORIGINAL-URL:https://3wmagazine.com
X-WR-CALDESC:Events for 3W Magazine
REFRESH-INTERVAL;VALUE=DURATION:PT1H
X-Robots-Tag:noindex
X-PUBLISHED-TTL:PT1H
BEGIN:VTIMEZONE
TZID:America/Denver
BEGIN:DAYLIGHT
TZOFFSETFROM:-0700
TZOFFSETTO:-0600
TZNAME:MDT
DTSTART:20150308T090000
END:DAYLIGHT
BEGIN:STANDARD
TZOFFSETFROM:-0600
TZOFFSETTO:-0700
TZNAME:MST
DTSTART:20151101T080000
END:STANDARD
BEGIN:DAYLIGHT
TZOFFSETFROM:-0700
TZOFFSETTO:-0600
TZNAME:MDT
DTSTART:20160313T090000
END:DAYLIGHT
BEGIN:STANDARD
TZOFFSETFROM:-0600
TZOFFSETTO:-0700
TZNAME:MST
DTSTART:20161106T080000
END:STANDARD
BEGIN:DAYLIGHT
TZOFFSETFROM:-0700
TZOFFSETTO:-0600
TZNAME:MDT
DTSTART:20170312T090000
END:DAYLIGHT
BEGIN:STANDARD
TZOFFSETFROM:-0600
TZOFFSETTO:-0700
TZNAME:MST
DTSTART:20171105T080000
END:STANDARD
END:VTIMEZONE
BEGIN:VEVENT
DTSTART;VALUE=DATE:20161021
DTEND;VALUE=DATE:20161023
DTSTAMP:20260425T195903
CREATED:20160107T185123Z
LAST-MODIFIED:20160107T185123Z
UID:12040-1477008000-1477180799@3wmagazine.com
SUMMARY:Outback in the Ozarks
DESCRIPTION:Outback in the Ozarks is a 55-\, 70- or 200-mile team relay race through the beautiful Ozark mountains & five state parks. It’s the overnight running relay that will challenge you in the spirit of teamwork and fun with your family and friends.
URL:https://3wmagazine.com/event/outback-in-the-ozarks-2/
CATEGORIES:Happenings,October,Play
ATTACH;FMTTYPE=image/jpeg:https://3wmagazine.com/wp-content/uploads/2016/01/Outback-in-the-Ozarks.jpg
END:VEVENT
BEGIN:VEVENT
DTSTART;VALUE=DATE:20161021
DTEND;VALUE=DATE:20161023
DTSTAMP:20260425T195903
CREATED:20160107T185608Z
LAST-MODIFIED:20160107T185608Z
UID:12042-1477008000-1477180799@3wmagazine.com
SUMMARY:Tom Pagnozzi Charity Golf Tournament\, Tailgate & Silent Auction
DESCRIPTION:Enjoy door prizes\, food\, drinks\, live and silent auctions\, live music and more. Morning and afternoon flights available. Event proceeds will go to benefit the Pagnozzi Charities Youth Sports Scholarship Program. The Program grants sports scholarships to underprivileged children K-8 grades in Northwest Arkansas.
URL:https://3wmagazine.com/event/tom-pagnozzi/
CATEGORIES:Happenings,October,Play,Sponsored
ATTACH;FMTTYPE=image/jpeg:https://3wmagazine.com/wp-content/uploads/2016/01/Pagnozzi-Tailgate.jpg
END:VEVENT
BEGIN:VEVENT
DTSTART;VALUE=DATE:20161021
DTEND;VALUE=DATE:20161024
DTSTAMP:20260425T195903
CREATED:20160906T201752Z
LAST-MODIFIED:20160906T201752Z
UID:12883-1477008000-1477267199@3wmagazine.com
SUMMARY:Journaling\, Nature & Mindfulness
DESCRIPTION:What could be better than a spending a beautiful autumn weekend in the Ozarks?  It’s time for hiking\, making your own nature journal\, filling its pages with memories\, illustrations\, and impressions from the trails and ridge tops. Immerse yourself in the outdoors and let the creative writing begin.
URL:https://3wmagazine.com/event/journaling-nature-mindfulness/
CATEGORIES:Happenings,October
ATTACH;FMTTYPE=image/jpeg:https://3wmagazine.com/wp-content/uploads/2016/09/ONSC-field-school-logo.jpg
END:VEVENT
BEGIN:VEVENT
DTSTART;VALUE=DATE:20161022
DTEND;VALUE=DATE:20161023
DTSTAMP:20260425T195903
CREATED:20160107T190005Z
LAST-MODIFIED:20160107T190005Z
UID:12044-1477094400-1477180799@3wmagazine.com
SUMMARY:Howl-O-Ween Spooktacular
DESCRIPTION:This annual event includes games\, food\, a children’s costume contest and the opportunity to view the animals at night.
URL:https://3wmagazine.com/event/howl-o-ween-spooktacular-2/
LOCATION:Turpentine Creek Wildlife Refuge\, 239 Turpentine Creek Lane\, Eureka Springs\, AR\, 72632\, United States
CATEGORIES:Happenings,Kids,October
ATTACH;FMTTYPE=image/jpeg:https://3wmagazine.com/wp-content/uploads/2015/08/Turpentine-Creek-Wildlife-Refuge.jpg
END:VEVENT
BEGIN:VEVENT
DTSTART;VALUE=DATE:20161022
DTEND;VALUE=DATE:20161023
DTSTAMP:20260425T195903
CREATED:20160107T190651Z
LAST-MODIFIED:20160107T190651Z
UID:12046-1477094400-1477180799@3wmagazine.com
SUMMARY:One Walk
DESCRIPTION:Your support will help fund life-changing research and create a world without Type 1 Diabetes.
URL:https://3wmagazine.com/event/one-walk-2/
CATEGORIES:Happenings,October,Play
ATTACH;FMTTYPE=image/jpeg:https://3wmagazine.com/wp-content/uploads/2015/08/OneWalkLogo.jpg
END:VEVENT
BEGIN:VEVENT
DTSTART;VALUE=DATE:20161022
DTEND;VALUE=DATE:20161024
DTSTAMP:20260425T195903
CREATED:20160107T192020Z
LAST-MODIFIED:20160907T142519Z
UID:12053-1477094400-1477267199@3wmagazine.com
SUMMARY:Family Foto Fest
DESCRIPTION:Proceeds from these professional family photo sessions provide vital support for first time parents in NWA. \n  \nSessions are available for October 22\, 23\, 29 and 30 at Fayetteville Mt. Sequoyah\, Village on the Creeks in Rogers\, and Downtown Rogers.
URL:https://3wmagazine.com/event/family-foto-fest-4/
LOCATION:Mt. Sequoyah
CATEGORIES:Happenings,October
ATTACH;FMTTYPE=image/jpeg:https://3wmagazine.com/wp-content/uploads/2015/08/Family-network-logo.jpg
END:VEVENT
BEGIN:VEVENT
DTSTART;TZID=America/Denver:20161022T120000
DTEND;TZID=America/Denver:20161022T143000
DTSTAMP:20260425T195903
CREATED:20160919T150911Z
LAST-MODIFIED:20160919T150911Z
UID:12993-1477137600-1477146600@3wmagazine.com
SUMMARY:30 Year Anniversary Fundraiser
DESCRIPTION:This tailgate style event gives you the opportunity to hear from current staff\, past volunteers and patients regarding the past and present of the clinic. This fundraiser includes an indoor VIP hour.
URL:https://3wmagazine.com/event/30-year-anniversary-fundraiser/
LOCATION:Welcome Health\, 1100 N. Woolsey Ave\, Fayetteville\, AR\, 72703\, United States
CATEGORIES:Happenings,October
ATTACH;FMTTYPE=image/jpeg:https://3wmagazine.com/wp-content/uploads/2016/09/welcome-health-logo2.jpg
END:VEVENT
BEGIN:VEVENT
DTSTART;TZID=America/Denver:20161022T150000
DTEND;TZID=America/Denver:20161022T200000
DTSTAMP:20260425T195903
CREATED:20160908T153313Z
LAST-MODIFIED:20160908T153313Z
UID:12895-1477148400-1477166400@3wmagazine.com
SUMMARY:Choctoberfest
DESCRIPTION:Choctoberfest will feature local music\, handcrafted chocolate\, craft brews\, sauerkraut and brats. This event supports the Jackson L. Graves’ projects to support local families with babies in intensive care units at local hospitals.
URL:https://3wmagazine.com/event/choctoberfest/
CATEGORIES:Happenings,October
ATTACH;FMTTYPE=image/jpeg:https://3wmagazine.com/wp-content/uploads/2016/09/Choctoberfest.jpg
END:VEVENT
BEGIN:VEVENT
DTSTART;TZID=America/Denver:20161022T180000
DTEND;TZID=America/Denver:20161022T180000
DTSTAMP:20260425T195903
CREATED:20160913T165254Z
LAST-MODIFIED:20160913T172258Z
UID:12968-1477159200-1477159200@3wmagazine.com
SUMMARY:A Night of Musical Wonder
DESCRIPTION:A Night of Musical Wonder includes entertainment\, dinner\, and silent and live auctions. Join the NWA Women for Harding in raising money for need-based scholarships for students attending Harding University.
URL:https://3wmagazine.com/event/a-night-of-musical-wonder/
LOCATION:The Lodge-Bentonville Church of Christ\, Bentonville\, AR\, United States
CATEGORIES:Happenings,October
ATTACH;FMTTYPE=image/jpeg:https://3wmagazine.com/wp-content/uploads/2016/09/a-night-of-musical-wonder.jpg
END:VEVENT
END:VCALENDAR