BEGIN:VCALENDAR
VERSION:2.0
PRODID:-//3W Magazine - ECPv6.15.20//NONSGML v1.0//EN
CALSCALE:GREGORIAN
METHOD:PUBLISH
X-WR-CALNAME:3W Magazine
X-ORIGINAL-URL:https://3wmagazine.com
X-WR-CALDESC:Events for 3W Magazine
REFRESH-INTERVAL;VALUE=DURATION:PT1H
X-Robots-Tag:noindex
X-PUBLISHED-TTL:PT1H
BEGIN:VTIMEZONE
TZID:America/Denver
BEGIN:DAYLIGHT
TZOFFSETFROM:-0700
TZOFFSETTO:-0600
TZNAME:MDT
DTSTART:20150308T090000
END:DAYLIGHT
BEGIN:STANDARD
TZOFFSETFROM:-0600
TZOFFSETTO:-0700
TZNAME:MST
DTSTART:20151101T080000
END:STANDARD
BEGIN:DAYLIGHT
TZOFFSETFROM:-0700
TZOFFSETTO:-0600
TZNAME:MDT
DTSTART:20160313T090000
END:DAYLIGHT
BEGIN:STANDARD
TZOFFSETFROM:-0600
TZOFFSETTO:-0700
TZNAME:MST
DTSTART:20161106T080000
END:STANDARD
BEGIN:DAYLIGHT
TZOFFSETFROM:-0700
TZOFFSETTO:-0600
TZNAME:MDT
DTSTART:20170312T090000
END:DAYLIGHT
BEGIN:STANDARD
TZOFFSETFROM:-0600
TZOFFSETTO:-0700
TZNAME:MST
DTSTART:20171105T080000
END:STANDARD
END:VTIMEZONE
BEGIN:VEVENT
DTSTART;TZID=America/Denver:20161102T180000
DTEND;TZID=America/Denver:20161102T193000
DTSTAMP:20260421T055241
CREATED:20161027T173314Z
LAST-MODIFIED:20161027T173548Z
UID:13110-1478109600-1478115000@3wmagazine.com
SUMMARY:DISH at Crystal Bridges
DESCRIPTION:  \nJoin Crystal Bridges Culinary Director Case Dighero as he hosts a lively\, insightful dialogue with singer/songwriter Bonnie Montgomery! Chef Melody Lane has created a delicious and clever menu inspired by the life\, music\, and times of the artist. This delightful evening of food and music will provide insight on how women inspire the world at large. Open to guests ages 21 and above. \nSponsored by Arvest Bank\, Cindy Flynt Walters and Betty Flynt\, Onyx Coffee Lab\, and Briar Rose Bakery.\n$35 ($28 for Members)\, register online or by calling Guest Services at 479.657.2335.
URL:https://3wmagazine.com/event/dish-at-crystal-bridges/
LOCATION:Crystal Bridges Museum of American Art\, 600 Museum Way\, Bentonville\, AR\, 72712\, United States
CATEGORIES:Happenings,November
END:VEVENT
END:VCALENDAR