BEGIN:VCALENDAR
VERSION:2.0
PRODID:-//3W Magazine - ECPv6.15.20//NONSGML v1.0//EN
CALSCALE:GREGORIAN
METHOD:PUBLISH
X-ORIGINAL-URL:https://3wmagazine.com
X-WR-CALDESC:Events for 3W Magazine
REFRESH-INTERVAL;VALUE=DURATION:PT1H
X-Robots-Tag:noindex
X-PUBLISHED-TTL:PT1H
BEGIN:VTIMEZONE
TZID:America/Denver
BEGIN:DAYLIGHT
TZOFFSETFROM:-0700
TZOFFSETTO:-0600
TZNAME:MDT
DTSTART:20150308T090000
END:DAYLIGHT
BEGIN:STANDARD
TZOFFSETFROM:-0600
TZOFFSETTO:-0700
TZNAME:MST
DTSTART:20151101T080000
END:STANDARD
BEGIN:DAYLIGHT
TZOFFSETFROM:-0700
TZOFFSETTO:-0600
TZNAME:MDT
DTSTART:20160313T090000
END:DAYLIGHT
BEGIN:STANDARD
TZOFFSETFROM:-0600
TZOFFSETTO:-0700
TZNAME:MST
DTSTART:20161106T080000
END:STANDARD
BEGIN:DAYLIGHT
TZOFFSETFROM:-0700
TZOFFSETTO:-0600
TZNAME:MDT
DTSTART:20170312T090000
END:DAYLIGHT
BEGIN:STANDARD
TZOFFSETFROM:-0600
TZOFFSETTO:-0700
TZNAME:MST
DTSTART:20171105T080000
END:STANDARD
END:VTIMEZONE
BEGIN:VEVENT
DTSTART;VALUE=DATE:20161118
DTEND;VALUE=DATE:20170101
DTSTAMP:20260421T043345
CREATED:20160107T200559Z
LAST-MODIFIED:20160107T200559Z
UID:12060-1479427200-1483228799@3wmagazine.com
SUMMARY:Lights of the Ozarks
DESCRIPTION:During the holiday season\, downtown Fayetteville is turned into a sparkling wonderland. The community gathers to enjoy a parade\, carolers\, carriage rides\, street vendors and more. Starting November 18\, the Fayetteville square is illuminated by half a million lights from 5 pm to 1 am. \nThe Lights of the Ozarks parade is organized by the University of Arkansas Hospitality Management students with support from the Fayetteville Visitors Bureau. The Fayetteville Advertising & Promotion Commission coordinates all other events during the festival.
URL:https://3wmagazine.com/event/lights-of-the-ozarks-2/
LOCATION:Fayetteville Square\, Fayetteville\, AR\, United States
CATEGORIES:Happenings,Kids,November
ATTACH;FMTTYPE=image/jpeg:https://3wmagazine.com/wp-content/uploads/2015/08/bQESGM3X_400x400.jpeg
END:VEVENT
BEGIN:VEVENT
DTSTART;VALUE=DATE:20161121
DTEND;VALUE=DATE:20161122
DTSTAMP:20260421T043345
CREATED:20160107T201029Z
LAST-MODIFIED:20160107T201029Z
UID:12061-1479686400-1479772799@3wmagazine.com
SUMMARY:Holiday Auction & Luncheon
DESCRIPTION:The goal of the Bentonville Garden Club is to study in all aspects the fine art of gardening\, to increase active interests in city beautification\, to aid in protection of wildflowers and birds\, and to aid in protection and conservation of our natural resources.
URL:https://3wmagazine.com/event/holiday-auction-luncheon/
CATEGORIES:Happenings,November
ATTACH;FMTTYPE=image/jpeg:https://3wmagazine.com/wp-content/uploads/2016/01/563142_108589042659469_1863074990_n.jpg
END:VEVENT
END:VCALENDAR