BEGIN:VCALENDAR
VERSION:2.0
PRODID:-//3W Magazine - ECPv6.15.20//NONSGML v1.0//EN
CALSCALE:GREGORIAN
METHOD:PUBLISH
X-ORIGINAL-URL:https://3wmagazine.com
X-WR-CALDESC:Events for 3W Magazine
REFRESH-INTERVAL;VALUE=DURATION:PT1H
X-Robots-Tag:noindex
X-PUBLISHED-TTL:PT1H
BEGIN:VTIMEZONE
TZID:America/Denver
BEGIN:DAYLIGHT
TZOFFSETFROM:-0700
TZOFFSETTO:-0600
TZNAME:MDT
DTSTART:20180311T090000
END:DAYLIGHT
BEGIN:STANDARD
TZOFFSETFROM:-0600
TZOFFSETTO:-0700
TZNAME:MST
DTSTART:20181104T080000
END:STANDARD
BEGIN:DAYLIGHT
TZOFFSETFROM:-0700
TZOFFSETTO:-0600
TZNAME:MDT
DTSTART:20190310T090000
END:DAYLIGHT
BEGIN:STANDARD
TZOFFSETFROM:-0600
TZOFFSETTO:-0700
TZNAME:MST
DTSTART:20191103T080000
END:STANDARD
BEGIN:DAYLIGHT
TZOFFSETFROM:-0700
TZOFFSETTO:-0600
TZNAME:MDT
DTSTART:20200308T090000
END:DAYLIGHT
BEGIN:STANDARD
TZOFFSETFROM:-0600
TZOFFSETTO:-0700
TZNAME:MST
DTSTART:20201101T080000
END:STANDARD
END:VTIMEZONE
BEGIN:VEVENT
DTSTART;VALUE=DATE:20190409
DTEND;VALUE=DATE:20190415
DTSTAMP:20260421T083212
CREATED:20190122T173729Z
LAST-MODIFIED:20190124T174821Z
UID:1007992-1554768000-1555286399@3wmagazine.com
SUMMARY:Waitress
DESCRIPTION:Inspired by Adrienne Shelly’s film\, this musical tells the story of Jenna – a waitress and expert piemaker who dreams of a way out of her small town and loveless marriage. Brought to life by an all-female creative team\, “Waitress” features original music and lyrics by Grammy Award nominee and Tony Award nominee Sara Bareilles. For tickets\, visit www.waltonartscenter.org.
URL:https://3wmagazine.com/event/waitress-2019/
LOCATION:Walton Arts Center\, 495 W. Dickson St.\, Fayetteville\, AR\, 72701\, United States
CATEGORIES:April,Happenings
ATTACH;FMTTYPE=image/png:https://3wmagazine.com/wp-content/uploads/2018/12/Walton-Arts-Center-calendar-logo.png
END:VEVENT
BEGIN:VEVENT
DTSTART;VALUE=DATE:20190413
DTEND;VALUE=DATE:20190414
DTSTAMP:20260421T083212
CREATED:20190122T175313Z
LAST-MODIFIED:20190211T203515Z
UID:1008005-1555113600-1555199999@3wmagazine.com
SUMMARY:Cow Paddy Run
DESCRIPTION:The Cow Paddy Run is a 5K and 1K fun run at Gulley Park hosted by The Spark Foundation. Proceeds support increased access to health and fitness opportunities and innovative educational projects in local schools. For more details\, visit www.cowpaddyrun.com.
URL:https://3wmagazine.com/event/cow-paddy-run-2019/
LOCATION:Gulley Park\, 1850 E. Township St.\, Fayetteville\, AR\, 72703\, United States
CATEGORIES:April,Happenings,Sponsored
ATTACH;FMTTYPE=image/jpeg:https://3wmagazine.com/wp-content/uploads/2019/01/Cow-Paddy-Seal-01-e1549917281277.jpg
END:VEVENT
BEGIN:VEVENT
DTSTART;VALUE=DATE:20190413
DTEND;VALUE=DATE:20190414
DTSTAMP:20260421T083212
CREATED:20190122T175518Z
LAST-MODIFIED:20190123T201624Z
UID:1008007-1555113600-1555199999@3wmagazine.com
SUMMARY:NWA Heart Walk
DESCRIPTION:This family event features many interactive areas for all ages and walks of life\, including a kids’ zone\, pet zone\, survivor and tribute area\, hands-only CPR training and sponsor booths. For more information\, visit www.nwaheartwalk.org.
URL:https://3wmagazine.com/event/nwa-heart-walk-2019/
CATEGORIES:April,Happenings,Sponsored
ATTACH;FMTTYPE=image/png:https://3wmagazine.com/wp-content/uploads/2019/01/American-Heart-Association-NWA-2019-calendar-logo.png
END:VEVENT
BEGIN:VEVENT
DTSTART;TZID=America/Denver:20190413T140000
DTEND;TZID=America/Denver:20190413T170000
DTSTAMP:20260421T083212
CREATED:20190318T165554Z
LAST-MODIFIED:20190318T165710Z
UID:1008604-1555164000-1555174800@3wmagazine.com
SUMMARY:Ales & Tails Bentonville
DESCRIPTION:Enjoy a crawfish boil\, samples of regional and local brews\, and live music at 8th Street Market. For more information\, please visit www.alesandtails.org.
URL:https://3wmagazine.com/event/ales-tails-bentonville-2019/
LOCATION:8th Street Market\, 801 SE 8th St\, Bentonville\, AR\, United States
CATEGORIES:April,Happenings
ATTACH;FMTTYPE=image/jpeg:https://3wmagazine.com/wp-content/uploads/2019/03/ba45d5f6c4968cfa978508877849bc58.jpeg
END:VEVENT
END:VCALENDAR