BEGIN:VCALENDAR
VERSION:2.0
PRODID:-//3W Magazine - ECPv6.15.20//NONSGML v1.0//EN
CALSCALE:GREGORIAN
METHOD:PUBLISH
X-WR-CALNAME:3W Magazine
X-ORIGINAL-URL:https://3wmagazine.com
X-WR-CALDESC:Events for 3W Magazine
REFRESH-INTERVAL;VALUE=DURATION:PT1H
X-Robots-Tag:noindex
X-PUBLISHED-TTL:PT1H
BEGIN:VTIMEZONE
TZID:America/Denver
BEGIN:DAYLIGHT
TZOFFSETFROM:-0700
TZOFFSETTO:-0600
TZNAME:MDT
DTSTART:20180311T090000
END:DAYLIGHT
BEGIN:STANDARD
TZOFFSETFROM:-0600
TZOFFSETTO:-0700
TZNAME:MST
DTSTART:20181104T080000
END:STANDARD
BEGIN:DAYLIGHT
TZOFFSETFROM:-0700
TZOFFSETTO:-0600
TZNAME:MDT
DTSTART:20190310T090000
END:DAYLIGHT
BEGIN:STANDARD
TZOFFSETFROM:-0600
TZOFFSETTO:-0700
TZNAME:MST
DTSTART:20191103T080000
END:STANDARD
BEGIN:DAYLIGHT
TZOFFSETFROM:-0700
TZOFFSETTO:-0600
TZNAME:MDT
DTSTART:20200308T090000
END:DAYLIGHT
BEGIN:STANDARD
TZOFFSETFROM:-0600
TZOFFSETTO:-0700
TZNAME:MST
DTSTART:20201101T080000
END:STANDARD
END:VTIMEZONE
BEGIN:VEVENT
DTSTART;VALUE=DATE:20190517
DTEND;VALUE=DATE:20190519
DTSTAMP:20260421T170554
CREATED:20190123T173539Z
LAST-MODIFIED:20190124T183137Z
UID:1008119-1558051200-1558223999@3wmagazine.com
SUMMARY:Art of Wine
DESCRIPTION:This festival features hundreds of wines\, food from dozens of area restaurants and live entertainment. All proceeds benefit Walton Arts Center’s community arts education efforts. For more details\, visit www.waltonartscenter.org.
URL:https://3wmagazine.com/event/art-of-wine-2019/
LOCATION:Walton Arts Center\, 495 W. Dickson St.\, Fayetteville\, AR\, 72701\, United States
CATEGORIES:Happenings,May
ATTACH;FMTTYPE=image/png:https://3wmagazine.com/wp-content/uploads/2018/12/Walton-Arts-Center-calendar-logo.png
END:VEVENT
BEGIN:VEVENT
DTSTART;VALUE=DATE:20190518
DTEND;VALUE=DATE:20190519
DTSTAMP:20260421T170554
CREATED:20190123T181946Z
LAST-MODIFIED:20190402T192737Z
UID:1008128-1558137600-1558223999@3wmagazine.com
SUMMARY:Touch-a-Truck
DESCRIPTION:Bring your kids to climb\, explore and discover their favorite things on wheels from 10 a.m. to 2 p.m. at Pinnacle Hills Promenade. For details\, visit www.juniorleaguenwa.org.
URL:https://3wmagazine.com/event/touch-a-truck-2019/
LOCATION:Pinnacle Hills Promenade\, 2203 S. Promenade Blvd.\, Rogers\, AR\, 72758\, United States
CATEGORIES:Family-Friendly,Happenings,Kids,May,Sponsored
ATTACH;FMTTYPE=image/png:https://3wmagazine.com/wp-content/uploads/2019/01/JLNWA-Touch-a-Truck-2019-calendar-logo.png
END:VEVENT
BEGIN:VEVENT
DTSTART;TZID=America/Denver:20190518T120000
DTEND;TZID=America/Denver:20190518T170000
DTSTAMP:20260421T170554
CREATED:20190213T173822Z
LAST-MODIFIED:20190410T181221Z
UID:1008355-1558180800-1558198800@3wmagazine.com
SUMMARY:Washington Elementary Tour of Homes
DESCRIPTION:Washington Elementary Parent Teacher Organization will host its annual Tour of Homes from noon to 5 p.m. May 18. Tickets purchased prior to the event are $20 and are available at Washington Elementary School\, The Gift House\, French Metro and the Downtown Bank of Fayetteville. Tickets can also be purchased the day of the tour for $25 at all of the homes participating in the self-guided tour as well as French Metro Antiques and The Gift House. For more details on the tour or to purchase tickets\, visit https://www.eventbrite.com/e/washington-elementarys-16th-annual-tour-of-homes-tickets-58380524721.
URL:https://3wmagazine.com/event/washington-elementary-tour-of-homes-2019/
CATEGORIES:Happenings,May,Sponsored
ATTACH;FMTTYPE=image/png:https://3wmagazine.com/wp-content/uploads/2019/02/poster-11x17_OL-e1554919655984.png
END:VEVENT
END:VCALENDAR