BEGIN:VCALENDAR
VERSION:2.0
PRODID:-//3W Magazine - ECPv6.15.20//NONSGML v1.0//EN
CALSCALE:GREGORIAN
METHOD:PUBLISH
X-WR-CALNAME:3W Magazine
X-ORIGINAL-URL:https://3wmagazine.com
X-WR-CALDESC:Events for 3W Magazine
REFRESH-INTERVAL;VALUE=DURATION:PT1H
X-Robots-Tag:noindex
X-PUBLISHED-TTL:PT1H
BEGIN:VTIMEZONE
TZID:America/Denver
BEGIN:DAYLIGHT
TZOFFSETFROM:-0700
TZOFFSETTO:-0600
TZNAME:MDT
DTSTART:20180311T090000
END:DAYLIGHT
BEGIN:STANDARD
TZOFFSETFROM:-0600
TZOFFSETTO:-0700
TZNAME:MST
DTSTART:20181104T080000
END:STANDARD
BEGIN:DAYLIGHT
TZOFFSETFROM:-0700
TZOFFSETTO:-0600
TZNAME:MDT
DTSTART:20190310T090000
END:DAYLIGHT
BEGIN:STANDARD
TZOFFSETFROM:-0600
TZOFFSETTO:-0700
TZNAME:MST
DTSTART:20191103T080000
END:STANDARD
BEGIN:DAYLIGHT
TZOFFSETFROM:-0700
TZOFFSETTO:-0600
TZNAME:MDT
DTSTART:20200308T090000
END:DAYLIGHT
BEGIN:STANDARD
TZOFFSETFROM:-0600
TZOFFSETTO:-0700
TZNAME:MST
DTSTART:20201101T080000
END:STANDARD
END:VTIMEZONE
BEGIN:VEVENT
DTSTART;VALUE=DATE:20190528
DTEND;VALUE=DATE:20190603
DTSTAMP:20260421T070901
CREATED:20190123T180055Z
LAST-MODIFIED:20190124T183345Z
UID:1008123-1559001600-1559519999@3wmagazine.com
SUMMARY:Cats
DESCRIPTION:This musical tells the story of one magical night when an extraordinary tribe of cats gathers for its annual ball to rejoice and decide which cat will be reborn. For more details and tickets\, please visit www.waltonartscenter.org.
URL:https://3wmagazine.com/event/cats-2019/
LOCATION:Walton Arts Center\, 495 W. Dickson St.\, Fayetteville\, AR\, 72701\, United States
CATEGORIES:Happenings,June,May
ATTACH;FMTTYPE=image/png:https://3wmagazine.com/wp-content/uploads/2018/12/Walton-Arts-Center-calendar-logo.png
END:VEVENT
BEGIN:VEVENT
DTSTART;VALUE=DATE:20190530
DTEND;VALUE=DATE:20190531
DTSTAMP:20260421T070901
CREATED:20190123T173807Z
LAST-MODIFIED:20190318T160607Z
UID:1008121-1559174400-1559260799@3wmagazine.com
SUMMARY:Big Business Brunches
DESCRIPTION:Part of a series of three brunches\, this second event offers the opportunity to hear an interview with Latriece Watkins during brunch at 21c Museum Hotel. For more details\, visit www.bbbsnwa.org.
URL:https://3wmagazine.com/event/big-business-brunches-2-2019/
LOCATION:21c Museum Hotel\, 200 NE A St.\, Bentonville\, AR\, 72712\, United States
CATEGORIES:Happenings,May,Sponsored
ATTACH;FMTTYPE=image/png:https://3wmagazine.com/wp-content/uploads/2019/01/BBBS-of-NWA-calendar-logo.png
END:VEVENT
END:VCALENDAR