BEGIN:VCALENDAR
VERSION:2.0
PRODID:-//3W Magazine - ECPv6.15.20//NONSGML v1.0//EN
CALSCALE:GREGORIAN
METHOD:PUBLISH
X-WR-CALNAME:3W Magazine
X-ORIGINAL-URL:https://3wmagazine.com
X-WR-CALDESC:Events for 3W Magazine
REFRESH-INTERVAL;VALUE=DURATION:PT1H
X-Robots-Tag:noindex
X-PUBLISHED-TTL:PT1H
BEGIN:VTIMEZONE
TZID:America/Denver
BEGIN:DAYLIGHT
TZOFFSETFROM:-0700
TZOFFSETTO:-0600
TZNAME:MDT
DTSTART:20180311T090000
END:DAYLIGHT
BEGIN:STANDARD
TZOFFSETFROM:-0600
TZOFFSETTO:-0700
TZNAME:MST
DTSTART:20181104T080000
END:STANDARD
BEGIN:DAYLIGHT
TZOFFSETFROM:-0700
TZOFFSETTO:-0600
TZNAME:MDT
DTSTART:20190310T090000
END:DAYLIGHT
BEGIN:STANDARD
TZOFFSETFROM:-0600
TZOFFSETTO:-0700
TZNAME:MST
DTSTART:20191103T080000
END:STANDARD
BEGIN:DAYLIGHT
TZOFFSETFROM:-0700
TZOFFSETTO:-0600
TZNAME:MDT
DTSTART:20200308T090000
END:DAYLIGHT
BEGIN:STANDARD
TZOFFSETFROM:-0600
TZOFFSETTO:-0700
TZNAME:MST
DTSTART:20201101T080000
END:STANDARD
END:VTIMEZONE
BEGIN:VEVENT
DTSTART;VALUE=DATE:20190913
DTEND;VALUE=DATE:20190916
DTSTAMP:20260425T061754
CREATED:20190827T164755Z
LAST-MODIFIED:20190827T164755Z
UID:1009112-1568332800-1568591999@3wmagazine.com
SUMMARY:The Rocky Horror Show
DESCRIPTION:The midnight movie your parents didn’t want you to see comes to glorious life on stage in this hilarious and campy musical\, which inspired the movie. All your friends are here — Frank N. Furter\, Brad\, Janet\, Magenta\, Riff Raff\, Columbia\, Rocky\, Eddie\, Dr. Scott and the Criminologist. Come do the TIME WARP again! For more details\, visit www.arkansaspublictheatre.org.
URL:https://3wmagazine.com/event/the-rocky-horror-show-first-weekend-2019/
LOCATION:The Victory Theater\, 116 S. 2nd St.\, Rogers\, AR\, United States
CATEGORIES:Happenings,September,Sponsored
ATTACH;FMTTYPE=image/jpeg:https://3wmagazine.com/wp-content/uploads/2019/08/c196b8fbc0b844d77e3538adccf26dc9_750x600-e1566924400724.jpg
END:VEVENT
END:VCALENDAR