BEGIN:VCALENDAR
VERSION:2.0
PRODID:-//3W Magazine - ECPv6.15.20//NONSGML v1.0//EN
CALSCALE:GREGORIAN
METHOD:PUBLISH
X-ORIGINAL-URL:https://3wmagazine.com
X-WR-CALDESC:Events for 3W Magazine
REFRESH-INTERVAL;VALUE=DURATION:PT1H
X-Robots-Tag:noindex
X-PUBLISHED-TTL:PT1H
BEGIN:VTIMEZONE
TZID:America/Denver
BEGIN:DAYLIGHT
TZOFFSETFROM:-0700
TZOFFSETTO:-0600
TZNAME:MDT
DTSTART:20180311T090000
END:DAYLIGHT
BEGIN:STANDARD
TZOFFSETFROM:-0600
TZOFFSETTO:-0700
TZNAME:MST
DTSTART:20181104T080000
END:STANDARD
BEGIN:DAYLIGHT
TZOFFSETFROM:-0700
TZOFFSETTO:-0600
TZNAME:MDT
DTSTART:20190310T090000
END:DAYLIGHT
BEGIN:STANDARD
TZOFFSETFROM:-0600
TZOFFSETTO:-0700
TZNAME:MST
DTSTART:20191103T080000
END:STANDARD
BEGIN:DAYLIGHT
TZOFFSETFROM:-0700
TZOFFSETTO:-0600
TZNAME:MDT
DTSTART:20200308T090000
END:DAYLIGHT
BEGIN:STANDARD
TZOFFSETFROM:-0600
TZOFFSETTO:-0700
TZNAME:MST
DTSTART:20201101T080000
END:STANDARD
END:VTIMEZONE
BEGIN:VEVENT
DTSTART;VALUE=DATE:20190916
DTEND;VALUE=DATE:20190922
DTSTAMP:20260425T135304
CREATED:20190130T212628Z
LAST-MODIFIED:20190410T194654Z
UID:1008317-1568592000-1569110399@3wmagazine.com
SUMMARY:NWA Challenge for Hope
DESCRIPTION:NWA Challenge for Hope\, formerly Charity Challenge of Champions\, features a tennis tournament and a golf tournament at Pinnacle Country Club. For more details\, visit www.nwachallengeforhope.com.
URL:https://3wmagazine.com/event/nwa-challenge-for-hope-2019/
LOCATION:Pinnacle Country Club\, 3 S. Clubhouse Dr.\, Rogers\, AR\, 72758\, United States
CATEGORIES:Happenings,September,Sponsored
ATTACH;FMTTYPE=image/jpeg:https://3wmagazine.com/wp-content/uploads/2019/04/image001-8.jpg
END:VEVENT
BEGIN:VEVENT
DTSTART;VALUE=DATE:20190919
DTEND;VALUE=DATE:20190923
DTSTAMP:20260425T135304
CREATED:20190827T165045Z
LAST-MODIFIED:20190827T165045Z
UID:1009115-1568851200-1569196799@3wmagazine.com
SUMMARY:The Rocky Horror Show
DESCRIPTION:The midnight movie your parents didn’t want you to see comes to glorious life on stage in this hilarious and campy musical\, which inspired the movie. All your friends are here — Frank N. Furter\, Brad\, Janet\, Magenta\, Riff Raff\, Columbia\, Rocky\, Eddie\, Dr. Scott and the Criminologist. Come do the TIME WARP again! For more details\, visit www.arkansaspublictheatre.org.
URL:https://3wmagazine.com/event/the-rocky-horror-show-second-weekend-2019/
LOCATION:The Victory Theater\, 116 S. 2nd St.\, Rogers\, AR\, United States
CATEGORIES:Happenings,September,Sponsored
ATTACH;FMTTYPE=image/jpeg:https://3wmagazine.com/wp-content/uploads/2019/08/c196b8fbc0b844d77e3538adccf26dc9_750x600-e1566924400724.jpg
END:VEVENT
BEGIN:VEVENT
DTSTART;VALUE=DATE:20190920
DTEND;VALUE=DATE:20190921
DTSTAMP:20260425T135304
CREATED:20190130T214328Z
LAST-MODIFIED:20190702T165405Z
UID:1008328-1568937600-1569023999@3wmagazine.com
SUMMARY:Harvest Party
DESCRIPTION:Enjoy live entertainment and a farm-to-table meal prepared by local chefs. For more details\, visit www.cobblestonefarms.org.
URL:https://3wmagazine.com/event/harvest-party-2019/
LOCATION:The Berry Farm\, 12726 Huber Road\, Bentonville\, AR\, 72712\, United States
CATEGORIES:Happenings,September,Sponsored
ATTACH;FMTTYPE=image/jpeg:https://3wmagazine.com/wp-content/uploads/2019/01/CobblestoneFarms-Logo-e1562086255263.jpg
END:VEVENT
BEGIN:VEVENT
DTSTART;VALUE=DATE:20190920
DTEND;VALUE=DATE:20190921
DTSTAMP:20260425T135304
CREATED:20190502T175216Z
LAST-MODIFIED:20190502T175216Z
UID:1008724-1568937600-1569023999@3wmagazine.com
SUMMARY:An Evening to Shine
DESCRIPTION:Mix and mingle at this fundraiser\, featuring dinner\, a silent auction and presentation of the JB Hayes Community Needs Award. For more information\, visit www.welcomehealthnwa.org.
URL:https://3wmagazine.com/event/an-evening-to-shine-2019/
LOCATION:Hilton Garden Inn\, 1325 N Palak Dr\, Fayetteville\, AR\, United States
CATEGORIES:Happenings,September,Sponsored
ATTACH;FMTTYPE=image/png:https://3wmagazine.com/wp-content/uploads/2019/03/1551278667230.png
END:VEVENT
END:VCALENDAR