BEGIN:VCALENDAR
VERSION:2.0
PRODID:-//3W Magazine - ECPv6.15.20//NONSGML v1.0//EN
CALSCALE:GREGORIAN
METHOD:PUBLISH
X-ORIGINAL-URL:https://3wmagazine.com
X-WR-CALDESC:Events for 3W Magazine
REFRESH-INTERVAL;VALUE=DURATION:PT1H
X-Robots-Tag:noindex
X-PUBLISHED-TTL:PT1H
BEGIN:VTIMEZONE
TZID:America/Denver
BEGIN:DAYLIGHT
TZOFFSETFROM:-0700
TZOFFSETTO:-0600
TZNAME:MDT
DTSTART:20180311T090000
END:DAYLIGHT
BEGIN:STANDARD
TZOFFSETFROM:-0600
TZOFFSETTO:-0700
TZNAME:MST
DTSTART:20181104T080000
END:STANDARD
BEGIN:DAYLIGHT
TZOFFSETFROM:-0700
TZOFFSETTO:-0600
TZNAME:MDT
DTSTART:20190310T090000
END:DAYLIGHT
BEGIN:STANDARD
TZOFFSETFROM:-0600
TZOFFSETTO:-0700
TZNAME:MST
DTSTART:20191103T080000
END:STANDARD
BEGIN:DAYLIGHT
TZOFFSETFROM:-0700
TZOFFSETTO:-0600
TZNAME:MDT
DTSTART:20200308T090000
END:DAYLIGHT
BEGIN:STANDARD
TZOFFSETFROM:-0600
TZOFFSETTO:-0700
TZNAME:MST
DTSTART:20201101T080000
END:STANDARD
END:VTIMEZONE
BEGIN:VEVENT
DTSTART;VALUE=DATE:20191018
DTEND;VALUE=DATE:20191021
DTSTAMP:20260425T195910
CREATED:20190819T164825Z
LAST-MODIFIED:20190819T164825Z
UID:1009064-1571356800-1571615999@3wmagazine.com
SUMMARY:Crimes of the Heart
DESCRIPTION:At the core of this play are the Magrath sisters – Meg\, Babe\, and Lenny – who reunite at Old Granddaddy’s home in Hazlehurst\, Mississippi\, after Babe shoots her abusive husband. The trio was raised in a dysfunctional family with a penchant for ugly predicaments and each has endured her share of hardship and misery. Past resentments bubble to the surface as they’re forced to deal with assorted relatives and past relationships while coping with the latest incident that has disrupted their lives. Each sister is forced to face the consequences of the “crimes of the heart” she has committed. For more details and tickets\, visit www.acozarks.org.
URL:https://3wmagazine.com/event/crimes-of-the-heart-second-weekend-2019/
LOCATION:Arts Center of the Ozarks\, 214 S. Main St.\, Springdale\, Arkansas\, 72764
CATEGORIES:Happenings,October,Sponsored
ATTACH;FMTTYPE=image/jpeg:https://3wmagazine.com/wp-content/uploads/2019/08/COTH_Choice-05-1.jpg
END:VEVENT
END:VCALENDAR