BEGIN:VCALENDAR
VERSION:2.0
PRODID:-//3W Magazine - ECPv6.15.20//NONSGML v1.0//EN
CALSCALE:GREGORIAN
METHOD:PUBLISH
X-WR-CALNAME:3W Magazine
X-ORIGINAL-URL:https://3wmagazine.com
X-WR-CALDESC:Events for 3W Magazine
REFRESH-INTERVAL;VALUE=DURATION:PT1H
X-Robots-Tag:noindex
X-PUBLISHED-TTL:PT1H
BEGIN:VTIMEZONE
TZID:America/Denver
BEGIN:DAYLIGHT
TZOFFSETFROM:-0700
TZOFFSETTO:-0600
TZNAME:MDT
DTSTART:20180311T090000
END:DAYLIGHT
BEGIN:STANDARD
TZOFFSETFROM:-0600
TZOFFSETTO:-0700
TZNAME:MST
DTSTART:20181104T080000
END:STANDARD
BEGIN:DAYLIGHT
TZOFFSETFROM:-0700
TZOFFSETTO:-0600
TZNAME:MDT
DTSTART:20190310T090000
END:DAYLIGHT
BEGIN:STANDARD
TZOFFSETFROM:-0600
TZOFFSETTO:-0700
TZNAME:MST
DTSTART:20191103T080000
END:STANDARD
BEGIN:DAYLIGHT
TZOFFSETFROM:-0700
TZOFFSETTO:-0600
TZNAME:MDT
DTSTART:20200308T090000
END:DAYLIGHT
BEGIN:STANDARD
TZOFFSETFROM:-0600
TZOFFSETTO:-0700
TZNAME:MST
DTSTART:20201101T080000
END:STANDARD
END:VTIMEZONE
BEGIN:VEVENT
DTSTART;VALUE=DATE:20191116
DTEND;VALUE=DATE:20191117
DTSTAMP:20260424T085735
CREATED:20190410T162539Z
LAST-MODIFIED:20190410T162539Z
UID:1008690-1573862400-1573948799@3wmagazine.com
SUMMARY:Tails of Love Preview Party
DESCRIPTION:Celebrate the publication of the Tails of Love photo book at this preview party. Enjoy live and silent auctions\, food\, wine and more. For more details\, visit www.hsozarks.org.
URL:https://3wmagazine.com/event/tails-of-love-preview-party-2019/
LOCATION:Springdale Country Club\, 608 W. Lakeview Dr.\, Springdale\, AR\, 72764\, United States
CATEGORIES:Happenings,November,Sponsored
ATTACH;FMTTYPE=image/png:https://3wmagazine.com/wp-content/uploads/2019/01/Humane-Society-of-the-Ozarks-calendar-logo.png
END:VEVENT
BEGIN:VEVENT
DTSTART;VALUE=DATE:20191116
DTEND;VALUE=DATE:20191117
DTSTAMP:20260424T085735
CREATED:20190819T185820Z
LAST-MODIFIED:20190819T185820Z
UID:1009087-1573862400-1573948799@3wmagazine.com
SUMMARY:Celebrity Waiter Gala
DESCRIPTION:Join guests as community leaders serve as “celebrity waiters.” This year’s theme is “Divine Renaissance\, a Night at the Pink and Green Cotton Club.” Guests will enjoy a green carpet welcome\, dinner\, entertainment\, and silent and live auctions. Visit www.akapao.com for details.
URL:https://3wmagazine.com/event/celebrity-waiter-gala-2019/
LOCATION:Fayetteville Town Center\, 15 West Mountain\, Fayetteville\, AR\, 72701\, United States
CATEGORIES:Galas,Happenings,November,Sponsored
ATTACH;FMTTYPE=image/jpeg:https://3wmagazine.com/wp-content/uploads/2019/08/68838185_2537383049633772_224830839182065664_o-e1566240926694.jpg
END:VEVENT
END:VCALENDAR