BEGIN:VCALENDAR
VERSION:2.0
PRODID:-//3W Magazine - ECPv6.15.20//NONSGML v1.0//EN
CALSCALE:GREGORIAN
METHOD:PUBLISH
X-WR-CALNAME:3W Magazine
X-ORIGINAL-URL:https://3wmagazine.com
X-WR-CALDESC:Events for 3W Magazine
REFRESH-INTERVAL;VALUE=DURATION:PT1H
X-Robots-Tag:noindex
X-PUBLISHED-TTL:PT1H
BEGIN:VTIMEZONE
TZID:America/Denver
BEGIN:DAYLIGHT
TZOFFSETFROM:-0700
TZOFFSETTO:-0600
TZNAME:MDT
DTSTART:20180311T090000
END:DAYLIGHT
BEGIN:STANDARD
TZOFFSETFROM:-0600
TZOFFSETTO:-0700
TZNAME:MST
DTSTART:20181104T080000
END:STANDARD
BEGIN:DAYLIGHT
TZOFFSETFROM:-0700
TZOFFSETTO:-0600
TZNAME:MDT
DTSTART:20190310T090000
END:DAYLIGHT
BEGIN:STANDARD
TZOFFSETFROM:-0600
TZOFFSETTO:-0700
TZNAME:MST
DTSTART:20191103T080000
END:STANDARD
BEGIN:DAYLIGHT
TZOFFSETFROM:-0700
TZOFFSETTO:-0600
TZNAME:MDT
DTSTART:20200308T090000
END:DAYLIGHT
BEGIN:STANDARD
TZOFFSETFROM:-0600
TZOFFSETTO:-0700
TZNAME:MST
DTSTART:20201101T080000
END:STANDARD
END:VTIMEZONE
BEGIN:VEVENT
DTSTART;TZID=America/Denver:20191121T120000
DTEND;TZID=America/Denver:20191121T130000
DTSTAMP:20260424T004033
CREATED:20190620T160413Z
LAST-MODIFIED:20190620T160618Z
UID:1008826-1574337600-1574341200@3wmagazine.com
SUMMARY:Light of Hope Luncheon
DESCRIPTION:CASA of Northwest Arkansas hosts a luncheon to raise funds\, volunteers and awareness for the advocacy of abused and neglected children in Northwest Arkansas. The luncheon will feature a keynote address from Noel White\, Chief Executive Officer\, Tyson Foods. For more details\, visit www.nwacasa.org.
URL:https://3wmagazine.com/event/light-of-hope-luncheon-2019/
LOCATION:Northwest Arkansas Convention Center\, 1420 S. 48th St.\, Springdale\, AR\, United States
CATEGORIES:Happenings,November,Sponsored
ATTACH;FMTTYPE=image/jpeg:https://3wmagazine.com/wp-content/uploads/2015/08/CASA.jpg
END:VEVENT
END:VCALENDAR