BEGIN:VCALENDAR
VERSION:2.0
PRODID:-//3W Magazine - ECPv6.15.20//NONSGML v1.0//EN
CALSCALE:GREGORIAN
METHOD:PUBLISH
X-ORIGINAL-URL:https://3wmagazine.com
X-WR-CALDESC:Events for 3W Magazine
REFRESH-INTERVAL;VALUE=DURATION:PT1H
X-Robots-Tag:noindex
X-PUBLISHED-TTL:PT1H
BEGIN:VTIMEZONE
TZID:America/Denver
BEGIN:DAYLIGHT
TZOFFSETFROM:-0700
TZOFFSETTO:-0600
TZNAME:MDT
DTSTART:20190310T090000
END:DAYLIGHT
BEGIN:STANDARD
TZOFFSETFROM:-0600
TZOFFSETTO:-0700
TZNAME:MST
DTSTART:20191103T080000
END:STANDARD
BEGIN:DAYLIGHT
TZOFFSETFROM:-0700
TZOFFSETTO:-0600
TZNAME:MDT
DTSTART:20200308T090000
END:DAYLIGHT
BEGIN:STANDARD
TZOFFSETFROM:-0600
TZOFFSETTO:-0700
TZNAME:MST
DTSTART:20201101T080000
END:STANDARD
BEGIN:DAYLIGHT
TZOFFSETFROM:-0700
TZOFFSETTO:-0600
TZNAME:MDT
DTSTART:20210314T090000
END:DAYLIGHT
BEGIN:STANDARD
TZOFFSETFROM:-0600
TZOFFSETTO:-0700
TZNAME:MST
DTSTART:20211107T080000
END:STANDARD
END:VTIMEZONE
BEGIN:VEVENT
DTSTART;VALUE=DATE:20200204
DTEND;VALUE=DATE:20200206
DTSTAMP:20260421T083206
CREATED:20191217T204951Z
LAST-MODIFIED:20191217T213934Z
UID:1009372-1580774400-1580947199@3wmagazine.com
SUMMARY:Give Kids a Miracle Telethon
DESCRIPTION:Thanks to donors like you\, countless brave children and their families have been touched by Arkansas Children’s. To make a donation or learn more\, visit www.archildrens.org/giving.
URL:https://3wmagazine.com/event/give-kids-a-miracle-telethon-2020/
CATEGORIES:February,Happenings
ATTACH;FMTTYPE=image/png:https://3wmagazine.com/wp-content/uploads/2019/12/Arkansas-childrens-logo-2020-for-calendar.png
END:VEVENT
BEGIN:VEVENT
DTSTART;VALUE=DATE:20200204
DTEND;VALUE=DATE:20200210
DTSTAMP:20260421T083206
CREATED:20191216T162029Z
LAST-MODIFIED:20200121T170708Z
UID:1009349-1580774400-1581292799@3wmagazine.com
SUMMARY:The Royale
DESCRIPTION:Told in a boxing ring over six rounds\, “The Royale” is an electrifying adrenaline rush that shows us the human cost of making history. From playwright Marco Ramirez comes a story inspired by the real-world boxer Jack Johnson who — as a black man at the height of the Jim Crow era – became the Heavyweight Champion of the World. For more details\, visit www.theatre2.org.
URL:https://3wmagazine.com/event/the-royale-week-3-2020/
LOCATION:TheatreSquared\, 477 W. Spring St.\, Fayetteville\, AR\, 72701\, United States
CATEGORIES:February,Happenings,Sponsored
ATTACH;FMTTYPE=image/jpeg:https://3wmagazine.com/wp-content/uploads/2020/01/Show-Website-Page-Header-The-Royale-1920x1080-2-e1579626298892.jpg
END:VEVENT
END:VCALENDAR