BEGIN:VCALENDAR
VERSION:2.0
PRODID:-//3W Magazine - ECPv6.15.20//NONSGML v1.0//EN
CALSCALE:GREGORIAN
METHOD:PUBLISH
X-ORIGINAL-URL:https://3wmagazine.com
X-WR-CALDESC:Events for 3W Magazine
REFRESH-INTERVAL;VALUE=DURATION:PT1H
X-Robots-Tag:noindex
X-PUBLISHED-TTL:PT1H
BEGIN:VTIMEZONE
TZID:America/Denver
BEGIN:DAYLIGHT
TZOFFSETFROM:-0700
TZOFFSETTO:-0600
TZNAME:MDT
DTSTART:20190310T090000
END:DAYLIGHT
BEGIN:STANDARD
TZOFFSETFROM:-0600
TZOFFSETTO:-0700
TZNAME:MST
DTSTART:20191103T080000
END:STANDARD
BEGIN:DAYLIGHT
TZOFFSETFROM:-0700
TZOFFSETTO:-0600
TZNAME:MDT
DTSTART:20200308T090000
END:DAYLIGHT
BEGIN:STANDARD
TZOFFSETFROM:-0600
TZOFFSETTO:-0700
TZNAME:MST
DTSTART:20201101T080000
END:STANDARD
BEGIN:DAYLIGHT
TZOFFSETFROM:-0700
TZOFFSETTO:-0600
TZNAME:MDT
DTSTART:20210314T090000
END:DAYLIGHT
BEGIN:STANDARD
TZOFFSETFROM:-0600
TZOFFSETTO:-0700
TZNAME:MST
DTSTART:20211107T080000
END:STANDARD
END:VTIMEZONE
BEGIN:VEVENT
DTSTART;VALUE=DATE:20200211
DTEND;VALUE=DATE:20200217
DTSTAMP:20260421T083223
CREATED:20191216T163103Z
LAST-MODIFIED:20200121T170824Z
UID:1009351-1581379200-1581897599@3wmagazine.com
SUMMARY:The Royale
DESCRIPTION:Told in a boxing ring over six rounds\, “The Royale” is an electrifying adrenaline rush that shows us the human cost of making history. From playwright Marco Ramirez comes a story inspired by the real-world boxer Jack Johnson who — as a black man at the height of the Jim Crow era – became the Heavyweight Champion of the World. For more details\, visit www.theatre2.org.
URL:https://3wmagazine.com/event/the-royale-week-4-2020/
LOCATION:TheatreSquared\, 477 W. Spring St.\, Fayetteville\, AR\, 72701\, United States
CATEGORIES:February,Happenings,Sponsored
ATTACH;FMTTYPE=image/jpeg:https://3wmagazine.com/wp-content/uploads/2020/01/Show-Website-Page-Header-The-Royale-1920x1080-2-e1579626298892.jpg
END:VEVENT
BEGIN:VEVENT
DTSTART;VALUE=DATE:20200211
DTEND;VALUE=DATE:20200217
DTSTAMP:20260421T083223
CREATED:20191218T185936Z
LAST-MODIFIED:20191218T185936Z
UID:1009408-1581379200-1581897599@3wmagazine.com
SUMMARY:Once On This Island
DESCRIPTION:Winner of the 2018 Tony Award for Best Revival of a Musical\, “Once On This Island” is the sweeping\, universal tale of Ti Moune\, a fearless peasant girl in search of her place in the world\, and ready to risk it all for love. Guided by the mighty island gods\, Ti Moune sets out on a remarkable journey to reunite with the man who has captured her heart. For more details and tickets\, please visit www.waltonartscenter.org.
URL:https://3wmagazine.com/event/once-on-this-island-2020/
LOCATION:Walton Arts Center\, 495 W. Dickson St.\, Fayetteville\, AR\, 72701\, United States
CATEGORIES:February,Happenings
ATTACH;FMTTYPE=image/png:https://3wmagazine.com/wp-content/uploads/2018/12/Walton-Arts-Center-calendar-logo.png
END:VEVENT
BEGIN:VEVENT
DTSTART;VALUE=DATE:20200215
DTEND;VALUE=DATE:20200216
DTSTAMP:20260421T083223
CREATED:20191218T185300Z
LAST-MODIFIED:20200210T182403Z
UID:1009404-1581724800-1581811199@3wmagazine.com
SUMMARY:Panther Gala
DESCRIPTION:Enjoy a dinner and auction at the Panther Gala\, formerly known as Fiesta Fundraiser\, at the Fayetteville Town Center. For more information\, visit www.sjfay.com.
URL:https://3wmagazine.com/event/panther-gala-2020/
LOCATION:Fayetteville Town Center\, 15 West Mountain\, Fayetteville\, AR\, 72701\, United States
CATEGORIES:February,Happenings,Sponsored
ATTACH;FMTTYPE=image/jpeg:https://3wmagazine.com/wp-content/uploads/2019/12/81339773_2674731802618754_6308976524515082240_o-e1581359031251.jpg
END:VEVENT
BEGIN:VEVENT
DTSTART;TZID=America/Denver:20200215T200000
DTEND;TZID=America/Denver:20200215T200000
DTSTAMP:20260421T083223
CREATED:20200123T175256Z
LAST-MODIFIED:20200123T175256Z
UID:1009887-1581796800-1581796800@3wmagazine.com
SUMMARY:Newsies
DESCRIPTION:Set in turn-of-the-century New York City\, this musical featuring a Tony Award-winning score is the rousing tale of Jack Kelly\, a charismatic newsboy and leader of a band of teenaged “newsies.” When titans of publishing raise distribution prices at the newboys’ expense\, Jack rallies newsies from across the city to strike against the unfair conditions for what’s right. The production is based on the 1992 film and inspired by a true story. For more details\, visit www.arkansaspublictheatre.org.
URL:https://3wmagazine.com/event/newsies-day-6-2020/
LOCATION:Arkansas Public Theatre\, 116 S. Second St.\, Rogers\, AR\, 72756\, United States
CATEGORIES:February,Happenings,Sponsored
ATTACH;FMTTYPE=image/png:https://3wmagazine.com/wp-content/uploads/2019/12/APT-Newsies-square-2020-calendar-logo-1.png
END:VEVENT
END:VCALENDAR