BEGIN:VCALENDAR
VERSION:2.0
PRODID:-//3W Magazine - ECPv6.15.20//NONSGML v1.0//EN
CALSCALE:GREGORIAN
METHOD:PUBLISH
X-ORIGINAL-URL:https://3wmagazine.com
X-WR-CALDESC:Events for 3W Magazine
REFRESH-INTERVAL;VALUE=DURATION:PT1H
X-Robots-Tag:noindex
X-PUBLISHED-TTL:PT1H
BEGIN:VTIMEZONE
TZID:America/Denver
BEGIN:DAYLIGHT
TZOFFSETFROM:-0700
TZOFFSETTO:-0600
TZNAME:MDT
DTSTART:20190310T090000
END:DAYLIGHT
BEGIN:STANDARD
TZOFFSETFROM:-0600
TZOFFSETTO:-0700
TZNAME:MST
DTSTART:20191103T080000
END:STANDARD
BEGIN:DAYLIGHT
TZOFFSETFROM:-0700
TZOFFSETTO:-0600
TZNAME:MDT
DTSTART:20200308T090000
END:DAYLIGHT
BEGIN:STANDARD
TZOFFSETFROM:-0600
TZOFFSETTO:-0700
TZNAME:MST
DTSTART:20201101T080000
END:STANDARD
BEGIN:DAYLIGHT
TZOFFSETFROM:-0700
TZOFFSETTO:-0600
TZNAME:MDT
DTSTART:20210314T090000
END:DAYLIGHT
BEGIN:STANDARD
TZOFFSETFROM:-0600
TZOFFSETTO:-0700
TZNAME:MST
DTSTART:20211107T080000
END:STANDARD
END:VTIMEZONE
BEGIN:VEVENT
DTSTART;VALUE=DATE:20200225
DTEND;VALUE=DATE:20200302
DTSTAMP:20260422T154608
CREATED:20191218T210833Z
LAST-MODIFIED:20200121T171255Z
UID:1009434-1582588800-1583107199@3wmagazine.com
SUMMARY:Ann
DESCRIPTION:“Ann” is the inspiring and hilarious story of a captivating woman who was even bigger than the state from which she hailed: Ann Richards\, former governor of Texas. This acclaimed\, one-woman tour-de-force brings the charismatic and storied former governor of Texas into TheatreSquared’s most intimate new space. For more details\, visit www.theatre2.org.
URL:https://3wmagazine.com/event/ann-week-2-2020/
LOCATION:TheatreSquared\, 477 W. Spring St.\, Fayetteville\, AR\, 72701\, United States
CATEGORIES:February,Happenings,March,Sponsored
ATTACH;FMTTYPE=image/jpeg:https://3wmagazine.com/wp-content/uploads/2020/01/Show-Website-Page-Header-Ann-1920x1080-2-e1579626666492.jpg
END:VEVENT
BEGIN:VEVENT
DTSTART;TZID=America/Denver:20200226T163000
DTEND;TZID=America/Denver:20200226T183000
DTSTAMP:20260422T154608
CREATED:20200203T195024Z
LAST-MODIFIED:20200203T195024Z
UID:1009927-1582734600-1582741800@3wmagazine.com
SUMMARY:NEW Northwest Arkansas February Connect
DESCRIPTION:Join the NEW Northwest Arkansas first connect of the year (and the decade!)\, sponsored by ConAgra and Beam Suntory. This is the perfect kick-off to bring members and non-members together. Attendees from all industries will network and learn about the value of getting more involved with NEW in 2020. For more information and to register\, visit the event registration page here.
URL:https://3wmagazine.com/event/new-northwest-arkansas-february-connect-2020/
LOCATION:Osage House\, 243 Pace Lane\, Cave Springs\, AR\, United States
CATEGORIES:February,Happenings,Sponsored
ATTACH;FMTTYPE=image/png:https://3wmagazine.com/wp-content/uploads/2020/02/88a5e42dfa1c42c68593d9121d8f8a9c-e1580759276946.png
END:VEVENT
END:VCALENDAR