BEGIN:VCALENDAR
VERSION:2.0
PRODID:-//3W Magazine - ECPv6.15.20//NONSGML v1.0//EN
CALSCALE:GREGORIAN
METHOD:PUBLISH
X-ORIGINAL-URL:https://3wmagazine.com
X-WR-CALDESC:Events for 3W Magazine
REFRESH-INTERVAL;VALUE=DURATION:PT1H
X-Robots-Tag:noindex
X-PUBLISHED-TTL:PT1H
BEGIN:VTIMEZONE
TZID:America/Denver
BEGIN:DAYLIGHT
TZOFFSETFROM:-0700
TZOFFSETTO:-0600
TZNAME:MDT
DTSTART:20190310T090000
END:DAYLIGHT
BEGIN:STANDARD
TZOFFSETFROM:-0600
TZOFFSETTO:-0700
TZNAME:MST
DTSTART:20191103T080000
END:STANDARD
BEGIN:DAYLIGHT
TZOFFSETFROM:-0700
TZOFFSETTO:-0600
TZNAME:MDT
DTSTART:20200308T090000
END:DAYLIGHT
BEGIN:STANDARD
TZOFFSETFROM:-0600
TZOFFSETTO:-0700
TZNAME:MST
DTSTART:20201101T080000
END:STANDARD
BEGIN:DAYLIGHT
TZOFFSETFROM:-0700
TZOFFSETTO:-0600
TZNAME:MDT
DTSTART:20210314T090000
END:DAYLIGHT
BEGIN:STANDARD
TZOFFSETFROM:-0600
TZOFFSETTO:-0700
TZNAME:MST
DTSTART:20211107T080000
END:STANDARD
END:VTIMEZONE
BEGIN:VEVENT
DTSTART;VALUE=DATE:20200303
DTEND;VALUE=DATE:20200309
DTSTAMP:20260421T160531
CREATED:20191218T211058Z
LAST-MODIFIED:20200121T171448Z
UID:1009436-1583193600-1583711999@3wmagazine.com
SUMMARY:Ann
DESCRIPTION:“Ann” is the inspiring and hilarious story of a captivating woman who was even bigger than the state from which she hailed: Ann Richards\, former governor of Texas. This acclaimed\, one-woman tour-de-force brings the charismatic and storied former governor of Texas into TheatreSquared’s most intimate new space. For more details\, visit www.theatre2.org.
URL:https://3wmagazine.com/event/ann-week-3-2020/
LOCATION:TheatreSquared\, 477 W. Spring St.\, Fayetteville\, AR\, 72701\, United States
CATEGORIES:Happenings,March,Sponsored
ATTACH;FMTTYPE=image/jpeg:https://3wmagazine.com/wp-content/uploads/2020/01/Show-Website-Page-Header-Ann-1920x1080-2-e1579626666492.jpg
END:VEVENT
BEGIN:VEVENT
DTSTART;VALUE=DATE:20200307
DTEND;VALUE=DATE:20200308
DTSTAMP:20260421T160531
CREATED:20200106T161800Z
LAST-MODIFIED:20200106T161800Z
UID:1009453-1583539200-1583625599@3wmagazine.com
SUMMARY:Starlight Gala
DESCRIPTION:Enjoy a night of elegance and entertainment at the Starlight Gala at the John Q. Hammons Center. Proceeds from the gala will enhance the lives of abused and neglected children. For more details\, visit www.nwacs.org.
URL:https://3wmagazine.com/event/starlight-gala-2020/
LOCATION:John Q. Hammons Center\, 3303 S. Pinnacle Hills Pkwy.\, Rogers\, AR\, 72758\, United States
CATEGORIES:Happenings,March,Sponsored
ATTACH;FMTTYPE=image/png:https://3wmagazine.com/wp-content/uploads/2020/01/NWACS-Starlight-Gala-2020-calendar-logo.png
END:VEVENT
BEGIN:VEVENT
DTSTART;VALUE=DATE:20200307
DTEND;VALUE=DATE:20200308
DTSTAMP:20260421T160531
CREATED:20200106T162407Z
LAST-MODIFIED:20200106T162407Z
UID:1009458-1583539200-1583625599@3wmagazine.com
SUMMARY:“Murder Mystery … Who Dunnit?” Fundraiser
DESCRIPTION:Enjoy an Irish “whale of a time” at the annual “Murder Mystery … Who Dunnit?” Fundraiser at El Pueblito in Rogers\, presented by Healing Hands of Mercy Massage Foundation & Tableside Theater. All proceeds help support HHMMF. For more details\, visit www.hhmmf.org.
URL:https://3wmagazine.com/event/murder-mystery-who-dunnit-fundraiser-2020/
CATEGORIES:Happenings,March
END:VEVENT
BEGIN:VEVENT
DTSTART;TZID=America/Denver:20200307T180000
DTEND;TZID=America/Denver:20200307T180000
DTSTAMP:20260421T160531
CREATED:20200106T162128Z
LAST-MODIFIED:20200220T195245Z
UID:1009456-1583604000-1583604000@3wmagazine.com
SUMMARY:Spring Party
DESCRIPTION:Bid on amazing live and silent auction items\, enjoy delicious food and dance the night away at this all-school event. Visit www.thenewschool.org/springparty for details.
URL:https://3wmagazine.com/event/spring-party-2020/
LOCATION:Graduate Fayetteville\, 70 N. East Ave.\, Fayetteville\, AR\, 72701\, United States
CATEGORIES:Happenings,March,Sponsored
ATTACH;FMTTYPE=image/jpeg:https://3wmagazine.com/wp-content/uploads/2020/01/84857011_10158006554323044_1533714997287321600_o-e1582228169161.jpg
END:VEVENT
END:VCALENDAR