BEGIN:VCALENDAR
VERSION:2.0
PRODID:-//3W Magazine - ECPv6.15.20//NONSGML v1.0//EN
CALSCALE:GREGORIAN
METHOD:PUBLISH
X-WR-CALNAME:3W Magazine
X-ORIGINAL-URL:https://3wmagazine.com
X-WR-CALDESC:Events for 3W Magazine
REFRESH-INTERVAL;VALUE=DURATION:PT1H
X-Robots-Tag:noindex
X-PUBLISHED-TTL:PT1H
BEGIN:VTIMEZONE
TZID:America/Denver
BEGIN:DAYLIGHT
TZOFFSETFROM:-0700
TZOFFSETTO:-0600
TZNAME:MDT
DTSTART:20200308T090000
END:DAYLIGHT
BEGIN:STANDARD
TZOFFSETFROM:-0600
TZOFFSETTO:-0700
TZNAME:MST
DTSTART:20201101T080000
END:STANDARD
BEGIN:DAYLIGHT
TZOFFSETFROM:-0700
TZOFFSETTO:-0600
TZNAME:MDT
DTSTART:20210314T090000
END:DAYLIGHT
BEGIN:STANDARD
TZOFFSETFROM:-0600
TZOFFSETTO:-0700
TZNAME:MST
DTSTART:20211107T080000
END:STANDARD
BEGIN:DAYLIGHT
TZOFFSETFROM:-0700
TZOFFSETTO:-0600
TZNAME:MDT
DTSTART:20220313T090000
END:DAYLIGHT
BEGIN:STANDARD
TZOFFSETFROM:-0600
TZOFFSETTO:-0700
TZNAME:MST
DTSTART:20221106T080000
END:STANDARD
END:VTIMEZONE
BEGIN:VEVENT
DTSTART;VALUE=DATE:20210412
DTEND;VALUE=DATE:20210418
DTSTAMP:20260424T002936
CREATED:20210311T173439Z
LAST-MODIFIED:20210401T040603Z
UID:1011934-1618185600-1618703999@3wmagazine.com
SUMMARY:Panther "Un" Gala
DESCRIPTION:St. Joseph Catholic School’s Panther “Un” Gala is a completely virtual event starting on Monday\, April 12\, and ending on Saturday\, April 17! The virtual event will have two primary parts: First\, a week-long fundraising campaign with exciting classroom competitions\, and second\, a silent auction. This event provides much-needed resources for the success of St. Joseph Catholic School and is one of the three essential sources of funding for the school other than tuition. Event sponsors will provide the most important source of funding for this year’s Panther “Un” Gala. There are four levels of sponsorship: Gold\, Silver\, Bronze\, and Booster. The Virtual Silent Auction and sponsorship opportunities may be viewed and purchased on https://one.bidpal.net/panthergala.
URL:https://3wmagazine.com/event/panther-un-gala-2021/
CATEGORIES:April,Sponsored
ATTACH;FMTTYPE=image/jpeg:https://3wmagazine.com/wp-content/uploads/2021/03/Panther-UnGala-2021-e1615484138276.jpg
END:VEVENT
BEGIN:VEVENT
DTSTART;VALUE=DATE:20210416
DTEND;VALUE=DATE:20210417
DTSTAMP:20260424T002936
CREATED:20210125T044802Z
LAST-MODIFIED:20210401T041327Z
UID:1011391-1618531200-1618617599@3wmagazine.com
SUMMARY:Youth of the Year
DESCRIPTION:Youth of the Year will be a virtual event celebration of Boys & Girls Club of Benton County’s outstanding youth. The event will be April 16 on Facebook Live and feature a silent auction as well as speeches from local community members and the 2021 Youth of the Year\, Omar C. For details\, visit www.bgcbentoncounty.org.
URL:https://3wmagazine.com/event/youth-of-the-year-2021/
CATEGORIES:April,Sponsored
ATTACH;FMTTYPE=image/jpeg:https://3wmagazine.com/wp-content/uploads/2021/01/thumbnail_image002-1-e1617250350254.jpg
END:VEVENT
BEGIN:VEVENT
DTSTART;VALUE=DATE:20210416
DTEND;VALUE=DATE:20210419
DTSTAMP:20260424T002936
CREATED:20210125T045026Z
LAST-MODIFIED:20210126T200519Z
UID:1011394-1618531200-1618790399@3wmagazine.com
SUMMARY:The Waverly Gallery
DESCRIPTION:Gladys\, the elderly matriarch of the Green family\, has run an art gallery in a small Greenwich Village hotel for many years. The management wants to replace her less-than-thriving gallery with a coffee shop. Always irascible but now increasingly erratic\, Gladys is a cause of concern to her daughter\, her son-in-law\, and her grandson\, from whose point of view this poignant memory play is told. A wacky and heartrending look at the effect of senility on a family. For tickets and more details\, visit www.arkansaspublictheatre.org.
URL:https://3wmagazine.com/event/waverly-gallery-weekend-1-2021/
CATEGORIES:April
ATTACH;FMTTYPE=image/jpeg:https://3wmagazine.com/wp-content/uploads/2021/01/Waverly3-0-1-e1611691500772.jpeg
END:VEVENT
END:VCALENDAR