BEGIN:VCALENDAR
VERSION:2.0
PRODID:-//3W Magazine - ECPv6.15.20//NONSGML v1.0//EN
CALSCALE:GREGORIAN
METHOD:PUBLISH
X-WR-CALNAME:3W Magazine
X-ORIGINAL-URL:https://3wmagazine.com
X-WR-CALDESC:Events for 3W Magazine
REFRESH-INTERVAL;VALUE=DURATION:PT1H
X-Robots-Tag:noindex
X-PUBLISHED-TTL:PT1H
BEGIN:VTIMEZONE
TZID:America/Denver
BEGIN:DAYLIGHT
TZOFFSETFROM:-0700
TZOFFSETTO:-0600
TZNAME:MDT
DTSTART:20200308T090000
END:DAYLIGHT
BEGIN:STANDARD
TZOFFSETFROM:-0600
TZOFFSETTO:-0700
TZNAME:MST
DTSTART:20201101T080000
END:STANDARD
BEGIN:DAYLIGHT
TZOFFSETFROM:-0700
TZOFFSETTO:-0600
TZNAME:MDT
DTSTART:20210314T090000
END:DAYLIGHT
BEGIN:STANDARD
TZOFFSETFROM:-0600
TZOFFSETTO:-0700
TZNAME:MST
DTSTART:20211107T080000
END:STANDARD
BEGIN:DAYLIGHT
TZOFFSETFROM:-0700
TZOFFSETTO:-0600
TZNAME:MDT
DTSTART:20220313T090000
END:DAYLIGHT
BEGIN:STANDARD
TZOFFSETFROM:-0600
TZOFFSETTO:-0700
TZNAME:MST
DTSTART:20221106T080000
END:STANDARD
END:VTIMEZONE
BEGIN:VEVENT
DTSTART;VALUE=DATE:20210428
DTEND;VALUE=DATE:20210614
DTSTAMP:20260425T163314
CREATED:20210125T054001Z
LAST-MODIFIED:20210125T054020Z
UID:1011426-1619568000-1623628799@3wmagazine.com
SUMMARY:At the Wedding
DESCRIPTION:A darkly hilarious new comedy\, soon to debut at Lincoln Center and originally developed at TheatreSquared. Carlo is going to be really well behaved today. She’s not going to get drunk. She’s not going to give any long-winded speeches. And she’s definitely not going to try to steal the bride back. For more details\, visit www.theatre2.org.
URL:https://3wmagazine.com/event/at-the-wedding-2021/
CATEGORIES:April,June,May
END:VEVENT
BEGIN:VEVENT
DTSTART;VALUE=DATE:20210507
DTEND;VALUE=DATE:20210509
DTSTAMP:20260425T163314
CREATED:20210126T180307Z
LAST-MODIFIED:20210126T201102Z
UID:1011454-1620345600-1620518399@3wmagazine.com
SUMMARY:Hillary and Clinton
DESCRIPTION:In an alternate universe light-years away from our own is a planet called Earth. It looks a lot like our Earth\, except it’s slightly different. And living on this other Earth is a woman named Hillary. Hillary is trying to become the president of a country called the United States of America. It’s 2008 and she’s campaigning in a state called New Hampshire. She’s not doing very well in the polls. She needs more money to keep the campaign going\, so she calls her husband for help. He offers her a deal\, a tough deal\, but when she gets his help\, she gets more than she bargained for. You may think you know where this story is going\, but you don’t. After all\, the play takes place in an alternate universe where anything can happen. For tickets and more details\, visit www.arkansaspublictheatre.org.
URL:https://3wmagazine.com/event/hillary-and-clinton-weekend-1-2021/
CATEGORIES:May
ATTACH;FMTTYPE=image/jpeg:https://3wmagazine.com/wp-content/uploads/2021/01/HillaryClinton3-0-1-e1611691834701.jpeg
END:VEVENT
END:VCALENDAR