BEGIN:VCALENDAR
VERSION:2.0
PRODID:-//3W Magazine - ECPv6.15.20//NONSGML v1.0//EN
CALSCALE:GREGORIAN
METHOD:PUBLISH
X-WR-CALNAME:3W Magazine
X-ORIGINAL-URL:https://3wmagazine.com
X-WR-CALDESC:Events for 3W Magazine
REFRESH-INTERVAL;VALUE=DURATION:PT1H
X-Robots-Tag:noindex
X-PUBLISHED-TTL:PT1H
BEGIN:VTIMEZONE
TZID:America/Denver
BEGIN:DAYLIGHT
TZOFFSETFROM:-0700
TZOFFSETTO:-0600
TZNAME:MDT
DTSTART:20220313T090000
END:DAYLIGHT
BEGIN:STANDARD
TZOFFSETFROM:-0600
TZOFFSETTO:-0700
TZNAME:MST
DTSTART:20221106T080000
END:STANDARD
BEGIN:DAYLIGHT
TZOFFSETFROM:-0700
TZOFFSETTO:-0600
TZNAME:MDT
DTSTART:20230312T090000
END:DAYLIGHT
BEGIN:STANDARD
TZOFFSETFROM:-0600
TZOFFSETTO:-0700
TZNAME:MST
DTSTART:20231105T080000
END:STANDARD
BEGIN:DAYLIGHT
TZOFFSETFROM:-0700
TZOFFSETTO:-0600
TZNAME:MDT
DTSTART:20240310T090000
END:DAYLIGHT
BEGIN:STANDARD
TZOFFSETFROM:-0600
TZOFFSETTO:-0700
TZNAME:MST
DTSTART:20241103T080000
END:STANDARD
END:VTIMEZONE
BEGIN:VEVENT
DTSTART;VALUE=DATE:20231107
DTEND;VALUE=DATE:20231108
DTSTAMP:20260424T031926
CREATED:20231025T185732Z
LAST-MODIFIED:20231025T185748Z
UID:1017577-1699315200-1699401599@3wmagazine.com
SUMMARY:Cancer Challenge Telethon
DESCRIPTION:
URL:https://3wmagazine.com/event/cancer-challenge-telethon-2023/
CATEGORIES:November,Sponsored
ATTACH;FMTTYPE=image/png:https://3wmagazine.com/wp-content/uploads/2023/10/telethon-add.png
END:VEVENT
BEGIN:VEVENT
DTSTART;VALUE=DATE:20231107
DTEND;VALUE=DATE:20231108
DTSTAMP:20260424T031926
CREATED:20231025T190445Z
LAST-MODIFIED:20231025T190531Z
UID:1017581-1699315200-1699401599@3wmagazine.com
SUMMARY:Light of Hope Breakfast
DESCRIPTION:The Light of Hope Breakfast is Nov. 7\, 2023\, from 7:30-8:30 a.m. at Rogers Convention Center. The breakfast features Keynote Speaker Greg Cathey\, Senior Vice President\, Transformation and Support\, Walmart US. For more details\, visit https://www.nwacasa.org/events/light-of-hope-2023/.
URL:https://3wmagazine.com/event/light-of-hope-breakfast-2023/
LOCATION:Rogers Convention Center
CATEGORIES:November,Sponsored
ATTACH;FMTTYPE=image/jpeg:https://3wmagazine.com/wp-content/uploads/2023/10/375838257_822760213188535_4088289194424641923_n.jpg
END:VEVENT
END:VCALENDAR