BEGIN:VCALENDAR
VERSION:2.0
PRODID:-//3W Magazine - ECPv6.15.20//NONSGML v1.0//EN
CALSCALE:GREGORIAN
METHOD:PUBLISH
X-WR-CALNAME:3W Magazine
X-ORIGINAL-URL:https://3wmagazine.com
X-WR-CALDESC:Events for 3W Magazine
REFRESH-INTERVAL;VALUE=DURATION:PT1H
X-Robots-Tag:noindex
X-PUBLISHED-TTL:PT1H
BEGIN:VTIMEZONE
TZID:America/Denver
BEGIN:DAYLIGHT
TZOFFSETFROM:-0700
TZOFFSETTO:-0600
TZNAME:MDT
DTSTART:20220313T090000
END:DAYLIGHT
BEGIN:STANDARD
TZOFFSETFROM:-0600
TZOFFSETTO:-0700
TZNAME:MST
DTSTART:20221106T080000
END:STANDARD
BEGIN:DAYLIGHT
TZOFFSETFROM:-0700
TZOFFSETTO:-0600
TZNAME:MDT
DTSTART:20230312T090000
END:DAYLIGHT
BEGIN:STANDARD
TZOFFSETFROM:-0600
TZOFFSETTO:-0700
TZNAME:MST
DTSTART:20231105T080000
END:STANDARD
BEGIN:DAYLIGHT
TZOFFSETFROM:-0700
TZOFFSETTO:-0600
TZNAME:MDT
DTSTART:20240310T090000
END:DAYLIGHT
BEGIN:STANDARD
TZOFFSETFROM:-0600
TZOFFSETTO:-0700
TZNAME:MST
DTSTART:20241103T080000
END:STANDARD
END:VTIMEZONE
BEGIN:VEVENT
DTSTART;VALUE=DATE:20231112
DTEND;VALUE=DATE:20231113
DTSTAMP:20260421T151538
CREATED:20231031T193244Z
LAST-MODIFIED:20231031T193317Z
UID:1017640-1699747200-1699833599@3wmagazine.com
SUMMARY:One Walk
DESCRIPTION:The JDRF One Walk is 2 p.m. Nov. 12 at the J.B. Hunt campus in Lowell. The JDRF One Walk is your chance to show the world that together\, we can conquer type 1 diabetes (T1D). If you’re living with T1D or you love someone living with T1D\, you’ll likely do just about anything to make life easier. \nWhen you participate in JDRF One Walk\, the money you raise will power more research\, enable more advocacy and fund more support for the 1.45 million Americans living with T1D. And\, you’ll have a great time doing it! That’s because you’ll walk with a committed community that is passionate about doing whatever it takes to live in a world without T1D. \nLearn more at https://www2.jdrf.org/site/TR?fr_id=9275&pg=entry.
URL:https://3wmagazine.com/event/one-walk-2023/
CATEGORIES:November,Sponsored
ATTACH;FMTTYPE=image/jpeg:https://3wmagazine.com/wp-content/uploads/2023/10/371909340_686416550188111_9215157286114400765_n.jpg
END:VEVENT
END:VCALENDAR