BEGIN:VCALENDAR
VERSION:2.0
PRODID:-//3W Magazine - ECPv6.15.20//NONSGML v1.0//EN
CALSCALE:GREGORIAN
METHOD:PUBLISH
X-WR-CALNAME:3W Magazine
X-ORIGINAL-URL:https://3wmagazine.com
X-WR-CALDESC:Events for 3W Magazine
REFRESH-INTERVAL;VALUE=DURATION:PT1H
X-Robots-Tag:noindex
X-PUBLISHED-TTL:PT1H
BEGIN:VTIMEZONE
TZID:America/Denver
BEGIN:DAYLIGHT
TZOFFSETFROM:-0700
TZOFFSETTO:-0600
TZNAME:MDT
DTSTART:20220313T090000
END:DAYLIGHT
BEGIN:STANDARD
TZOFFSETFROM:-0600
TZOFFSETTO:-0700
TZNAME:MST
DTSTART:20221106T080000
END:STANDARD
BEGIN:DAYLIGHT
TZOFFSETFROM:-0700
TZOFFSETTO:-0600
TZNAME:MDT
DTSTART:20230312T090000
END:DAYLIGHT
BEGIN:STANDARD
TZOFFSETFROM:-0600
TZOFFSETTO:-0700
TZNAME:MST
DTSTART:20231105T080000
END:STANDARD
BEGIN:DAYLIGHT
TZOFFSETFROM:-0700
TZOFFSETTO:-0600
TZNAME:MDT
DTSTART:20240310T090000
END:DAYLIGHT
BEGIN:STANDARD
TZOFFSETFROM:-0600
TZOFFSETTO:-0700
TZNAME:MST
DTSTART:20241103T080000
END:STANDARD
END:VTIMEZONE
BEGIN:VEVENT
DTSTART;VALUE=DATE:20231117
DTEND;VALUE=DATE:20231119
DTSTAMP:20260421T151538
CREATED:20230111T033732Z
LAST-MODIFIED:20231031T193746Z
UID:1015811-1700179200-1700351999@3wmagazine.com
SUMMARY:NWA Boutique Show
DESCRIPTION:NWA Boutique Show is Nov. 17 and 18 at Rogers Convention Center. Experience Northwest Arkansas’ most popular boutique shopping event\, with thousands of unique gifts from over 175 select merchants… all under one roof! For more details\, visit https://www.nwaboutiqueshow.com/.
URL:https://3wmagazine.com/event/nwa-boutique-show-2023/
LOCATION:Rogers Convention Center
CATEGORIES:November,Sponsored
ATTACH;FMTTYPE=image/png:https://3wmagazine.com/wp-content/uploads/2023/10/395296289_728639312641362_4626211381768831327_n.png
END:VEVENT
BEGIN:VEVENT
DTSTART;VALUE=DATE:20231118
DTEND;VALUE=DATE:20231119
DTSTAMP:20260421T151538
CREATED:20231031T194848Z
LAST-MODIFIED:20231031T194937Z
UID:1017651-1700265600-1700351999@3wmagazine.com
SUMMARY:Celebratory 5K
DESCRIPTION:Girls on the Run NWA’s Celebratory 5K will be Nov. 18 on the Bentonville Square. Each season comes to an end with a celebratory 5K. This closing event gives program participants of all abilities a tangible sense of accomplishment. Crossing the finish line instills confidence through completion and is a joyful moment program participants always remember! Everyone in our program receives a commemorative medal to celebrate this incredible achievement. For more details\, visit https://www.gotrnwa.org/5k.
URL:https://3wmagazine.com/event/celebratory-5k-2023/
LOCATION:Downtown Bentonville Square\, Bentonville\, AR\, United States
CATEGORIES:November,Sponsored
ATTACH;FMTTYPE=image/jpeg:https://3wmagazine.com/wp-content/uploads/2023/10/394337825_728375365996391_7806422420634576204_n.jpg
END:VEVENT
BEGIN:VEVENT
DTSTART;VALUE=DATE:20231118
DTEND;VALUE=DATE:20231119
DTSTAMP:20260421T151538
CREATED:20231031T195637Z
LAST-MODIFIED:20231031T195717Z
UID:1017655-1700265600-1700351999@3wmagazine.com
SUMMARY:SLS Dash 5K for Neurodiversity
DESCRIPTION:The SLS Dash 5K for Neurodiversity will be Nov. 18 at Kessler Mountain Regional Park in Fayetteville. The event includes a 5K and fun run. For more details\, visit https://slscommunity.org/.
URL:https://3wmagazine.com/event/sls-dash-5k-for-neurodiversity-2023/
LOCATION:Kessler Mountain Regional Park\, Fayetteville\, Arkansas\, United States
CATEGORIES:November,Sponsored
ATTACH;FMTTYPE=image/jpeg:https://3wmagazine.com/wp-content/uploads/2023/10/image002-1-scaled.jpg
END:VEVENT
END:VCALENDAR