BEGIN:VCALENDAR
VERSION:2.0
PRODID:-//3W Magazine - ECPv6.15.20//NONSGML v1.0//EN
CALSCALE:GREGORIAN
METHOD:PUBLISH
X-WR-CALNAME:3W Magazine
X-ORIGINAL-URL:https://3wmagazine.com
X-WR-CALDESC:Events for 3W Magazine
REFRESH-INTERVAL;VALUE=DURATION:PT1H
X-Robots-Tag:noindex
X-PUBLISHED-TTL:PT1H
BEGIN:VTIMEZONE
TZID:America/Denver
BEGIN:DAYLIGHT
TZOFFSETFROM:-0700
TZOFFSETTO:-0600
TZNAME:MDT
DTSTART:20220313T090000
END:DAYLIGHT
BEGIN:STANDARD
TZOFFSETFROM:-0600
TZOFFSETTO:-0700
TZNAME:MST
DTSTART:20221106T080000
END:STANDARD
BEGIN:DAYLIGHT
TZOFFSETFROM:-0700
TZOFFSETTO:-0600
TZNAME:MDT
DTSTART:20230312T090000
END:DAYLIGHT
BEGIN:STANDARD
TZOFFSETFROM:-0600
TZOFFSETTO:-0700
TZNAME:MST
DTSTART:20231105T080000
END:STANDARD
BEGIN:DAYLIGHT
TZOFFSETFROM:-0700
TZOFFSETTO:-0600
TZNAME:MDT
DTSTART:20240310T090000
END:DAYLIGHT
BEGIN:STANDARD
TZOFFSETFROM:-0600
TZOFFSETTO:-0700
TZNAME:MST
DTSTART:20241103T080000
END:STANDARD
END:VTIMEZONE
BEGIN:VEVENT
DTSTART;VALUE=DATE:20231129
DTEND;VALUE=DATE:20231225
DTSTAMP:20260421T000545
CREATED:20231101T032652Z
LAST-MODIFIED:20231101T032736Z
UID:1017665-1701216000-1703462399@3wmagazine.com
SUMMARY:"A Christmas Carol"
DESCRIPTION:“A Christmas Carol” will be performed at TheatreSquared from Nov. 29 to Dec. 24. It is adapted by Amy Herzberg & Robert Ford from the novel by Charles Dickens. The inventive\, magic-filled T2 original — a new Northwest Arkansas family tradition. Three spirits come to visit the miserly Ebenezer Scrooge and take him on a fantastic journey through past\, present\, and future. But will it be enough to save him? For all ages. For more details\, visit https://www.theatre2.org/christmas-carol.
URL:https://3wmagazine.com/event/a-christmas-carol-2023/
LOCATION:TheatreSquared\, 477 W. Spring St.\, Fayetteville\, AR\, 72701\, United States
CATEGORIES:December,November,Sponsored
ATTACH;FMTTYPE=image/png:https://3wmagazine.com/wp-content/uploads/2023/10/351476731_806658243959751_2042112823604008766_n.png
END:VEVENT
END:VCALENDAR