BEGIN:VCALENDAR
VERSION:2.0
PRODID:-//3W Magazine - ECPv6.15.20//NONSGML v1.0//EN
CALSCALE:GREGORIAN
METHOD:PUBLISH
X-ORIGINAL-URL:https://3wmagazine.com
X-WR-CALDESC:Events for 3W Magazine
REFRESH-INTERVAL;VALUE=DURATION:PT1H
X-Robots-Tag:noindex
X-PUBLISHED-TTL:PT1H
BEGIN:VTIMEZONE
TZID:America/Denver
BEGIN:DAYLIGHT
TZOFFSETFROM:-0700
TZOFFSETTO:-0600
TZNAME:MDT
DTSTART:20230312T090000
END:DAYLIGHT
BEGIN:STANDARD
TZOFFSETFROM:-0600
TZOFFSETTO:-0700
TZNAME:MST
DTSTART:20231105T080000
END:STANDARD
BEGIN:DAYLIGHT
TZOFFSETFROM:-0700
TZOFFSETTO:-0600
TZNAME:MDT
DTSTART:20240310T090000
END:DAYLIGHT
BEGIN:STANDARD
TZOFFSETFROM:-0600
TZOFFSETTO:-0700
TZNAME:MST
DTSTART:20241103T080000
END:STANDARD
BEGIN:DAYLIGHT
TZOFFSETFROM:-0700
TZOFFSETTO:-0600
TZNAME:MDT
DTSTART:20250309T090000
END:DAYLIGHT
BEGIN:STANDARD
TZOFFSETFROM:-0600
TZOFFSETTO:-0700
TZNAME:MST
DTSTART:20251102T080000
END:STANDARD
END:VTIMEZONE
BEGIN:VEVENT
DTSTART;VALUE=DATE:20240124
DTEND;VALUE=DATE:20240304
DTSTAMP:20260421T000629
CREATED:20240108T054917Z
LAST-MODIFIED:20240128T043022Z
UID:1017985-1706054400-1709510399@3wmagazine.com
SUMMARY:“What the Constitution Means to Me”
DESCRIPTION:
URL:https://3wmagazine.com/event/what-the-constitution-means-to-me-2024/
CATEGORIES:February,January,March
ATTACH;FMTTYPE=image/jpeg:https://3wmagazine.com/wp-content/uploads/2024/01/414706200_18403774234039336_5701947459300230752_n.jpg
END:VEVENT
BEGIN:VEVENT
DTSTART;VALUE=DATE:20240207
DTEND;VALUE=DATE:20240208
DTSTAMP:20260421T000629
CREATED:20240123T185326Z
LAST-MODIFIED:20240128T043154Z
UID:1018733-1707264000-1707350399@3wmagazine.com
SUMMARY:Power of Inclusion
DESCRIPTION:
URL:https://3wmagazine.com/event/power-of-inclusion-2024/
CATEGORIES:February,Sponsored
ATTACH;FMTTYPE=image/png:https://3wmagazine.com/wp-content/uploads/2024/01/418825865_684684320499684_7621178244578491780_n.png
END:VEVENT
END:VCALENDAR