BEGIN:VCALENDAR
VERSION:2.0
PRODID:-//3W Magazine - ECPv6.15.20//NONSGML v1.0//EN
CALSCALE:GREGORIAN
METHOD:PUBLISH
X-WR-CALNAME:3W Magazine
X-ORIGINAL-URL:https://3wmagazine.com
X-WR-CALDESC:Events for 3W Magazine
REFRESH-INTERVAL;VALUE=DURATION:PT1H
X-Robots-Tag:noindex
X-PUBLISHED-TTL:PT1H
BEGIN:VTIMEZONE
TZID:America/Denver
BEGIN:DAYLIGHT
TZOFFSETFROM:-0700
TZOFFSETTO:-0600
TZNAME:MDT
DTSTART:20230312T090000
END:DAYLIGHT
BEGIN:STANDARD
TZOFFSETFROM:-0600
TZOFFSETTO:-0700
TZNAME:MST
DTSTART:20231105T080000
END:STANDARD
BEGIN:DAYLIGHT
TZOFFSETFROM:-0700
TZOFFSETTO:-0600
TZNAME:MDT
DTSTART:20240310T090000
END:DAYLIGHT
BEGIN:STANDARD
TZOFFSETFROM:-0600
TZOFFSETTO:-0700
TZNAME:MST
DTSTART:20241103T080000
END:STANDARD
BEGIN:DAYLIGHT
TZOFFSETFROM:-0700
TZOFFSETTO:-0600
TZNAME:MDT
DTSTART:20250309T090000
END:DAYLIGHT
BEGIN:STANDARD
TZOFFSETFROM:-0600
TZOFFSETTO:-0700
TZNAME:MST
DTSTART:20251102T080000
END:STANDARD
END:VTIMEZONE
BEGIN:VEVENT
DTSTART;VALUE=DATE:20240228
DTEND;VALUE=DATE:20240325
DTSTAMP:20260421T051850
CREATED:20240108T062012Z
LAST-MODIFIED:20240128T044143Z
UID:1018030-1709078400-1711324799@3wmagazine.com
SUMMARY:“Cambodian Rock Band”
DESCRIPTION:
URL:https://3wmagazine.com/event/cambodian-rock-band-2024/
CATEGORIES:February,March
ATTACH;FMTTYPE=image/png:https://3wmagazine.com/wp-content/uploads/2024/01/CambodianHighRez.png
END:VEVENT
BEGIN:VEVENT
DTSTART;VALUE=DATE:20240304
DTEND;VALUE=DATE:20240310
DTSTAMP:20260421T051850
CREATED:20240108T064814Z
LAST-MODIFIED:20240229T193449Z
UID:1018075-1709510400-1710028799@3wmagazine.com
SUMMARY:Shooting for Scholarships Fundraiser
DESCRIPTION:The AAO Shooting For Scholarships is an event hosted by Arkansas Athletes Outreach from March 4 through March 9.  Teams will shoot a total of 100 free throws and compete against other teams to  raise the most money. Funds raised will be used towards scholarships for AAO players. Learn more on how to give donations and pledge funds at https://www.aaoteam.org/shooting-4-scholarships.
URL:https://3wmagazine.com/event/shooting-for-scholarships-fundraiser-2024/
CATEGORIES:March,Sponsored
ATTACH;FMTTYPE=image/png:https://3wmagazine.com/wp-content/uploads/2024/02/B0CB5A31-7A88-46C1-9613-11C1A9D00D00_large-1.png
END:VEVENT
BEGIN:VEVENT
DTSTART;VALUE=DATE:20240307
DTEND;VALUE=DATE:20240310
DTSTAMP:20260421T051851
CREATED:20240108T063215Z
LAST-MODIFIED:20240108T063229Z
UID:1018046-1709769600-1710028799@3wmagazine.com
SUMMARY:"Joseph and the Amazing Technicolor Dreamcoat"
DESCRIPTION:
URL:https://3wmagazine.com/event/joseph-and-the-amazing-technicolor-dreamcoat-2024/
CATEGORIES:March
END:VEVENT
BEGIN:VEVENT
DTSTART;VALUE=DATE:20240309
DTEND;VALUE=DATE:20240310
DTSTAMP:20260421T051851
CREATED:20240108T064001Z
LAST-MODIFIED:20240229T194944Z
UID:1018060-1709942400-1710028799@3wmagazine.com
SUMMARY:Dancing with Our Stars
DESCRIPTION:On Saturday\, March 9\, 2024\, the 3rd annual Northwest Arkansas ‘Dancing with Our Stars’ Gala will take place at Crystal Bridges Museum of American Art in Bentonville\, AR. A spin-off of the popular annual dance competition that has taken place in Little Rock since 2006\, ‘Dancing with Our Stars’ brings together local celebrities\, professional dancers\, and NF Heroes for a one-night ballroom competition to raise money and awareness for NF research. NF Heroes are those who have demonstrated remarkable courage and a positive spirit living with NF. \nThe Northwest Arkansas stars vying for a chance to take home the coveted mirror ball trophy are: \n\nRyan Fox\, Co-Owner| Foxy Tees\nLee Hollingsworth PharmD\, Owner | Hollingsworth Custom Homes\, Pharmacist | Walmart\nDanaë Ledbetter\, Executive Director | Bentonville Prep\nMelissa Parrish\, Owner | Real World Travel\nMisty Van Hooser\, Realtor | Keller Williams Market Pro Realty\nTony Waller\, Vice President of Constituent Relations and Racial Equity | Walmart\nAllisha Watkins\, Chief Executive Officer | Paradox\n\nFor more information or to purchase your virtual ticket or sponsorship\, please visit ctf.org/dwosnwa.
URL:https://3wmagazine.com/event/dancing-with-our-stars-2024/
LOCATION:Crystal Bridges Museum of American Art\, 600 Museum Way\, Bentonville\, AR\, 72712\, United States
CATEGORIES:March,Sponsored
ATTACH;FMTTYPE=image/png:https://3wmagazine.com/wp-content/uploads/2024/02/Screen-Shot-2024-02-29-at-1.47.48-PM.png
END:VEVENT
BEGIN:VEVENT
DTSTART;VALUE=DATE:20240309
DTEND;VALUE=DATE:20240310
DTSTAMP:20260421T051851
CREATED:20240108T064220Z
LAST-MODIFIED:20240229T200031Z
UID:1018063-1709942400-1710028799@3wmagazine.com
SUMMARY:A Knight to Remember
DESCRIPTION:St. Vincent de Paul Catholic School’s A Knight to Remember\, themed this year as A Knight at the Casino\, will be March 9 at Rogers Convention Center. This fun night includes dinner\, drinks\, live and silent auctions\, and dancing. Learn more and purchase tickets at https://one.bidpal.net/aktr2024.
URL:https://3wmagazine.com/event/a-knight-to-remember-2024/
LOCATION:Rogers Convention Center
CATEGORIES:March,Sponsored
ATTACH;FMTTYPE=image/jpeg:https://3wmagazine.com/wp-content/uploads/2024/02/426935063_24658859107091565_5690272944493355146_n-scaled.jpg
END:VEVENT
BEGIN:VEVENT
DTSTART;VALUE=DATE:20240309
DTEND;VALUE=DATE:20240310
DTSTAMP:20260421T051851
CREATED:20240108T064337Z
LAST-MODIFIED:20240229T202736Z
UID:1018066-1709942400-1710028799@3wmagazine.com
SUMMARY:Big Party
DESCRIPTION:Fayetteville Junior Civic League’s Big Party is March 9 from 7-11 p.m. at George’s Majestic Lounge in Fayetteville. The event supports over 20 charities and nonprofits in Northwest Arkansas! Your ticket includes a night of live music featuring Dial Up\, the Burnt CDs\, the Rachel B Band\, raffles\, door prizes\, appetizers and drinks! So excited to party with you … like it’s the 90s! Get your tickets here!
URL:https://3wmagazine.com/event/big-party-2024/
LOCATION:George’s Majestic Lounge\, 519 W Dickson\, Fayetteville\, AR\, 72701\, United States
CATEGORIES:March,Sponsored
ATTACH;FMTTYPE=image/jpeg:https://3wmagazine.com/wp-content/uploads/2024/02/417553063_769140448589092_6614549433946781305_n.jpg
END:VEVENT
BEGIN:VEVENT
DTSTART;VALUE=DATE:20240309
DTEND;VALUE=DATE:20240310
DTSTAMP:20260421T051851
CREATED:20240108T064451Z
LAST-MODIFIED:20240108T064503Z
UID:1018069-1709942400-1710028799@3wmagazine.com
SUMMARY:Irish 5K/10K
DESCRIPTION:
URL:https://3wmagazine.com/event/irish-5k-10k-2024/
CATEGORIES:March
END:VEVENT
BEGIN:VEVENT
DTSTART;VALUE=DATE:20240309
DTEND;VALUE=DATE:20240310
DTSTAMP:20260421T051851
CREATED:20240108T064628Z
LAST-MODIFIED:20240108T064639Z
UID:1018072-1709942400-1710028799@3wmagazine.com
SUMMARY:The Abilities Ball
DESCRIPTION:
URL:https://3wmagazine.com/event/the-abilities-ball-2024/
CATEGORIES:March
END:VEVENT
END:VCALENDAR