BEGIN:VCALENDAR
VERSION:2.0
PRODID:-//3W Magazine - ECPv6.15.20//NONSGML v1.0//EN
CALSCALE:GREGORIAN
METHOD:PUBLISH
X-ORIGINAL-URL:https://3wmagazine.com
X-WR-CALDESC:Events for 3W Magazine
REFRESH-INTERVAL;VALUE=DURATION:PT1H
X-Robots-Tag:noindex
X-PUBLISHED-TTL:PT1H
BEGIN:VTIMEZONE
TZID:America/Denver
BEGIN:DAYLIGHT
TZOFFSETFROM:-0700
TZOFFSETTO:-0600
TZNAME:MDT
DTSTART:20240310T090000
END:DAYLIGHT
BEGIN:STANDARD
TZOFFSETFROM:-0600
TZOFFSETTO:-0700
TZNAME:MST
DTSTART:20241103T080000
END:STANDARD
BEGIN:DAYLIGHT
TZOFFSETFROM:-0700
TZOFFSETTO:-0600
TZNAME:MDT
DTSTART:20250309T090000
END:DAYLIGHT
BEGIN:STANDARD
TZOFFSETFROM:-0600
TZOFFSETTO:-0700
TZNAME:MST
DTSTART:20251102T080000
END:STANDARD
BEGIN:DAYLIGHT
TZOFFSETFROM:-0700
TZOFFSETTO:-0600
TZNAME:MDT
DTSTART:20260308T090000
END:DAYLIGHT
BEGIN:STANDARD
TZOFFSETFROM:-0600
TZOFFSETTO:-0700
TZNAME:MST
DTSTART:20261101T080000
END:STANDARD
END:VTIMEZONE
BEGIN:VEVENT
DTSTART;VALUE=DATE:20250122
DTEND;VALUE=DATE:20250224
DTSTAMP:20260420T063143
CREATED:20250108T051124Z
LAST-MODIFIED:20250108T051355Z
UID:1022271-1737504000-1740355199@3wmagazine.com
SUMMARY:"Primary Trust"
DESCRIPTION:
URL:https://3wmagazine.com/event/primary-trust-2025/
CATEGORIES:February,January
END:VEVENT
BEGIN:VEVENT
DTSTART;VALUE=DATE:20250220
DTEND;VALUE=DATE:20250224
DTSTAMP:20260420T063143
CREATED:20250112T083126Z
LAST-MODIFIED:20250112T083156Z
UID:1022369-1740009600-1740355199@3wmagazine.com
SUMMARY:"The Book of Mormon"
DESCRIPTION:
URL:https://3wmagazine.com/event/the-book-of-mormon-2025/
CATEGORIES:February
END:VEVENT
BEGIN:VEVENT
DTSTART;VALUE=DATE:20250222
DTEND;VALUE=DATE:20250223
DTSTAMP:20260420T063143
CREATED:20250112T083552Z
LAST-MODIFIED:20250112T083633Z
UID:1022375-1740182400-1740268799@3wmagazine.com
SUMMARY:Black Owned Northwest Arkansas Business Expo
DESCRIPTION:
URL:https://3wmagazine.com/event/black-owned-northwest-arkansas-business-expo-2025/
CATEGORIES:February
END:VEVENT
BEGIN:VEVENT
DTSTART;VALUE=DATE:20250222
DTEND;VALUE=DATE:20250223
DTSTAMP:20260420T063143
CREATED:20250112T083809Z
LAST-MODIFIED:20250112T083839Z
UID:1022379-1740182400-1740268799@3wmagazine.com
SUMMARY:A Knight to Remember
DESCRIPTION:
URL:https://3wmagazine.com/event/a-knight-to-remember-2025/
CATEGORIES:February
END:VEVENT
END:VCALENDAR