BEGIN:VCALENDAR
VERSION:2.0
PRODID:-//3W Magazine - ECPv6.15.20//NONSGML v1.0//EN
CALSCALE:GREGORIAN
METHOD:PUBLISH
X-ORIGINAL-URL:https://3wmagazine.com
X-WR-CALDESC:Events for 3W Magazine
REFRESH-INTERVAL;VALUE=DURATION:PT1H
X-Robots-Tag:noindex
X-PUBLISHED-TTL:PT1H
BEGIN:VTIMEZONE
TZID:America/Denver
BEGIN:DAYLIGHT
TZOFFSETFROM:-0700
TZOFFSETTO:-0600
TZNAME:MDT
DTSTART:20240310T090000
END:DAYLIGHT
BEGIN:STANDARD
TZOFFSETFROM:-0600
TZOFFSETTO:-0700
TZNAME:MST
DTSTART:20241103T080000
END:STANDARD
BEGIN:DAYLIGHT
TZOFFSETFROM:-0700
TZOFFSETTO:-0600
TZNAME:MDT
DTSTART:20250309T090000
END:DAYLIGHT
BEGIN:STANDARD
TZOFFSETFROM:-0600
TZOFFSETTO:-0700
TZNAME:MST
DTSTART:20251102T080000
END:STANDARD
BEGIN:DAYLIGHT
TZOFFSETFROM:-0700
TZOFFSETTO:-0600
TZNAME:MDT
DTSTART:20260308T090000
END:DAYLIGHT
BEGIN:STANDARD
TZOFFSETFROM:-0600
TZOFFSETTO:-0700
TZNAME:MST
DTSTART:20261101T080000
END:STANDARD
END:VTIMEZONE
BEGIN:VEVENT
DTSTART;VALUE=DATE:20250315
DTEND;VALUE=DATE:20250729
DTSTAMP:20260420T015314
CREATED:20250112T232746Z
LAST-MODIFIED:20250112T232843Z
UID:1022445-1741996800-1753747199@3wmagazine.com
SUMMARY:KAWS: FAMILY
DESCRIPTION:
URL:https://3wmagazine.com/event/kaws-family-2025/
CATEGORIES:April,July,June,March,May
END:VEVENT
BEGIN:VEVENT
DTSTART;VALUE=DATE:20250416
DTEND;VALUE=DATE:20250505
DTSTAMP:20260420T015314
CREATED:20250113T024354Z
LAST-MODIFIED:20250113T024635Z
UID:1022512-1744761600-1746403199@3wmagazine.com
SUMMARY:"In the Grove of Forgetting"
DESCRIPTION:
URL:https://3wmagazine.com/event/in-the-grove-of-forgetting-2025/
CATEGORIES:April,May
END:VEVENT
BEGIN:VEVENT
DTSTART;VALUE=DATE:20250501
DTEND;VALUE=DATE:20250701
DTSTAMP:20260420T015314
CREATED:20250113T033930Z
LAST-MODIFIED:20250113T034034Z
UID:1022573-1746057600-1751327999@3wmagazine.com
SUMMARY:Bleed Blue
DESCRIPTION:
URL:https://3wmagazine.com/event/bleed-blue-2025/
CATEGORIES:June,May
END:VEVENT
BEGIN:VEVENT
DTSTART;VALUE=DATE:20250502
DTEND;VALUE=DATE:20250504
DTSTAMP:20260420T015314
CREATED:20250113T034657Z
LAST-MODIFIED:20250113T034803Z
UID:1022582-1746144000-1746316799@3wmagazine.com
SUMMARY:Noon2Moon Bike Race
DESCRIPTION:
URL:https://3wmagazine.com/event/noon2moon-bike-race-2025/
CATEGORIES:May
END:VEVENT
BEGIN:VEVENT
DTSTART;VALUE=DATE:20250503
DTEND;VALUE=DATE:20250504
DTSTAMP:20260420T015314
CREATED:20250113T034918Z
LAST-MODIFIED:20250113T035015Z
UID:1022585-1746230400-1746316799@3wmagazine.com
SUMMARY:Walk for Wishes NWA
DESCRIPTION:
URL:https://3wmagazine.com/event/walk-for-wishes-nwa-2025/
CATEGORIES:May
END:VEVENT
BEGIN:VEVENT
DTSTART;VALUE=DATE:20250503
DTEND;VALUE=DATE:20250504
DTSTAMP:20260420T015314
CREATED:20250113T035117Z
LAST-MODIFIED:20250113T035226Z
UID:1022588-1746230400-1746316799@3wmagazine.com
SUMMARY:Kentucky Derby Party
DESCRIPTION:
URL:https://3wmagazine.com/event/kentucky-derby-party-2025/
CATEGORIES:May
END:VEVENT
BEGIN:VEVENT
DTSTART;VALUE=DATE:20250503
DTEND;VALUE=DATE:20250504
DTSTAMP:20260420T015314
CREATED:20250113T035351Z
LAST-MODIFIED:20250113T035456Z
UID:1022591-1746230400-1746316799@3wmagazine.com
SUMMARY:Heather Ridley Fleeman Battle for Hope
DESCRIPTION:
URL:https://3wmagazine.com/event/heather-ridley-fleeman-battle-for-hope-2025/
CATEGORIES:May
END:VEVENT
BEGIN:VEVENT
DTSTART;VALUE=DATE:20250503
DTEND;VALUE=DATE:20250504
DTSTAMP:20260420T015314
CREATED:20250113T035724Z
LAST-MODIFIED:20250113T035914Z
UID:1022594-1746230400-1746316799@3wmagazine.com
SUMMARY:HWOA Annual Cinco de Mayo Festival
DESCRIPTION:
URL:https://3wmagazine.com/event/hwoa-annual-cinco-de-mayo-festival-2025/
CATEGORIES:May
END:VEVENT
END:VCALENDAR