BEGIN:VCALENDAR
VERSION:2.0
PRODID:-//3W Magazine - ECPv6.15.20//NONSGML v1.0//EN
CALSCALE:GREGORIAN
METHOD:PUBLISH
X-ORIGINAL-URL:https://3wmagazine.com
X-WR-CALDESC:Events for 3W Magazine
REFRESH-INTERVAL;VALUE=DURATION:PT1H
X-Robots-Tag:noindex
X-PUBLISHED-TTL:PT1H
BEGIN:VTIMEZONE
TZID:America/Denver
BEGIN:DAYLIGHT
TZOFFSETFROM:-0700
TZOFFSETTO:-0600
TZNAME:MDT
DTSTART:20240310T090000
END:DAYLIGHT
BEGIN:STANDARD
TZOFFSETFROM:-0600
TZOFFSETTO:-0700
TZNAME:MST
DTSTART:20241103T080000
END:STANDARD
BEGIN:DAYLIGHT
TZOFFSETFROM:-0700
TZOFFSETTO:-0600
TZNAME:MDT
DTSTART:20250309T090000
END:DAYLIGHT
BEGIN:STANDARD
TZOFFSETFROM:-0600
TZOFFSETTO:-0700
TZNAME:MST
DTSTART:20251102T080000
END:STANDARD
BEGIN:DAYLIGHT
TZOFFSETFROM:-0700
TZOFFSETTO:-0600
TZNAME:MDT
DTSTART:20260308T090000
END:DAYLIGHT
BEGIN:STANDARD
TZOFFSETFROM:-0600
TZOFFSETTO:-0700
TZNAME:MST
DTSTART:20261101T080000
END:STANDARD
BEGIN:DAYLIGHT
TZOFFSETFROM:-0700
TZOFFSETTO:-0600
TZNAME:MDT
DTSTART:20270314T090000
END:DAYLIGHT
BEGIN:STANDARD
TZOFFSETFROM:-0600
TZOFFSETTO:-0700
TZNAME:MST
DTSTART:20271107T080000
END:STANDARD
END:VTIMEZONE
BEGIN:VEVENT
DTSTART;VALUE=DATE:20250524
DTEND;VALUE=DATE:20260608
DTSTAMP:20260422T030500
CREATED:20250113T044252Z
LAST-MODIFIED:20260114T214803Z
UID:1022647-1748044800-1780876799@3wmagazine.com
SUMMARY:The Machine Behind the Art: Inside JR’s Printing Press
DESCRIPTION:
URL:https://3wmagazine.com/event/the-machine-behind-the-art-inside-jrs-printing-press-2025/
CATEGORIES:August,December,Exhibit,July,June,May,November,October,September
END:VEVENT
BEGIN:VEVENT
DTSTART;VALUE=DATE:20260131
DTEND;VALUE=DATE:20260802
DTSTAMP:20260422T030500
CREATED:20260114T050107Z
LAST-MODIFIED:20260114T050124Z
UID:1025264-1769817600-1785628799@3wmagazine.com
SUMMARY:“Fashion Accessories: Adornments Through History”
DESCRIPTION:
URL:https://3wmagazine.com/event/fashion-accessories-adornments-through-history-2026/
CATEGORIES:April,August,February,January,July,June,March,May
END:VEVENT
BEGIN:VEVENT
DTSTART;VALUE=DATE:20260314
DTEND;VALUE=DATE:20260728
DTSTAMP:20260422T030500
CREATED:20260114T061142Z
LAST-MODIFIED:20260114T061159Z
UID:1025345-1773446400-1785196799@3wmagazine.com
SUMMARY:“America 250: Common Threads”
DESCRIPTION:
URL:https://3wmagazine.com/event/america-250-common-threads-2026/
CATEGORIES:April,July,June,March,May
END:VEVENT
BEGIN:VEVENT
DTSTART;VALUE=DATE:20260317
DTEND;VALUE=DATE:20260323
DTSTAMP:20260422T030500
CREATED:20260114T061317Z
LAST-MODIFIED:20260114T061538Z
UID:1025348-1773705600-1774223999@3wmagazine.com
SUMMARY:“Some Like It Hot”
DESCRIPTION:
URL:https://3wmagazine.com/event/some-like-it-hot-2026/
CATEGORIES:March
END:VEVENT
BEGIN:VEVENT
DTSTART;VALUE=DATE:20260318
DTEND;VALUE=DATE:20260319
DTSTAMP:20260422T030500
CREATED:20260114T061724Z
LAST-MODIFIED:20260114T061806Z
UID:1025351-1773792000-1773878399@3wmagazine.com
SUMMARY:Annual Celebration of Business & Community
DESCRIPTION:
URL:https://3wmagazine.com/event/annual-celebration-of-business-and-community-2026/
CATEGORIES:March
END:VEVENT
END:VCALENDAR