BEGIN:VCALENDAR
VERSION:2.0
PRODID:-//3W Magazine - ECPv6.15.20//NONSGML v1.0//EN
CALSCALE:GREGORIAN
METHOD:PUBLISH
X-ORIGINAL-URL:https://3wmagazine.com
X-WR-CALDESC:Events for 3W Magazine
REFRESH-INTERVAL;VALUE=DURATION:PT1H
X-Robots-Tag:noindex
X-PUBLISHED-TTL:PT1H
BEGIN:VTIMEZONE
TZID:America/Denver
BEGIN:DAYLIGHT
TZOFFSETFROM:-0700
TZOFFSETTO:-0600
TZNAME:MDT
DTSTART:20180311T090000
END:DAYLIGHT
BEGIN:STANDARD
TZOFFSETFROM:-0600
TZOFFSETTO:-0700
TZNAME:MST
DTSTART:20181104T080000
END:STANDARD
BEGIN:DAYLIGHT
TZOFFSETFROM:-0700
TZOFFSETTO:-0600
TZNAME:MDT
DTSTART:20190310T090000
END:DAYLIGHT
BEGIN:STANDARD
TZOFFSETFROM:-0600
TZOFFSETTO:-0700
TZNAME:MST
DTSTART:20191103T080000
END:STANDARD
BEGIN:DAYLIGHT
TZOFFSETFROM:-0700
TZOFFSETTO:-0600
TZNAME:MDT
DTSTART:20200308T090000
END:DAYLIGHT
BEGIN:STANDARD
TZOFFSETFROM:-0600
TZOFFSETTO:-0700
TZNAME:MST
DTSTART:20201101T080000
END:STANDARD
END:VTIMEZONE
BEGIN:VEVENT
DTSTART;VALUE=DATE:20190429
DTEND;VALUE=DATE:20190430
DTSTAMP:20260422T203848
CREATED:20190122T210721Z
LAST-MODIFIED:20190221T201517Z
UID:1008065-1556496000-1556582399@3wmagazine.com
SUMMARY:Celebration of Excellence
DESCRIPTION:This annual event held at the Arkansas Air & Military Museum celebrates the announcement of the foundation’s grant awards\, Fayetteville High School scholarship recipients and the A.P.P.L.E. Award. For details\, visit www.fayedfoundation.org.
URL:https://3wmagazine.com/event/celebration-of-excellence-2019/
LOCATION:Arkansas Air & Military Museum\, 4290 S. School Ave.\, Fayetteville\, AR\, 72701\, United States
CATEGORIES:April,Happenings,Sponsored
ATTACH;FMTTYPE=image/png:https://3wmagazine.com/wp-content/uploads/2019/01/FPEF-calendar-logo.png
END:VEVENT
BEGIN:VEVENT
DTSTART;VALUE=DATE:20190429
DTEND;VALUE=DATE:20190430
DTSTAMP:20260422T203848
CREATED:20190122T211345Z
LAST-MODIFIED:20190227T162524Z
UID:1008068-1556496000-1556582399@3wmagazine.com
SUMMARY:Golf Classic
DESCRIPTION:Hit the greens and support compassionate\, high-quality care for those in need. For more details\, visit www.wregional.com.
URL:https://3wmagazine.com/event/wrmf-golf-classic-2019/
CATEGORIES:April,Happenings,Sponsored
ATTACH;FMTTYPE=image/png:https://3wmagazine.com/wp-content/uploads/2019/01/WRMF-calendar-logo.png
END:VEVENT
END:VCALENDAR