BEGIN:VCALENDAR
VERSION:2.0
PRODID:-//3W Magazine - ECPv6.15.20//NONSGML v1.0//EN
CALSCALE:GREGORIAN
METHOD:PUBLISH
X-WR-CALNAME:3W Magazine
X-ORIGINAL-URL:https://3wmagazine.com
X-WR-CALDESC:Events for 3W Magazine
REFRESH-INTERVAL;VALUE=DURATION:PT1H
X-Robots-Tag:noindex
X-PUBLISHED-TTL:PT1H
BEGIN:VTIMEZONE
TZID:America/Denver
BEGIN:DAYLIGHT
TZOFFSETFROM:-0700
TZOFFSETTO:-0600
TZNAME:MDT
DTSTART:20200308T090000
END:DAYLIGHT
BEGIN:STANDARD
TZOFFSETFROM:-0600
TZOFFSETTO:-0700
TZNAME:MST
DTSTART:20201101T080000
END:STANDARD
BEGIN:DAYLIGHT
TZOFFSETFROM:-0700
TZOFFSETTO:-0600
TZNAME:MDT
DTSTART:20210314T090000
END:DAYLIGHT
BEGIN:STANDARD
TZOFFSETFROM:-0600
TZOFFSETTO:-0700
TZNAME:MST
DTSTART:20211107T080000
END:STANDARD
BEGIN:DAYLIGHT
TZOFFSETFROM:-0700
TZOFFSETTO:-0600
TZNAME:MDT
DTSTART:20220313T090000
END:DAYLIGHT
BEGIN:STANDARD
TZOFFSETFROM:-0600
TZOFFSETTO:-0700
TZNAME:MST
DTSTART:20221106T080000
END:STANDARD
END:VTIMEZONE
BEGIN:VEVENT
DTSTART;VALUE=DATE:20210409
DTEND;VALUE=DATE:20210410
DTSTAMP:20260425T200405
CREATED:20210121T205713Z
LAST-MODIFIED:20210309T195836Z
UID:1011373-1617926400-1618012799@3wmagazine.com
SUMMARY:Out-of-the-Box Luncheon
DESCRIPTION:Join Girls on the Run of Northwest Arkansas for a lively conversation with Donna Morris\, Executive Vice President & Chief People Officer of Walmart Inc. This year’s program will be virtual via Zoom. Celebrate the nonprofit’s local girls\, learn about plans for the upcoming year and be inspired! For more details on tickets and to purchase your Inspiration Box\, visit www.gotrnwa.org/out-of-the-box.
URL:https://3wmagazine.com/event/out-of-the-box-luncheon-2021/
CATEGORIES:April,Sponsored
ATTACH;FMTTYPE=image/jpeg:https://3wmagazine.com/wp-content/uploads/2021/01/158639747_4153193418037560_8142704543430644622_o-e1615319754914.jpg
END:VEVENT
BEGIN:VEVENT
DTSTART;VALUE=DATE:20210409
DTEND;VALUE=DATE:20210412
DTSTAMP:20260425T200405
CREATED:20210121T210322Z
LAST-MODIFIED:20210401T035113Z
UID:1011379-1617926400-1618185599@3wmagazine.com
SUMMARY:Vintage Market Days
DESCRIPTION:Vintage Market Days at Benton County Fairgrounds is an upscale\, vintage-inspired\, indoor/outdoor market featuring original art\, antiques\, clothing\, jewelry\, handmade treasures\, home decor\, outdoor furnishings\, seasonal plantings and more. Vintage Market Days events are so much more than a flea market. Each Vintage Market Days event is a unique opportunity for vendors to display their talents and passions in creative venues. For more details\, visit www.vintagemarketdays.com.
URL:https://3wmagazine.com/event/vintage-market-days-spring-2021/
CATEGORIES:April,Sponsored
ATTACH;FMTTYPE=image/jpeg:https://3wmagazine.com/wp-content/uploads/2021/01/142085-640-e1617249051640.jpg
END:VEVENT
END:VCALENDAR