BEGIN:VCALENDAR
VERSION:2.0
PRODID:-//3W Magazine - ECPv6.15.20//NONSGML v1.0//EN
CALSCALE:GREGORIAN
METHOD:PUBLISH
X-WR-CALNAME:3W Magazine
X-ORIGINAL-URL:https://3wmagazine.com
X-WR-CALDESC:Events for 3W Magazine
REFRESH-INTERVAL;VALUE=DURATION:PT1H
X-Robots-Tag:noindex
X-PUBLISHED-TTL:PT1H
BEGIN:VTIMEZONE
TZID:America/Denver
BEGIN:DAYLIGHT
TZOFFSETFROM:-0700
TZOFFSETTO:-0600
TZNAME:MDT
DTSTART:20200308T090000
END:DAYLIGHT
BEGIN:STANDARD
TZOFFSETFROM:-0600
TZOFFSETTO:-0700
TZNAME:MST
DTSTART:20201101T080000
END:STANDARD
BEGIN:DAYLIGHT
TZOFFSETFROM:-0700
TZOFFSETTO:-0600
TZNAME:MDT
DTSTART:20210314T090000
END:DAYLIGHT
BEGIN:STANDARD
TZOFFSETFROM:-0600
TZOFFSETTO:-0700
TZNAME:MST
DTSTART:20211107T080000
END:STANDARD
BEGIN:DAYLIGHT
TZOFFSETFROM:-0700
TZOFFSETTO:-0600
TZNAME:MDT
DTSTART:20220313T090000
END:DAYLIGHT
BEGIN:STANDARD
TZOFFSETFROM:-0600
TZOFFSETTO:-0700
TZNAME:MST
DTSTART:20221106T080000
END:STANDARD
END:VTIMEZONE
BEGIN:VEVENT
DTSTART;VALUE=DATE:20210422
DTEND;VALUE=DATE:20210423
DTSTAMP:20260425T063138
CREATED:20210125T051422Z
LAST-MODIFIED:20210315T190618Z
UID:1011414-1619049600-1619135999@3wmagazine.com
SUMMARY:Virtual Wall of Distinction Banquet
DESCRIPTION:This annual banquet pays tribute to the special accomplishments of Rogers School District teachers\, administrators\, parents and supportive community members. The event will be virtual this year\, and it will be posted to the Rogers Public Education Foundation Facebook page at 6:30 p.m. April 22. Proceeds go toward providing educational programs to Rogers School District teachers. For details\, visit www.rogerspef.com.
URL:https://3wmagazine.com/event/wall-of-distinction-banquet-2021/
CATEGORIES:April,Sponsored
ATTACH;FMTTYPE=image/jpeg:https://3wmagazine.com/wp-content/uploads/2021/01/a39aa8ca-afb9-4b33-ba5a-2debbf3be937-e1615834918113.jpg
END:VEVENT
BEGIN:VEVENT
DTSTART;VALUE=DATE:20210422
DTEND;VALUE=DATE:20210423
DTSTAMP:20260425T063138
CREATED:20210125T051819Z
LAST-MODIFIED:20210401T042559Z
UID:1011418-1619049600-1619135999@3wmagazine.com
SUMMARY:Butterflies & Blooms
DESCRIPTION:The annual Butterflies & Blooms benefits the lives of the young ladies who call Saving Grace home. This year’s event is virtual\, and it will broadcast LIVE at 11:45 a.m. April 22 from the Saving Grace website and the Saving Grace Facebook page. For more information\, please visit www.savinggracenwa.org.
URL:https://3wmagazine.com/event/butterflies-and-blooms-2021/
CATEGORIES:April,Sponsored
ATTACH;FMTTYPE=image/png:https://3wmagazine.com/wp-content/uploads/2021/01/SavingGrace_LOGOHoriz-Brown-e1617251148524.png
END:VEVENT
BEGIN:VEVENT
DTSTART;VALUE=DATE:20210422
DTEND;VALUE=DATE:20210426
DTSTAMP:20260425T063138
CREATED:20210125T050935Z
LAST-MODIFIED:20210126T200640Z
UID:1011408-1619049600-1619395199@3wmagazine.com
SUMMARY:The Waverly Gallery
DESCRIPTION:Gladys\, the elderly matriarch of the Green family\, has run an art gallery in a small Greenwich Village hotel for many years. The management wants to replace her less-than-thriving gallery with a coffee shop. Always irascible but now increasingly erratic\, Gladys is a cause of concern to her daughter\, her son-in-law\, and her grandson\, from whose point of view this poignant memory play is told. A wacky and heartrending look at the effect of senility on a family. For tickets and more details\, visit www.arkansaspublictheatre.org.
URL:https://3wmagazine.com/event/waverly-gallery-weekend-2-2021/
CATEGORIES:April
ATTACH;FMTTYPE=image/jpeg:https://3wmagazine.com/wp-content/uploads/2021/01/Waverly3-0-1-e1611691500772.jpeg
END:VEVENT
END:VCALENDAR