BEGIN:VCALENDAR
VERSION:2.0
PRODID:-//3W Magazine - ECPv6.15.20//NONSGML v1.0//EN
CALSCALE:GREGORIAN
METHOD:PUBLISH
X-WR-CALNAME:3W Magazine
X-ORIGINAL-URL:https://3wmagazine.com
X-WR-CALDESC:Events for 3W Magazine
REFRESH-INTERVAL;VALUE=DURATION:PT1H
X-Robots-Tag:noindex
X-PUBLISHED-TTL:PT1H
BEGIN:VTIMEZONE
TZID:America/Denver
BEGIN:DAYLIGHT
TZOFFSETFROM:-0700
TZOFFSETTO:-0600
TZNAME:MDT
DTSTART:20200308T090000
END:DAYLIGHT
BEGIN:STANDARD
TZOFFSETFROM:-0600
TZOFFSETTO:-0700
TZNAME:MST
DTSTART:20201101T080000
END:STANDARD
BEGIN:DAYLIGHT
TZOFFSETFROM:-0700
TZOFFSETTO:-0600
TZNAME:MDT
DTSTART:20210314T090000
END:DAYLIGHT
BEGIN:STANDARD
TZOFFSETFROM:-0600
TZOFFSETTO:-0700
TZNAME:MST
DTSTART:20211107T080000
END:STANDARD
BEGIN:DAYLIGHT
TZOFFSETFROM:-0700
TZOFFSETTO:-0600
TZNAME:MDT
DTSTART:20220313T090000
END:DAYLIGHT
BEGIN:STANDARD
TZOFFSETFROM:-0600
TZOFFSETTO:-0700
TZNAME:MST
DTSTART:20221106T080000
END:STANDARD
END:VTIMEZONE
BEGIN:VEVENT
DTSTART;VALUE=DATE:20210422
DTEND;VALUE=DATE:20210426
DTSTAMP:20260424T214440
CREATED:20210125T050935Z
LAST-MODIFIED:20210126T200640Z
UID:1011408-1619049600-1619395199@3wmagazine.com
SUMMARY:The Waverly Gallery
DESCRIPTION:Gladys\, the elderly matriarch of the Green family\, has run an art gallery in a small Greenwich Village hotel for many years. The management wants to replace her less-than-thriving gallery with a coffee shop. Always irascible but now increasingly erratic\, Gladys is a cause of concern to her daughter\, her son-in-law\, and her grandson\, from whose point of view this poignant memory play is told. A wacky and heartrending look at the effect of senility on a family. For tickets and more details\, visit www.arkansaspublictheatre.org.
URL:https://3wmagazine.com/event/waverly-gallery-weekend-2-2021/
CATEGORIES:April
ATTACH;FMTTYPE=image/jpeg:https://3wmagazine.com/wp-content/uploads/2021/01/Waverly3-0-1-e1611691500772.jpeg
END:VEVENT
BEGIN:VEVENT
DTSTART;VALUE=DATE:20210424
DTEND;VALUE=DATE:20210426
DTSTAMP:20260424T214440
CREATED:20210125T053136Z
LAST-MODIFIED:20210125T053136Z
UID:1011422-1619222400-1619395199@3wmagazine.com
SUMMARY:Hogeye Marathon & Relays
DESCRIPTION:Benefiting area schools\, this event includes a marathon\, half-marathon\, 5K\, 10K and relays starting in Springdale. For details\, visit www.hogeyemarathon.com.
URL:https://3wmagazine.com/event/hogeye-marathon-and-relays-2021/
CATEGORIES:April
END:VEVENT
BEGIN:VEVENT
DTSTART;VALUE=DATE:20210425
DTEND;VALUE=DATE:20210426
DTSTAMP:20260424T214440
CREATED:20210315T173753Z
LAST-MODIFIED:20210315T173807Z
UID:1011938-1619308800-1619395199@3wmagazine.com
SUMMARY:Virtual Wine Dinner
DESCRIPTION:Restore Humanity is thrilled to gather with you as it does every year to share some delectable food from Bordinos — expertly paired with fantastic wine — while sharing the latest news about the good work in Kenya!  This year’s Wine Dinner will be held virtually again this year in order to ensure everyone’s safety. The event will take place on Sunday\, April 25\, and you will be able to enjoy Bordinos at Home along with incredible wine from Natural State Distributing while tuning into the virtual presentation! \nThe Dinner-for-Two Baskets are $200 and include: a three-course meal from Bordinos (for two)\, two bottles of wine paired with your meal and two Restore Humanity wine glasses. Please keep in mind that you will need to come and pick up your Basket curbside at Bordinos between 5:30 and 6 p.m. on April 25. \nFor more details\, visit www.restorehumanity.org.
URL:https://3wmagazine.com/event/virtual-wine-dinner-2021/
CATEGORIES:April,Sponsored
ATTACH;FMTTYPE=image/png:https://3wmagazine.com/wp-content/uploads/2019/01/Restore-Humanity-calendar-logo.png
END:VEVENT
END:VCALENDAR