BEGIN:VCALENDAR
VERSION:2.0
PRODID:-//3W Magazine - ECPv6.15.20//NONSGML v1.0//EN
CALSCALE:GREGORIAN
METHOD:PUBLISH
X-WR-CALNAME:3W Magazine
X-ORIGINAL-URL:https://3wmagazine.com
X-WR-CALDESC:Events for 3W Magazine
REFRESH-INTERVAL;VALUE=DURATION:PT1H
X-Robots-Tag:noindex
X-PUBLISHED-TTL:PT1H
BEGIN:VTIMEZONE
TZID:America/Denver
BEGIN:DAYLIGHT
TZOFFSETFROM:-0700
TZOFFSETTO:-0600
TZNAME:MDT
DTSTART:20210314T090000
END:DAYLIGHT
BEGIN:STANDARD
TZOFFSETFROM:-0600
TZOFFSETTO:-0700
TZNAME:MST
DTSTART:20211107T080000
END:STANDARD
BEGIN:DAYLIGHT
TZOFFSETFROM:-0700
TZOFFSETTO:-0600
TZNAME:MDT
DTSTART:20220313T090000
END:DAYLIGHT
BEGIN:STANDARD
TZOFFSETFROM:-0600
TZOFFSETTO:-0700
TZNAME:MST
DTSTART:20221106T080000
END:STANDARD
BEGIN:DAYLIGHT
TZOFFSETFROM:-0700
TZOFFSETTO:-0600
TZNAME:MDT
DTSTART:20230312T090000
END:DAYLIGHT
BEGIN:STANDARD
TZOFFSETFROM:-0600
TZOFFSETTO:-0700
TZNAME:MST
DTSTART:20231105T080000
END:STANDARD
BEGIN:DAYLIGHT
TZOFFSETFROM:-0700
TZOFFSETTO:-0600
TZNAME:MDT
DTSTART:20240310T090000
END:DAYLIGHT
BEGIN:STANDARD
TZOFFSETFROM:-0600
TZOFFSETTO:-0700
TZNAME:MST
DTSTART:20241103T080000
END:STANDARD
BEGIN:DAYLIGHT
TZOFFSETFROM:-0700
TZOFFSETTO:-0600
TZNAME:MDT
DTSTART:20250309T090000
END:DAYLIGHT
BEGIN:STANDARD
TZOFFSETFROM:-0600
TZOFFSETTO:-0700
TZNAME:MST
DTSTART:20251102T080000
END:STANDARD
END:VTIMEZONE
BEGIN:VEVENT
DTSTART;VALUE=DATE:20240808
DTEND;VALUE=DATE:20240813
DTSTAMP:20260422T025436
CREATED:20240118T185531Z
LAST-MODIFIED:20240118T185613Z
UID:1018557-1723075200-1723507199@3wmagazine.com
SUMMARY:NWA Challenge for Hope
DESCRIPTION:
URL:https://3wmagazine.com/event/nwa-challenge-for-hope-2024/
CATEGORIES:August
END:VEVENT
BEGIN:VEVENT
DTSTART;VALUE=DATE:20240808
DTEND;VALUE=DATE:20240812
DTSTAMP:20260422T025436
CREATED:20240110T161403Z
LAST-MODIFIED:20240801T031442Z
UID:1018339-1723075200-1723420799@3wmagazine.com
SUMMARY:“Rent”
DESCRIPTION:
URL:https://3wmagazine.com/event/rent-2024/
CATEGORIES:August,Sponsored
ATTACH;FMTTYPE=image/png:https://3wmagazine.com/wp-content/uploads/2024/07/452878732_1045672167565881_3594799481174826849_n.png
END:VEVENT
BEGIN:VEVENT
DTSTART;VALUE=DATE:20240808
DTEND;VALUE=DATE:20240809
DTSTAMP:20260422T025436
CREATED:20240118T185738Z
LAST-MODIFIED:20240118T185755Z
UID:1018560-1723075200-1723161599@3wmagazine.com
SUMMARY:Art on the Bricks Art Walk
DESCRIPTION:
URL:https://3wmagazine.com/event/art-on-the-bricks-art-walk-august-2024/
CATEGORIES:August
END:VEVENT
BEGIN:VEVENT
DTSTART;VALUE=DATE:20240801
DTEND;VALUE=DATE:20240803
DTSTAMP:20260422T025436
CREATED:20240118T183813Z
LAST-MODIFIED:20240118T183849Z
UID:1018551-1722470400-1722643199@3wmagazine.com
SUMMARY:Will Golf 4 Kids Tournament & Gala of Hope
DESCRIPTION:
URL:https://3wmagazine.com/event/will-golf-4-kids-tournament-gala-of-hope-2024/
CATEGORIES:August
END:VEVENT
BEGIN:VEVENT
DTSTART;VALUE=DATE:20230828
DTEND;VALUE=DATE:20230829
DTSTAMP:20260422T025436
CREATED:20230111T013137Z
LAST-MODIFIED:20230627T175905Z
UID:1015644-1693180800-1693267199@3wmagazine.com
SUMMARY:Golf 4 A Cause
DESCRIPTION:The 19th annual Golf 4 A Cause will be held on Monday\, Aug. 28 at Pinnacle Country Club in Rogers! This annual golf tournament serves as the main fundraiser for our five major programs: a Ronald McDonald House at Washington Regional in Fayetteville\, Ronald McDonald Family Rooms at Mercy NWA in Rogers\, a NEW Ronald McDonald House on the campus of Mercy Fort Smith\, a Ronald McDonald Family Room in Mercy Fort Smith\, and the Ronald McDonald Care Mobile\, a mobile dental clinic providing under-served children comprehensive dental care in a school based setting. \nLast year\, our sponsors and over 200 golfers helped raise $145\,000 toward keeping families close to the care they need! Play is four-person scramble\, with morning and afternoon tee-off times. For out of town guests\, a nearby hotel block will be available. \nPlease contact Meagan Piroutek at meagan@rmhcofarkoma.org or call 479-756-5600 with any questions. \nFor more details\, visit https://rmhark.ejoinme.org/golf4acause2023.
URL:https://3wmagazine.com/event/golf-4-a-cause-2023/
LOCATION:Pinnacle Country Club\, 3 S. Clubhouse Dr.\, Rogers\, AR\, 72758\, United States
CATEGORIES:August,Sponsored
ATTACH;FMTTYPE=image/png:https://3wmagazine.com/wp-content/uploads/2023/06/EBF59B13-1BD3-4B46-AA98-A416E067A01E.png
END:VEVENT
BEGIN:VEVENT
DTSTART;VALUE=DATE:20230825
DTEND;VALUE=DATE:20230826
DTSTAMP:20260422T025436
CREATED:20230111T013018Z
LAST-MODIFIED:20230801T152311Z
UID:1015641-1692921600-1693007999@3wmagazine.com
SUMMARY:RPEF Golf Tournament
DESCRIPTION:
URL:https://3wmagazine.com/event/rpef-golf-tournament-2023/
CATEGORIES:August,Sponsored
END:VEVENT
BEGIN:VEVENT
DTSTART;VALUE=DATE:20230825
DTEND;VALUE=DATE:20230826
DTSTAMP:20260422T025436
CREATED:20230111T012800Z
LAST-MODIFIED:20230627T175436Z
UID:1015638-1692921600-1693007999@3wmagazine.com
SUMMARY:Jewels of Giving
DESCRIPTION:Join Northwest Arkansas Food Bank for the Jewels of Giving Celebration on Aug. 25 at the Heroncrest Event Center on Elmdale Lake. The Jewels of Giving Celebration is Northwest Arkansas Food Bank’s largest\, annual fundraising event to help raise awareness of food insecurity in Northwest Arkansas. All proceeds from the event will benefit the Northwest Arkansas Food Bank. You can anticipate a fun\, summer-casual evening filled with great food and drinks\, entertaining music\, and a live auction with items for everyone. For more details\, visit https://www.nwafoodbank.org/jewels-of-giving.
URL:https://3wmagazine.com/event/jewels-of-giving-2023/
LOCATION:Heroncrest Event Center
CATEGORIES:August,Sponsored
ATTACH;FMTTYPE=image/jpeg:https://3wmagazine.com/wp-content/uploads/2023/06/318697574_6104571749576496_6299512920435239711_n.jpg
END:VEVENT
BEGIN:VEVENT
DTSTART;VALUE=DATE:20230824
DTEND;VALUE=DATE:20230825
DTSTAMP:20260422T025436
CREATED:20230801T135148Z
LAST-MODIFIED:20230801T135303Z
UID:1017033-1692835200-1692921599@3wmagazine.com
SUMMARY:Women’s Wellness Always Matters
DESCRIPTION:Mercy Health Foundation NWA Women With a Mission Women’s Wellness Always Matters is Aug. 24 at Osage House. Guests will hear from local female physicians on a variety of topics that focus on the importance of taking care of yourself. Tickets are $84 each. Email nwa_mercy_foundation@mercy.net to register.
URL:https://3wmagazine.com/event/womens-wellness-always-matters-2023/
LOCATION:Osage House\, 243 Pace Lane\, Cave Springs\, AR\, United States
CATEGORIES:August,Sponsored
ATTACH;FMTTYPE=image/png:https://3wmagazine.com/wp-content/uploads/2023/08/WWAM-Womens-Wellness-Always-Matters-1.png
END:VEVENT
BEGIN:VEVENT
DTSTART;VALUE=DATE:20230824
DTEND;VALUE=DATE:20230825
DTSTAMP:20260422T025436
CREATED:20230111T012542Z
LAST-MODIFIED:20230801T150220Z
UID:1015634-1692835200-1692921599@3wmagazine.com
SUMMARY:Sip & Savor
DESCRIPTION:Sip & Savor is happening Aug. 24! Enjoy a fun\, uplifting night in a relaxed environment while supporting the Boys & Girls Club of Benton County purpose\, ON purpose! It’s the elevated block party with food\, wine\, beer\, and cocktails along with live music\, fun activities\, and the chance to sample some of the best tastemakers in Northwest Arkansas! To purchase tickets\, visit https://www.classy.org/event/sip-and-savor-2023/e504316. For more details\, visit https://www.bgcbentoncounty.org/events.
URL:https://3wmagazine.com/event/sip-and-savor-2023/
CATEGORIES:August,Sponsored
ATTACH;FMTTYPE=image/png:https://3wmagazine.com/wp-content/uploads/2023/01/https___cdn.evbuc_.com_images_309537919_542492275589_1_original.png
END:VEVENT
BEGIN:VEVENT
DTSTART;VALUE=DATE:20230819
DTEND;VALUE=DATE:20230820
DTSTAMP:20260422T025436
CREATED:20230705T173452Z
LAST-MODIFIED:20230705T173508Z
UID:1016912-1692403200-1692489599@3wmagazine.com
SUMMARY:Putt for Paws
DESCRIPTION:The 15th annual Putt for Paws is Aug. 19\, with golf from 9-11:30 a.m. at Lokomotion Fun Park and after party from 11 a.m. to 1 p.m. at Foghorn’s. All of the Proceeds benefit Humane Society of the Ozarks. For more information\, visit https://hsozarks.org/.
URL:https://3wmagazine.com/event/putt-for-paws-2023/
CATEGORIES:August,Sponsored
ATTACH;FMTTYPE=image/jpeg:https://3wmagazine.com/wp-content/uploads/2023/07/357385793_676878121149657_3628913756678761587_n.jpg
END:VEVENT
BEGIN:VEVENT
DTSTART;VALUE=DATE:20230818
DTEND;VALUE=DATE:20230820
DTSTAMP:20260422T025436
CREATED:20230111T011657Z
LAST-MODIFIED:20230801T150649Z
UID:1015628-1692316800-1692489599@3wmagazine.com
SUMMARY:SOAR NWA
DESCRIPTION:The annual SOAR NWA event on Aug. 18 and 19 will offer something for everyone\, including a variety of hot air balloon activities (weather permitting)\, a kids zone\, beer garden\, live music\, car exhibit and various aeronautics activities. For more details\, visit https://www.soarnwa.com/.
URL:https://3wmagazine.com/event/soar-nwa-2023/
LOCATION:Benton County Fairgrounds\, 7640 SW Regional Airport Blvd.\, Bentonville\, AR\, United States
CATEGORIES:August,Sponsored
ATTACH;FMTTYPE=image/png:https://3wmagazine.com/wp-content/uploads/2023/08/SOAR_NWA_logocompressed.png
END:VEVENT
BEGIN:VEVENT
DTSTART;VALUE=DATE:20230817
DTEND;VALUE=DATE:20230822
DTSTAMP:20260422T025436
CREATED:20230111T012416Z
LAST-MODIFIED:20230801T151221Z
UID:1015631-1692230400-1692662399@3wmagazine.com
SUMMARY:NWA Challenge for Hope
DESCRIPTION:
URL:https://3wmagazine.com/event/nwa-challenge-for-hope-2023/
CATEGORIES:August,Sponsored
ATTACH;FMTTYPE=image/png:https://3wmagazine.com/wp-content/uploads/2023/01/Screen-Shot-2023-06-27-at-12.31.17-PM.png
END:VEVENT
BEGIN:VEVENT
DTSTART;VALUE=DATE:20230817
DTEND;VALUE=DATE:20230818
DTSTAMP:20260422T025436
CREATED:20230111T011256Z
LAST-MODIFIED:20230731T154254Z
UID:1015625-1692230400-1692316799@3wmagazine.com
SUMMARY:Summer Connect
DESCRIPTION:Join Nestle Purina at Kindred North in Centerton to network with others in similar & different stages of life and/or career! NextUp NWA will be showcasing a diverse panel of local professionals across all life & career stages who will be answering burning questions about how to find happiness & success throughout every life stage. This is a casual event\, meant to encourage networking with others of all ages\, stages & backgrounds! Food and drinks will be provided and showcase different bites across generations! \n*Capacity is limited\, reach out to get on the waitlist! If you cannot attend after registering\, please let us know ASAP* \nFor more information\, visit https://www.nextupisnow.org/events/event-calendar/summer-connect-august/.
URL:https://3wmagazine.com/event/summer-mixer-august-2023/
LOCATION:Kindred North\, 10889 Arkansas 72 W\, Centerton\, AR\, 72719\, United States
CATEGORIES:August,Sponsored
ATTACH;FMTTYPE=image/jpeg:https://3wmagazine.com/wp-content/uploads/2022/01/274202155_2214682475341002_1935135133593057766_n.jpg
END:VEVENT
BEGIN:VEVENT
DTSTART;VALUE=DATE:20230816
DTEND;VALUE=DATE:20230911
DTSTAMP:20260422T025436
CREATED:20230731T152502Z
LAST-MODIFIED:20230731T152519Z
UID:1016999-1692144000-1694390399@3wmagazine.com
SUMMARY:"Dial M for Murder"
DESCRIPTION:Tony Wendice married his wife for her money. Now he plans to kill her for it. From the play that inspired Alfred Hitchcock’s crime thriller\, TheatreSquared presents a brand-new\, edge-of-your-seat adaptation by Jeffrey Hatcher. Is this twisty mystery of forbidden romance\, blackmail and betrayal the perfect crime — or will Scotland Yard’s best detective crack the case? “Dial M for Murder” contains adult language and themes. For tickets and more details\, visit https://www.theatre2.org/.
URL:https://3wmagazine.com/event/dial-m-for-murder-2023/
LOCATION:TheatreSquared\, 477 W. Spring St.\, Fayetteville\, AR\, 72701\, United States
CATEGORIES:August,September,Sponsored
ATTACH;FMTTYPE=image/jpeg:https://3wmagazine.com/wp-content/uploads/2023/07/dialmforweb.jpg
END:VEVENT
BEGIN:VEVENT
DTSTART;VALUE=DATE:20230812
DTEND;VALUE=DATE:20230813
DTSTAMP:20260422T025436
CREATED:20230111T010901Z
LAST-MODIFIED:20230801T143038Z
UID:1015622-1691798400-1691884799@3wmagazine.com
SUMMARY:Homecoming Gala
DESCRIPTION:Join Kendrick Fincher Hydration for Life for an evening dedicated to raising funds & saving lives– all while having a COOL time! The evening will feature dinner\, libations\, dancing\, speakers\, silent/live auctions\, music\, and more! If you have any questions\, please email kayla@kendrickfincher.org. For more details\, visit https://kendrickfincher.org/.
URL:https://3wmagazine.com/event/homecoming-gala-2023/
LOCATION:Fayetteville Public Library\, 401 W Mountain St\, Fayetteville\, AR\, United States
CATEGORIES:August,Sponsored
ATTACH;FMTTYPE=image/jpeg:https://3wmagazine.com/wp-content/uploads/2023/08/uploads_614a1bd0-4aad-4df6-99f0-275836a47c29_2023DrippinginBlueGalaFlyer.pdf1_.jpg
END:VEVENT
BEGIN:VEVENT
DTSTART;VALUE=DATE:20230803
DTEND;VALUE=DATE:20230805
DTSTAMP:20260422T025436
CREATED:20230111T010701Z
LAST-MODIFIED:20230801T151334Z
UID:1015619-1691020800-1691193599@3wmagazine.com
SUMMARY:Will Golf 4 Kids and Gala of Hope (formerly Color of Hope Gala)
DESCRIPTION:Champions for children attending this year’s annual golf tournament and gala benefiting Arkansas Children’s Northwest (ACNW) are in for exciting new changes! Plus\, for the first time since 2019\, both events will be back in person. \nThe 29th annual Will Golf 4 Kids will be held Thursday\, Aug. 3\, and Friday\, Aug. 4\, at the Dogwood and Kingwood Golf Courses in Bella Vista\, with morning and afternoon shotgun starts\, legendary goody bags and opportunities to network with other champions for children in the region. The 2023 golf chairs are Mike Sewell with Market Performance Group\, Tony Murphy with Acosta\, and honorary co-chairs Silvia Azrai Kawas\, Executive Vice President of Consumables Health & Wellness at Walmart\, and Will McDonald\, Vice President of Divisional Merchandise Manager\, Beverages at Walmart. \nAnd\, for the first time\, this year’s Will Golf 4 Kids is a Children’s Miracle Network Hospital Play Yellow tournament! The winning foursome will qualify for the Play Yellow Invitational in October of this year\, hosted by Jack and Barbara Nicklaus. \nThe 15th annual gala also returns with a brand-new format and location on Friday\, Aug. 4. Instead of being guided by color as in years past\, the event has been reimagined as Gala of Hope — a black-tie\, casino evening at the Fayetteville Public Library\, featuring a highly curated dining experience in an intimate setting along with impressive live and silent auctions. \nThis high-end\, high-stakes evening is hosted by 2023 chairs Julie and Patrick Swope\, and in true James Bond style\, will transport guests to the gilded glamour and international grandeur of the Casino Royale. Guests will be treated to games of chance\, like blackjack and roulette\, in a lavish casino setting\, and the evening’s ultimate winners will be the children treated at ACNW. \nThe event is sold out\, but you can register to bid in the auction here. For more details\, visit https://golfandgala.com/.
URL:https://3wmagazine.com/event/will-golf-4-kids-and-gala-of-hope-formerly-color-of-hope-gala-2023/
CATEGORIES:August,Sponsored
ATTACH;FMTTYPE=image/png:https://3wmagazine.com/wp-content/uploads/2023/01/279595655_376044037895480_8364322886958075381_n.png
END:VEVENT
BEGIN:VEVENT
DTSTART;VALUE=DATE:20220829
DTEND;VALUE=DATE:20220830
DTSTAMP:20260422T025436
CREATED:20220103T051016Z
LAST-MODIFIED:20220725T160307Z
UID:1013449-1661731200-1661817599@3wmagazine.com
SUMMARY:Golf 4 A Cause
DESCRIPTION:This annual golf tournament serves as the main fundraiser for RMHC of Arkoma’s five major programs: a Ronald McDonald House at Washington Regional in Fayetteville\, Ronald McDonald Family Rooms at Mercy NWA in Rogers\, a NEW Ronald McDonald House on the campus of Mercy Fort Smith\, a Ronald McDonald Family Room in Mercy Fort Smith\, and the Ronald McDonald Care Mobile\, a mobile dental clinic providing under-served children comprehensive dental care in a school based setting. For more details\, visit https://www.golf4rmhc.com.
URL:https://3wmagazine.com/event/golf-4-a-cause-2022/
LOCATION:Pinnacle Country Club\, 3 S. Clubhouse Dr.\, Rogers\, AR\, 72758\, United States
CATEGORIES:August,Sponsored
ATTACH;FMTTYPE=image/jpeg:https://3wmagazine.com/wp-content/uploads/2022/07/272055617_10160366435510530_5934687447094747485_n.jpg
END:VEVENT
BEGIN:VEVENT
DTSTART;VALUE=DATE:20220826
DTEND;VALUE=DATE:20220828
DTSTAMP:20260422T025436
CREATED:20220103T050758Z
LAST-MODIFIED:20220302T182323Z
UID:1013446-1661472000-1661644799@3wmagazine.com
SUMMARY:SOAR NWA
DESCRIPTION:SOAR NWA\, Open Avenues family-friendly hot air balloon festival\, is returning Aug. 26-27 at Drake Field in Fayetteville. There is something for everyone – hot air balloons\, live music\, circus performers\, a kid zone\, car exhibit\, helicopter rides\, beer garden\, food trucks and more! For tickets and details\, visit https://www.soarnwa.com/.
URL:https://3wmagazine.com/event/soar-nwa-2022/
CATEGORIES:August,Sponsored
ATTACH;FMTTYPE=image/jpeg:https://3wmagazine.com/wp-content/uploads/2022/01/270044562_4890420910980498_8723877362192634794_n.jpg
END:VEVENT
BEGIN:VEVENT
DTSTART;VALUE=DATE:20220825
DTEND;VALUE=DATE:20220826
DTSTAMP:20260422T025436
CREATED:20220103T050022Z
LAST-MODIFIED:20220725T155131Z
UID:1013434-1661385600-1661471999@3wmagazine.com
SUMMARY:Sip & Savor
DESCRIPTION:Join Boys & Girls Club of Benton County for Sip & Savor! You can sip some beer\, wine\, spirits and savor some of best culinary bites in town! All while getting to party with a purpose! Come enjoy wine & spirit pulls\, games and support The Boys & Girls Club of Benton County! The event is located at 807 West Hudson Road in Rogers. For more details\, visit https://www.bgcbentoncounty.org/.
URL:https://3wmagazine.com/event/sip-and-savor-2022/
CATEGORIES:August,Sponsored
ATTACH;FMTTYPE=image/png:https://3wmagazine.com/wp-content/uploads/2022/01/Screen-Shot-2022-07-25-at-10.50.05-AM.png
END:VEVENT
BEGIN:VEVENT
DTSTART;VALUE=DATE:20220824
DTEND;VALUE=DATE:20220919
DTSTAMP:20260422T025436
CREATED:20220801T031539Z
LAST-MODIFIED:20220801T031555Z
UID:1014679-1661299200-1663545599@3wmagazine.com
SUMMARY:"It Came from Outer Space"
DESCRIPTION:When an astronomer encounters a spaceship in the desert\, everyone just laughs—until some townspeople start acting very strange. Are the aliens here to conquer the Earth? Or… do they come in peace? Full of music and laughs\, “It Came from Outer Space” is an out-of-this World Premiere with the Tony Award-winning Chicago Shakespeare Theater. For more information\, visit https://www.theatre2.org/.
URL:https://3wmagazine.com/event/it-came-from-outer-space-2022/
CATEGORIES:August,September,Sponsored
ATTACH;FMTTYPE=image/png:https://3wmagazine.com/wp-content/uploads/2022/01/22089747_10155801650525127_2749482366740514743_n.png
END:VEVENT
BEGIN:VEVENT
DTSTART;VALUE=DATE:20220823
DTEND;VALUE=DATE:20220824
DTSTAMP:20260422T025436
CREATED:20220517T171822Z
LAST-MODIFIED:20220728T165813Z
UID:1014180-1661212800-1661299199@3wmagazine.com
SUMMARY:Big Business Brunch
DESCRIPTION:The Big Business Brunch at 10 a.m. Aug. 23 at 21c Museum Hotel will feature Kristine Joji-Wood and Tasha Tandy. For more information\, visit https://www.bbbsnwa.org/.
URL:https://3wmagazine.com/event/big-business-brunch-august-2022/
LOCATION:21c Museum Hotel\, 200 NE A St.\, Bentonville\, AR\, 72712\, United States
CATEGORIES:August,Sponsored
ATTACH;FMTTYPE=image/png:https://3wmagazine.com/wp-content/uploads/2022/05/BBBSbrunchad3-copy.png
END:VEVENT
BEGIN:VEVENT
DTSTART;VALUE=DATE:20220819
DTEND;VALUE=DATE:20220823
DTSTAMP:20260422T025436
CREATED:20220707T175924Z
LAST-MODIFIED:20220801T020238Z
UID:1014548-1660867200-1661212799@3wmagazine.com
SUMMARY:NWA Challenge for Hope
DESCRIPTION:
URL:https://3wmagazine.com/event/nwa-challenge-for-hope-2022/
LOCATION:Pinnacle Country Club\, 3 S. Clubhouse Dr.\, Rogers\, AR\, 72758\, United States
CATEGORIES:August,Sponsored
ATTACH;FMTTYPE=image/png:https://3wmagazine.com/wp-content/uploads/2022/07/Three-event-CFH-Flyer-copy.png
END:VEVENT
BEGIN:VEVENT
DTSTART;VALUE=DATE:20220819
DTEND;VALUE=DATE:20220820
DTSTAMP:20260422T025436
CREATED:20220801T024910Z
LAST-MODIFIED:20220816T151535Z
UID:1014668-1660867200-1660953599@3wmagazine.com
SUMMARY:Las Faygas
DESCRIPTION:Save the Date for Las Faygas! This event\, organized by The C.A.R.E. Initiative and Saatchi & Saatchi X\, supports NWA organizations that help children who are victims of physical abuse\, sexual abuse and neglect. For more information\, contact careinitiative@saatchix.com. To purchase tickets\, visit https://tickets.waltonartscenter.org/24991/24992.
URL:https://3wmagazine.com/event/las-faygas-2022/
LOCATION:Walton Arts Center\, 495 W. Dickson St.\, Fayetteville\, AR\, 72701\, United States
CATEGORIES:August,Sponsored
ATTACH;FMTTYPE=image/jpeg:https://3wmagazine.com/wp-content/uploads/2022/07/294297039_10159093881038425_2248492585233279711_n.jpg
END:VEVENT
BEGIN:VEVENT
DTSTART;VALUE=DATE:20220813
DTEND;VALUE=DATE:20220814
DTSTAMP:20260422T025436
CREATED:20220725T153442Z
LAST-MODIFIED:20220725T153453Z
UID:1014626-1660348800-1660435199@3wmagazine.com
SUMMARY:Putt for Paws
DESCRIPTION:Join Humane Society of the Ozarks for a round of miniature golf at Lokomotion Family Fun Park. Then head over to Foghorn’s at Green Acres in Fayetteville for the “after party!” For more details\, visit https://hsozarks.org/.
URL:https://3wmagazine.com/event/putt-for-paws-2022/
CATEGORIES:August,Sponsored
ATTACH;FMTTYPE=image/jpeg:https://3wmagazine.com/wp-content/uploads/2022/07/292605101_10160032680820851_6095641581388298157_n.jpg
END:VEVENT
BEGIN:VEVENT
DTSTART;VALUE=DATE:20220811
DTEND;VALUE=DATE:20220815
DTSTAMP:20260422T025436
CREATED:20220103T050359Z
LAST-MODIFIED:20220701T052508Z
UID:1013440-1660176000-1660521599@3wmagazine.com
SUMMARY:"DISASTER!"
DESCRIPTION:It’s 1979\, and New York’s hottest A-listers are lining up for the opening of a floating casino and discotheque. Also attending is a faded disco star\, a sexy nightclub singer with her eleven-year-old twins\, a disaster expert\, a feminist reporter\, an older couple with a secret\, a pair of young guys who are looking for ladies\, an untrustworthy businessman and a nun with a gambling addiction. What begins as a night of boogie fever quickly changes to panic as the ship succumbs to multiple disasters\, such as earthquakes\, tidal waves and infernos. As the night turns into day\, everyone struggles to survive and\, quite possibly\, repair the love that they have lost… or at least escape the killer rats.  Audiences and critics are wild for this hilarious homage to the era of bell-bottoms\, platform shoes and the hustle. Featuring some of the most unforgettable songs of the ’70s. “Knock on Wood\,” “Hooked on a Feeling\,” “Sky High\,” “I Am Woman” and “Hot Stuff.” For more details\, visit https://www.arkansaspublictheatre.org/.
URL:https://3wmagazine.com/event/disaster-week-3-2022/
CATEGORIES:August,Sponsored
ATTACH;FMTTYPE=image/png:https://3wmagazine.com/wp-content/uploads/2022/01/IMG_9262.png
END:VEVENT
BEGIN:VEVENT
DTSTART;VALUE=DATE:20220811
DTEND;VALUE=DATE:20220812
DTSTAMP:20260422T025436
CREATED:20220103T045624Z
LAST-MODIFIED:20220801T030336Z
UID:1013431-1660176000-1660262399@3wmagazine.com
SUMMARY:Life Stages Summer Mixer
DESCRIPTION:Join NextUp Northwest Arkansas on Aug. 11 for a fun IN-PERSON night of networking with colleagues in similar life stages! You will get a chance to hear from panelists at various stages of their career paths and you will have a chance to continue the discussion in your specific life stage break out room. If that’s not enough\, there will also be swag bags\, drinks\, catering from The Grazed Board and raffle prizes. Register here: https://www.nextupisnow.org/events/event-calendar/summer-connect-2/.
URL:https://3wmagazine.com/event/life-stages-summer-mixer-2022/
CATEGORIES:August,Sponsored
ATTACH;FMTTYPE=image/jpeg:https://3wmagazine.com/wp-content/uploads/2022/07/IMG_9947.jpg
END:VEVENT
BEGIN:VEVENT
DTSTART;VALUE=DATE:20220809
DTEND;VALUE=DATE:20220815
DTSTAMP:20260422T025436
CREATED:20220728T164442Z
LAST-MODIFIED:20220728T164521Z
UID:1014650-1660003200-1660521599@3wmagazine.com
SUMMARY:"My Fair Lady"
DESCRIPTION:Boasting such classic songs as “I Could Have Danced All Night\,” “The Rain in Spain\,” “Wouldn’t It Be Loverly” and “On the Street Where You Live\,” “My Fair Lady” tells the story of Eliza Doolittle\, a young Cockney flower seller\, and Henry Higgins\, a linguistics professor who is determined to transform her into his idea of a “proper lady.” But who is really being transformed? For more details and tickets\, visit https://waltonartscenter.org/.
URL:https://3wmagazine.com/event/my-fair-lady-2022/
LOCATION:Walton Arts Center\, 495 W. Dickson St.\, Fayetteville\, AR\, 72701\, United States
CATEGORIES:August
ATTACH;FMTTYPE=image/png:https://3wmagazine.com/wp-content/uploads/2022/07/wac-logo-nav.png
END:VEVENT
BEGIN:VEVENT
DTSTART;VALUE=DATE:20220808
DTEND;VALUE=DATE:20220809
DTSTAMP:20260422T025436
CREATED:20220707T172833Z
LAST-MODIFIED:20220707T172859Z
UID:1014536-1659916800-1660003199@3wmagazine.com
SUMMARY:Beat the Heat Summer Swing Golf Tournament
DESCRIPTION:Kendrick Fincher Hydration for Life’s Beat the Heat Summer Swing Golf Tournament will be Aug. 8 at Lost Springs Golf & Athletic Club in Rogers. To register and for more details\, visit https://kendrickfincher.org/summer-golf-tournament/.
URL:https://3wmagazine.com/event/beat-the-heat-summer-swing-golf-tournament-2022/
LOCATION:Lost Springs Golf & Athletic Club\, 3024 N. 22nd St.\, Rogers\, AR\, 72756\, United States
CATEGORIES:August,Sponsored
ATTACH;FMTTYPE=image/png:https://3wmagazine.com/wp-content/uploads/2022/07/KFHL-Kids-Directory-Ad-2022-new-copy.png
END:VEVENT
BEGIN:VEVENT
DTSTART;VALUE=DATE:20220806
DTEND;VALUE=DATE:20220807
DTSTAMP:20260422T025436
CREATED:20220727T154545Z
LAST-MODIFIED:20220727T154645Z
UID:1014641-1659744000-1659830399@3wmagazine.com
SUMMARY:AIM for Advocacy Sporting Clays
DESCRIPTION:AIM for Advocacy Sporting Clays will be Aug. 6 at Spring Valley Rod and Gun Club. For more details\, visit https://www.restorationvillage.net/aim-for-advocacy-2022/.
URL:https://3wmagazine.com/event/aim-for-advocacy-sporting-clays-2022/
CATEGORIES:August
ATTACH;FMTTYPE=image/png:https://3wmagazine.com/wp-content/uploads/2022/07/Restoration-Village-LP-Header-AIM-061522-2-pqllvhj8tnyikhmgcp9zdh1kvqrvgju0lutdgk9ytk.png
END:VEVENT
BEGIN:VEVENT
DTSTART;VALUE=DATE:20220804
DTEND;VALUE=DATE:20220808
DTSTAMP:20260422T025436
CREATED:20220103T050203Z
LAST-MODIFIED:20220701T052756Z
UID:1013437-1659571200-1659916799@3wmagazine.com
SUMMARY:"DISASTER!"
DESCRIPTION:It’s 1979\, and New York’s hottest A-listers are lining up for the opening of a floating casino and discotheque. Also attending is a faded disco star\, a sexy nightclub singer with her eleven-year-old twins\, a disaster expert\, a feminist reporter\, an older couple with a secret\, a pair of young guys who are looking for ladies\, an untrustworthy businessman and a nun with a gambling addiction. What begins as a night of boogie fever quickly changes to panic as the ship succumbs to multiple disasters\, such as earthquakes\, tidal waves and infernos. As the night turns into day\, everyone struggles to survive and\, quite possibly\, repair the love that they have lost… or at least escape the killer rats.  Audiences and critics are wild for this hilarious homage to the era of bell-bottoms\, platform shoes and the hustle. Featuring some of the most unforgettable songs of the ’70s. “Knock on Wood\,” “Hooked on a Feeling\,” “Sky High\,” “I Am Woman” and “Hot Stuff.” For more details\, visit https://www.arkansaspublictheatre.org/.
URL:https://3wmagazine.com/event/disaster-week-2-2022/
CATEGORIES:August,Sponsored
ATTACH;FMTTYPE=image/png:https://3wmagazine.com/wp-content/uploads/2022/01/IMG_9262.png
END:VEVENT
END:VCALENDAR