BEGIN:VCALENDAR
VERSION:2.0
PRODID:-//3W Magazine - ECPv6.15.20//NONSGML v1.0//EN
CALSCALE:GREGORIAN
METHOD:PUBLISH
X-ORIGINAL-URL:https://3wmagazine.com
X-WR-CALDESC:Events for 3W Magazine
REFRESH-INTERVAL;VALUE=DURATION:PT1H
X-Robots-Tag:noindex
X-PUBLISHED-TTL:PT1H
BEGIN:VTIMEZONE
TZID:America/Denver
BEGIN:DAYLIGHT
TZOFFSETFROM:-0700
TZOFFSETTO:-0600
TZNAME:MDT
DTSTART:20220313T090000
END:DAYLIGHT
BEGIN:STANDARD
TZOFFSETFROM:-0600
TZOFFSETTO:-0700
TZNAME:MST
DTSTART:20221106T080000
END:STANDARD
BEGIN:DAYLIGHT
TZOFFSETFROM:-0700
TZOFFSETTO:-0600
TZNAME:MDT
DTSTART:20230312T090000
END:DAYLIGHT
BEGIN:STANDARD
TZOFFSETFROM:-0600
TZOFFSETTO:-0700
TZNAME:MST
DTSTART:20231105T080000
END:STANDARD
BEGIN:DAYLIGHT
TZOFFSETFROM:-0700
TZOFFSETTO:-0600
TZNAME:MDT
DTSTART:20240310T090000
END:DAYLIGHT
BEGIN:STANDARD
TZOFFSETFROM:-0600
TZOFFSETTO:-0700
TZNAME:MST
DTSTART:20241103T080000
END:STANDARD
BEGIN:DAYLIGHT
TZOFFSETFROM:-0700
TZOFFSETTO:-0600
TZNAME:MDT
DTSTART:20250309T090000
END:DAYLIGHT
BEGIN:STANDARD
TZOFFSETFROM:-0600
TZOFFSETTO:-0700
TZNAME:MST
DTSTART:20251102T080000
END:STANDARD
BEGIN:DAYLIGHT
TZOFFSETFROM:-0700
TZOFFSETTO:-0600
TZNAME:MDT
DTSTART:20260308T090000
END:DAYLIGHT
BEGIN:STANDARD
TZOFFSETFROM:-0600
TZOFFSETTO:-0700
TZNAME:MST
DTSTART:20261101T080000
END:STANDARD
END:VTIMEZONE
BEGIN:VEVENT
DTSTART;VALUE=DATE:20250207
DTEND;VALUE=DATE:20250208
DTSTAMP:20260422T013620
CREATED:20250108T054318Z
LAST-MODIFIED:20250108T054440Z
UID:1022290-1738886400-1738972799@3wmagazine.com
SUMMARY:Moonlight Masquerade
DESCRIPTION:
URL:https://3wmagazine.com/event/moonlight-masquerade-2025/
CATEGORIES:February
END:VEVENT
BEGIN:VEVENT
DTSTART;VALUE=DATE:20250202
DTEND;VALUE=DATE:20250203
DTSTAMP:20260422T013620
CREATED:20250108T054051Z
LAST-MODIFIED:20250108T054117Z
UID:1022287-1738454400-1738540799@3wmagazine.com
SUMMARY:Soup Sunday
DESCRIPTION:
URL:https://3wmagazine.com/event/soup-sunday-2025/
CATEGORIES:February
END:VEVENT
BEGIN:VEVENT
DTSTART;VALUE=DATE:20250201
DTEND;VALUE=DATE:20250202
DTSTAMP:20260422T013620
CREATED:20250108T053515Z
LAST-MODIFIED:20250108T053702Z
UID:1022283-1738368000-1738454399@3wmagazine.com
SUMMARY:Arkansas Gardening School
DESCRIPTION:
URL:https://3wmagazine.com/event/arkansas-gardening-school-2025/
CATEGORIES:February
END:VEVENT
BEGIN:VEVENT
DTSTART;VALUE=DATE:20250122
DTEND;VALUE=DATE:20250224
DTSTAMP:20260422T013620
CREATED:20250108T051124Z
LAST-MODIFIED:20250108T051355Z
UID:1022271-1737504000-1740355199@3wmagazine.com
SUMMARY:"Primary Trust"
DESCRIPTION:
URL:https://3wmagazine.com/event/primary-trust-2025/
CATEGORIES:February,January
END:VEVENT
BEGIN:VEVENT
DTSTART;VALUE=DATE:20240228
DTEND;VALUE=DATE:20240325
DTSTAMP:20260422T013620
CREATED:20240108T062012Z
LAST-MODIFIED:20240128T044143Z
UID:1018030-1709078400-1711324799@3wmagazine.com
SUMMARY:“Cambodian Rock Band”
DESCRIPTION:
URL:https://3wmagazine.com/event/cambodian-rock-band-2024/
CATEGORIES:February,March
ATTACH;FMTTYPE=image/png:https://3wmagazine.com/wp-content/uploads/2024/01/CambodianHighRez.png
END:VEVENT
BEGIN:VEVENT
DTSTART;VALUE=DATE:20240224
DTEND;VALUE=DATE:20240225
DTSTAMP:20260422T013620
CREATED:20240108T060427Z
LAST-MODIFIED:20240128T044031Z
UID:1018009-1708732800-1708819199@3wmagazine.com
SUMMARY:Barnstormer Bingo
DESCRIPTION:
URL:https://3wmagazine.com/event/barnstormer-bingo-2024/
CATEGORIES:February
ATTACH;FMTTYPE=image/jpeg:https://3wmagazine.com/wp-content/uploads/2024/01/417413224_859141359551848_2836961361783016528_n.jpg
END:VEVENT
BEGIN:VEVENT
DTSTART;VALUE=DATE:20240222
DTEND;VALUE=DATE:20240223
DTSTAMP:20260422T013620
CREATED:20240108T061810Z
LAST-MODIFIED:20240128T043948Z
UID:1018027-1708560000-1708646399@3wmagazine.com
SUMMARY:Network & Learn
DESCRIPTION:
URL:https://3wmagazine.com/event/network-learn-february-2024/
CATEGORIES:February
ATTACH;FMTTYPE=image/jpeg:https://3wmagazine.com/wp-content/uploads/2024/01/274202155_2214682475341002_1935135133593057766_n-1.jpg
END:VEVENT
BEGIN:VEVENT
DTSTART;VALUE=DATE:20240220
DTEND;VALUE=DATE:20240226
DTSTAMP:20260422T013620
CREATED:20240108T061552Z
LAST-MODIFIED:20240128T043902Z
UID:1018024-1708387200-1708905599@3wmagazine.com
SUMMARY:“Company”
DESCRIPTION:
URL:https://3wmagazine.com/event/company-2024/
CATEGORIES:February
ATTACH;FMTTYPE=image/jpeg:https://3wmagazine.com/wp-content/uploads/2024/01/380694690_709022814601355_1824001240821473098_n.jpg
END:VEVENT
BEGIN:VEVENT
DTSTART;VALUE=DATE:20240218
DTEND;VALUE=DATE:20240219
DTSTAMP:20260422T013620
CREATED:20240108T061348Z
LAST-MODIFIED:20240128T043820Z
UID:1018021-1708214400-1708300799@3wmagazine.com
SUMMARY:Soup Sunday
DESCRIPTION:
URL:https://3wmagazine.com/event/soup-sunday-2024/
CATEGORIES:February
ATTACH;FMTTYPE=image/jpeg:https://3wmagazine.com/wp-content/uploads/2024/01/420162624_771738508329181_4759675065368882608_n.jpg
END:VEVENT
BEGIN:VEVENT
DTSTART;VALUE=DATE:20240217
DTEND;VALUE=DATE:20240218
DTSTAMP:20260422T013620
CREATED:20240108T061041Z
LAST-MODIFIED:20240128T043722Z
UID:1018018-1708128000-1708214399@3wmagazine.com
SUMMARY:Home Brew Tasting & Competition
DESCRIPTION:
URL:https://3wmagazine.com/event/home-brew-tasting-competition-2024/
CATEGORIES:February
ATTACH;FMTTYPE=image/jpeg:https://3wmagazine.com/wp-content/uploads/2024/01/421467758_780998617395959_2438986797939048122_n.jpg
END:VEVENT
BEGIN:VEVENT
DTSTART;VALUE=DATE:20240216
DTEND;VALUE=DATE:20240217
DTSTAMP:20260422T013620
CREATED:20240108T060842Z
LAST-MODIFIED:20240128T043643Z
UID:1018015-1708041600-1708127999@3wmagazine.com
SUMMARY:“Can you SPARE a Dime for Teachers?” Bowling Tournament
DESCRIPTION:
URL:https://3wmagazine.com/event/can-you-spare-a-dime-for-teachers-bowling-tournament-2024/
CATEGORIES:February
ATTACH;FMTTYPE=image/jpeg:https://3wmagazine.com/wp-content/uploads/2024/01/393750046_758702636295959_728042406941619321_n-1.jpg
END:VEVENT
BEGIN:VEVENT
DTSTART;VALUE=DATE:20240216
DTEND;VALUE=DATE:20240217
DTSTAMP:20260422T013620
CREATED:20240108T060621Z
LAST-MODIFIED:20240128T043601Z
UID:1018012-1708041600-1708127999@3wmagazine.com
SUMMARY:Northwest Arkansas Heart Ball
DESCRIPTION:
URL:https://3wmagazine.com/event/northwest-arkansas-heart-ball-2024/
CATEGORIES:February
ATTACH;FMTTYPE=image/png:https://3wmagazine.com/wp-content/uploads/2024/01/thumbnail_image002.png
END:VEVENT
BEGIN:VEVENT
DTSTART;VALUE=DATE:20240210
DTEND;VALUE=DATE:20240211
DTSTAMP:20260422T013620
CREATED:20240108T060301Z
LAST-MODIFIED:20240128T043522Z
UID:1018006-1707523200-1707609599@3wmagazine.com
SUMMARY:Masquerade Ball
DESCRIPTION:
URL:https://3wmagazine.com/event/masquerade-ball-2024/
CATEGORIES:February
ATTACH;FMTTYPE=image/png:https://3wmagazine.com/wp-content/uploads/2024/01/Screen-Shot-2024-01-25-at-3.18.34-PM.png
END:VEVENT
BEGIN:VEVENT
DTSTART;VALUE=DATE:20240210
DTEND;VALUE=DATE:20240211
DTSTAMP:20260422T013620
CREATED:20240108T055918Z
LAST-MODIFIED:20240128T043440Z
UID:1018003-1707523200-1707609599@3wmagazine.com
SUMMARY:Valentines 4K/8K
DESCRIPTION:
URL:https://3wmagazine.com/event/valentines-4k-8k-2024/
CATEGORIES:February
ATTACH;FMTTYPE=image/png:https://3wmagazine.com/wp-content/uploads/2024/01/ResizedImageWzYwMCw2MDBd-ValentinesDayRace-2024-CMYK-TransparentBackground.png
END:VEVENT
BEGIN:VEVENT
DTSTART;VALUE=DATE:20240209
DTEND;VALUE=DATE:20240210
DTSTAMP:20260422T013620
CREATED:20240108T055805Z
LAST-MODIFIED:20240128T043404Z
UID:1018000-1707436800-1707523199@3wmagazine.com
SUMMARY:Moonlight Masquerade
DESCRIPTION:
URL:https://3wmagazine.com/event/moonlight-masquerade-2024/
CATEGORIES:February
ATTACH;FMTTYPE=image/jpeg:https://3wmagazine.com/wp-content/uploads/2024/01/396970721_18399549571000223_1199076630073984620_n.jpg
END:VEVENT
BEGIN:VEVENT
DTSTART;VALUE=DATE:20240208
DTEND;VALUE=DATE:20240209
DTSTAMP:20260422T013620
CREATED:20240108T055628Z
LAST-MODIFIED:20240128T043326Z
UID:1017997-1707350400-1707436799@3wmagazine.com
SUMMARY:Art on the Bricks Art Walk
DESCRIPTION:
URL:https://3wmagazine.com/event/art-on-the-bricks-art-walk-february-2024/
CATEGORIES:February
ATTACH;FMTTYPE=image/jpeg:https://3wmagazine.com/wp-content/uploads/2024/01/323356068_567759854788324_3457295492195720611_n.jpg
END:VEVENT
BEGIN:VEVENT
DTSTART;VALUE=DATE:20240208
DTEND;VALUE=DATE:20240209
DTSTAMP:20260422T013620
CREATED:20240108T055444Z
LAST-MODIFIED:20240128T043235Z
UID:1017994-1707350400-1707436799@3wmagazine.com
SUMMARY:Ooh! La\, la! A Chocolate and Wine Pairing Dinner
DESCRIPTION:
URL:https://3wmagazine.com/event/ooh-la-la-a-chocolate-and-wine-pairing-dinner-2024/
CATEGORIES:February
ATTACH;FMTTYPE=image/jpeg:https://3wmagazine.com/wp-content/uploads/2024/01/418520003_761915699303365_4950259003302001063_n.jpg
END:VEVENT
BEGIN:VEVENT
DTSTART;VALUE=DATE:20240207
DTEND;VALUE=DATE:20240208
DTSTAMP:20260422T013620
CREATED:20240123T185326Z
LAST-MODIFIED:20240128T043154Z
UID:1018733-1707264000-1707350399@3wmagazine.com
SUMMARY:Power of Inclusion
DESCRIPTION:
URL:https://3wmagazine.com/event/power-of-inclusion-2024/
CATEGORIES:February,Sponsored
ATTACH;FMTTYPE=image/png:https://3wmagazine.com/wp-content/uploads/2024/01/418825865_684684320499684_7621178244578491780_n.png
END:VEVENT
BEGIN:VEVENT
DTSTART;VALUE=DATE:20240203
DTEND;VALUE=DATE:20240204
DTSTAMP:20260422T013620
CREATED:20240108T055316Z
LAST-MODIFIED:20240128T043110Z
UID:1017991-1706918400-1707004799@3wmagazine.com
SUMMARY:All In Casino Night
DESCRIPTION:
URL:https://3wmagazine.com/event/all-in-casino-night-2024/
CATEGORIES:February
ATTACH;FMTTYPE=image/jpeg:https://3wmagazine.com/wp-content/uploads/2024/01/381397016_703992845106229_747351431710467895_n.jpg
END:VEVENT
BEGIN:VEVENT
DTSTART;VALUE=DATE:20240202
DTEND;VALUE=DATE:20240203
DTSTAMP:20260422T013620
CREATED:20240108T055139Z
LAST-MODIFIED:20240128T042928Z
UID:1017988-1706832000-1706918399@3wmagazine.com
SUMMARY:Miracles & Magic Radiothon
DESCRIPTION:
URL:https://3wmagazine.com/event/miracles-magic-radiothon-2024/
CATEGORIES:February
ATTACH;FMTTYPE=image/jpeg:https://3wmagazine.com/wp-content/uploads/2024/01/421449483_790122079821005_2744468703085737930_n.jpg
END:VEVENT
BEGIN:VEVENT
DTSTART;VALUE=DATE:20240124
DTEND;VALUE=DATE:20240304
DTSTAMP:20260422T013620
CREATED:20240108T054917Z
LAST-MODIFIED:20240128T043022Z
UID:1017985-1706054400-1709510399@3wmagazine.com
SUMMARY:“What the Constitution Means to Me”
DESCRIPTION:
URL:https://3wmagazine.com/event/what-the-constitution-means-to-me-2024/
CATEGORIES:February,January,March
ATTACH;FMTTYPE=image/jpeg:https://3wmagazine.com/wp-content/uploads/2024/01/414706200_18403774234039336_5701947459300230752_n.jpg
END:VEVENT
BEGIN:VEVENT
DTSTART;VALUE=DATE:20230225
DTEND;VALUE=DATE:20230226
DTSTAMP:20260422T013620
CREATED:20230110T184448Z
LAST-MODIFIED:20230130T193417Z
UID:1015316-1677283200-1677369599@3wmagazine.com
SUMMARY:“Can you SPARE a Dime for Teachers?” Bowling Event
DESCRIPTION:Join the Rogers Public Education Foundation at the Rogers Bowling Center on Feb. 25 for a little friendly competition and a lot of fun\, while raising money for teacher grants for the Rogers Public Schools. Prizes will go to the top teams\, best spirit and more! The first round will be a team competition and the second round will be strictly for fun. School competitions will take place from 10 a.m. to 12:15 p.m. Family bowling will be from 12:30-1:30 p.m. and community bowling will begin at 2 p.m. For more details\, visit https://rogerspef.org/.
URL:https://3wmagazine.com/event/can-you-spare-a-dime-for-teachers-bowling-event-2023/
LOCATION:Rogers Bowling Center\, 3500 W. Walnut St.\, Rogers\, AR\, 72756\, United States
CATEGORIES:February,Sponsored
ATTACH;FMTTYPE=image/jpeg:https://3wmagazine.com/wp-content/uploads/2023/01/326043040_647199490741540_7036392917433974300_n.jpg
END:VEVENT
BEGIN:VEVENT
DTSTART;VALUE=DATE:20230225
DTEND;VALUE=DATE:20230226
DTSTAMP:20260422T013620
CREATED:20230110T184206Z
LAST-MODIFIED:20230130T192758Z
UID:1015313-1677283200-1677369599@3wmagazine.com
SUMMARY:A Knight to Remember
DESCRIPTION:
URL:https://3wmagazine.com/event/a-knight-to-remember-2023/
CATEGORIES:February,Sponsored
ATTACH;FMTTYPE=image/jpeg:https://3wmagazine.com/wp-content/uploads/2023/01/324243577_1216765545715091_2784370094073296945_n.jpg
END:VEVENT
BEGIN:VEVENT
DTSTART;VALUE=DATE:20230225
DTEND;VALUE=DATE:20230226
DTSTAMP:20260422T013620
CREATED:20230110T184018Z
LAST-MODIFIED:20230110T184034Z
UID:1015310-1677283200-1677369599@3wmagazine.com
SUMMARY:Masquerade Ball
DESCRIPTION:
URL:https://3wmagazine.com/event/masquerade-ball-2023/
LOCATION:Walton Arts Center\, 495 W. Dickson St.\, Fayetteville\, AR\, 72701\, United States
CATEGORIES:February
END:VEVENT
BEGIN:VEVENT
DTSTART;VALUE=DATE:20230224
DTEND;VALUE=DATE:20230225
DTSTAMP:20260422T013620
CREATED:20230110T183833Z
LAST-MODIFIED:20230110T183847Z
UID:1015307-1677196800-1677283199@3wmagazine.com
SUMMARY:Northwest Arkansas Heart Ball
DESCRIPTION:
URL:https://3wmagazine.com/event/northwest-arkansas-heart-ball-2023/
CATEGORIES:February
END:VEVENT
BEGIN:VEVENT
DTSTART;VALUE=DATE:20230223
DTEND;VALUE=DATE:20230227
DTSTAMP:20260422T013620
CREATED:20230111T180120Z
LAST-MODIFIED:20230111T180159Z
UID:1015880-1677110400-1677455999@3wmagazine.com
SUMMARY:"Little Shop of Horrors"
DESCRIPTION:
URL:https://3wmagazine.com/event/little-shop-of-horrors-week-3-2023/
LOCATION:Arkansas Public Theatre\, 116 S. Second St.\, Rogers\, AR\, 72756\, United States
CATEGORIES:February,Sponsored
ATTACH;FMTTYPE=image/png:https://3wmagazine.com/wp-content/uploads/2023/01/LSH-Banner-copy-1.png
END:VEVENT
BEGIN:VEVENT
DTSTART;VALUE=DATE:20230223
DTEND;VALUE=DATE:20230224
DTSTAMP:20260422T013620
CREATED:20230110T183645Z
LAST-MODIFIED:20230130T192444Z
UID:1015304-1677110400-1677196799@3wmagazine.com
SUMMARY:Give Kids a Miracle Telethon
DESCRIPTION:
URL:https://3wmagazine.com/event/give-kids-a-miracle-telethon-2023/
CATEGORIES:February,Sponsored
ATTACH;FMTTYPE=image/png:https://3wmagazine.com/wp-content/uploads/2023/01/ark-logo.png
END:VEVENT
BEGIN:VEVENT
DTSTART;VALUE=DATE:20230221
DTEND;VALUE=DATE:20230222
DTSTAMP:20260422T013620
CREATED:20230110T183503Z
LAST-MODIFIED:20230214T172612Z
UID:1015301-1676937600-1677023999@3wmagazine.com
SUMMARY:Handprints for Hope Luncheon
DESCRIPTION:
URL:https://3wmagazine.com/event/handprints-for-hope-luncheon-2023/
CATEGORIES:February,Sponsored
ATTACH;FMTTYPE=image/png:https://3wmagazine.com/wp-content/uploads/2023/02/LUNCH_20INVITE_20_281080_20_C3_97_201920_20px_29_20_281_29.png
END:VEVENT
BEGIN:VEVENT
DTSTART;VALUE=DATE:20230220
DTEND;VALUE=DATE:20230221
DTSTAMP:20260422T013620
CREATED:20230222T164948Z
LAST-MODIFIED:20230222T164948Z
UID:1016067-1676851200-1676937599@3wmagazine.com
SUMMARY:Arts Live Theatre Spring Classes 2023
DESCRIPTION:Arts Live Theatre is gearing up for spring! Classes are available for ages 4-5\, 6-8\, 9-12\, and 13-18 years old. ALT offers classes like SHREK\, PAW PATROL\, WINNIE THE POOH EXPLORERS\, SUPERHEROES\, TWISTED FAIRY TALES\, WAYS OF THE WIZARDING WORLD\, THEATRE GAMES\, COMEDY IMPROV\, and more! Classes begin the week of February 20 and run for 8 weeks. Teaching Artists are theatre professionals and educators. For more information and to register\, please visit www.artslivetheatre.com today.
URL:https://3wmagazine.com/event/arts-live-theatre-spring-classes-2023/
CATEGORIES:February
ATTACH;FMTTYPE=image/png:https://3wmagazine.com/wp-content/uploads/2023/02/thumbnail_Spring-classes-tile-2023-sm.png
END:VEVENT
BEGIN:VEVENT
DTSTART;VALUE=DATE:20230218
DTEND;VALUE=DATE:20230219
DTSTAMP:20260422T013620
CREATED:20230110T182850Z
LAST-MODIFIED:20230130T191901Z
UID:1015298-1676678400-1676764799@3wmagazine.com
SUMMARY:Mardi Gras in the Garden District
DESCRIPTION:
URL:https://3wmagazine.com/event/mardi-gras-in-the-garden-district-2023/
LOCATION:Botanical Garden of the Ozarks\, 4703 N. Crossover Rd.\, Fayetteville\, AR\, 72764\, United States
CATEGORIES:February,Sponsored
ATTACH;FMTTYPE=image/png:https://3wmagazine.com/wp-content/uploads/2019/01/BGO-calendar-logo.png
END:VEVENT
END:VCALENDAR