BEGIN:VCALENDAR
VERSION:2.0
PRODID:-//3W Magazine - ECPv6.15.20//NONSGML v1.0//EN
CALSCALE:GREGORIAN
METHOD:PUBLISH
X-ORIGINAL-URL:https://3wmagazine.com
X-WR-CALDESC:Events for 3W Magazine
REFRESH-INTERVAL;VALUE=DURATION:PT1H
X-Robots-Tag:noindex
X-PUBLISHED-TTL:PT1H
BEGIN:VTIMEZONE
TZID:America/Denver
BEGIN:DAYLIGHT
TZOFFSETFROM:-0700
TZOFFSETTO:-0600
TZNAME:MDT
DTSTART:20200308T090000
END:DAYLIGHT
BEGIN:STANDARD
TZOFFSETFROM:-0600
TZOFFSETTO:-0700
TZNAME:MST
DTSTART:20201101T080000
END:STANDARD
BEGIN:DAYLIGHT
TZOFFSETFROM:-0700
TZOFFSETTO:-0600
TZNAME:MDT
DTSTART:20210314T090000
END:DAYLIGHT
BEGIN:STANDARD
TZOFFSETFROM:-0600
TZOFFSETTO:-0700
TZNAME:MST
DTSTART:20211107T080000
END:STANDARD
BEGIN:DAYLIGHT
TZOFFSETFROM:-0700
TZOFFSETTO:-0600
TZNAME:MDT
DTSTART:20220313T090000
END:DAYLIGHT
BEGIN:STANDARD
TZOFFSETFROM:-0600
TZOFFSETTO:-0700
TZNAME:MST
DTSTART:20221106T080000
END:STANDARD
END:VTIMEZONE
BEGIN:VEVENT
DTSTART;VALUE=DATE:20211117
DTEND;VALUE=DATE:20211213
DTSTAMP:20260425T074016
CREATED:20211028T155652Z
LAST-MODIFIED:20211028T155712Z
UID:1013043-1637107200-1639353599@3wmagazine.com
SUMMARY:"Marie and Rosetta"
DESCRIPTION:Born in Cotton Plant\, Arkansas\, Sister Rosetta Tharpe became a legend\, bringing fierce guitar and swing to gospel music – and blazing a path for Elvis Presley\, Johnny Cash\, Jimi Hendrix and Ray Charles. “Marie and Rosetta” chronicles her first rehearsal with a young protégée\, Marie Knight\, as they prepare for the tour that would establish them as one of the great duos in music history. For more details\, visit https://www.theatre2.org.
URL:https://3wmagazine.com/event/marie-and-rosetta-2021/
CATEGORIES:December,November,Sponsored
END:VEVENT
END:VCALENDAR