BEGIN:VCALENDAR
VERSION:2.0
PRODID:-//3W Magazine - ECPv6.15.20//NONSGML v1.0//EN
CALSCALE:GREGORIAN
METHOD:PUBLISH
X-WR-CALNAME:3W Magazine
X-ORIGINAL-URL:https://3wmagazine.com
X-WR-CALDESC:Events for 3W Magazine
REFRESH-INTERVAL;VALUE=DURATION:PT1H
X-Robots-Tag:noindex
X-PUBLISHED-TTL:PT1H
BEGIN:VTIMEZONE
TZID:America/Denver
BEGIN:DAYLIGHT
TZOFFSETFROM:-0700
TZOFFSETTO:-0600
TZNAME:MDT
DTSTART:20190310T090000
END:DAYLIGHT
BEGIN:STANDARD
TZOFFSETFROM:-0600
TZOFFSETTO:-0700
TZNAME:MST
DTSTART:20191103T080000
END:STANDARD
BEGIN:DAYLIGHT
TZOFFSETFROM:-0700
TZOFFSETTO:-0600
TZNAME:MDT
DTSTART:20200308T090000
END:DAYLIGHT
BEGIN:STANDARD
TZOFFSETFROM:-0600
TZOFFSETTO:-0700
TZNAME:MST
DTSTART:20201101T080000
END:STANDARD
BEGIN:DAYLIGHT
TZOFFSETFROM:-0700
TZOFFSETTO:-0600
TZNAME:MDT
DTSTART:20210314T090000
END:DAYLIGHT
BEGIN:STANDARD
TZOFFSETFROM:-0600
TZOFFSETTO:-0700
TZNAME:MST
DTSTART:20211107T080000
END:STANDARD
END:VTIMEZONE
BEGIN:VEVENT
DTSTART;VALUE=DATE:20200225
DTEND;VALUE=DATE:20200302
DTSTAMP:20260424T060849
CREATED:20191218T210833Z
LAST-MODIFIED:20200121T171255Z
UID:1009434-1582588800-1583107199@3wmagazine.com
SUMMARY:Ann
DESCRIPTION:“Ann” is the inspiring and hilarious story of a captivating woman who was even bigger than the state from which she hailed: Ann Richards\, former governor of Texas. This acclaimed\, one-woman tour-de-force brings the charismatic and storied former governor of Texas into TheatreSquared’s most intimate new space. For more details\, visit www.theatre2.org.
URL:https://3wmagazine.com/event/ann-week-2-2020/
LOCATION:TheatreSquared\, 477 W. Spring St.\, Fayetteville\, AR\, 72701\, United States
CATEGORIES:February,Happenings,March,Sponsored
ATTACH;FMTTYPE=image/jpeg:https://3wmagazine.com/wp-content/uploads/2020/01/Show-Website-Page-Header-Ann-1920x1080-2-e1579626666492.jpg
END:VEVENT
BEGIN:VEVENT
DTSTART;TZID=America/Denver:20200301T170000
DTEND;TZID=America/Denver:20200301T183000
DTSTAMP:20260424T060849
CREATED:20191218T181605Z
LAST-MODIFIED:20200121T162113Z
UID:1009393-1583082000-1583087400@3wmagazine.com
SUMMARY:2020/21 TheatreSquared Season Unveiling
DESCRIPTION:Join T2 Artistic Director Robert Ford and Executive Director Martin Miller as they reveal the 2020/21 season. Hors d’oeuvres and appetizers will be served with wine tastings and local craft beer. For more details\, visit www.theatre2.org.
URL:https://3wmagazine.com/event/2020-21-theatresquared-season-unveiling/
LOCATION:TheatreSquared\, 477 W. Spring St.\, Fayetteville\, AR\, 72701\, United States
CATEGORIES:Happenings,March,Sponsored
ATTACH;FMTTYPE=image/png:https://3wmagazine.com/wp-content/uploads/2019/12/TheatreSquared-2020-calendar-logo.png
END:VEVENT
BEGIN:VEVENT
DTSTART;VALUE=DATE:20200303
DTEND;VALUE=DATE:20200309
DTSTAMP:20260424T060849
CREATED:20191218T211058Z
LAST-MODIFIED:20200121T171448Z
UID:1009436-1583193600-1583711999@3wmagazine.com
SUMMARY:Ann
DESCRIPTION:“Ann” is the inspiring and hilarious story of a captivating woman who was even bigger than the state from which she hailed: Ann Richards\, former governor of Texas. This acclaimed\, one-woman tour-de-force brings the charismatic and storied former governor of Texas into TheatreSquared’s most intimate new space. For more details\, visit www.theatre2.org.
URL:https://3wmagazine.com/event/ann-week-3-2020/
LOCATION:TheatreSquared\, 477 W. Spring St.\, Fayetteville\, AR\, 72701\, United States
CATEGORIES:Happenings,March,Sponsored
ATTACH;FMTTYPE=image/jpeg:https://3wmagazine.com/wp-content/uploads/2020/01/Show-Website-Page-Header-Ann-1920x1080-2-e1579626666492.jpg
END:VEVENT
BEGIN:VEVENT
DTSTART;VALUE=DATE:20200307
DTEND;VALUE=DATE:20200308
DTSTAMP:20260424T060849
CREATED:20200106T161800Z
LAST-MODIFIED:20200106T161800Z
UID:1009453-1583539200-1583625599@3wmagazine.com
SUMMARY:Starlight Gala
DESCRIPTION:Enjoy a night of elegance and entertainment at the Starlight Gala at the John Q. Hammons Center. Proceeds from the gala will enhance the lives of abused and neglected children. For more details\, visit www.nwacs.org.
URL:https://3wmagazine.com/event/starlight-gala-2020/
LOCATION:John Q. Hammons Center\, 3303 S. Pinnacle Hills Pkwy.\, Rogers\, AR\, 72758\, United States
CATEGORIES:Happenings,March,Sponsored
ATTACH;FMTTYPE=image/png:https://3wmagazine.com/wp-content/uploads/2020/01/NWACS-Starlight-Gala-2020-calendar-logo.png
END:VEVENT
BEGIN:VEVENT
DTSTART;TZID=America/Denver:20200307T180000
DTEND;TZID=America/Denver:20200307T180000
DTSTAMP:20260424T060849
CREATED:20200106T162128Z
LAST-MODIFIED:20200220T195245Z
UID:1009456-1583604000-1583604000@3wmagazine.com
SUMMARY:Spring Party
DESCRIPTION:Bid on amazing live and silent auction items\, enjoy delicious food and dance the night away at this all-school event. Visit www.thenewschool.org/springparty for details.
URL:https://3wmagazine.com/event/spring-party-2020/
LOCATION:Graduate Fayetteville\, 70 N. East Ave.\, Fayetteville\, AR\, 72701\, United States
CATEGORIES:Happenings,March,Sponsored
ATTACH;FMTTYPE=image/jpeg:https://3wmagazine.com/wp-content/uploads/2020/01/84857011_10158006554323044_1533714997287321600_o-e1582228169161.jpg
END:VEVENT
BEGIN:VEVENT
DTSTART;VALUE=DATE:20200310
DTEND;VALUE=DATE:20200316
DTSTAMP:20260424T060849
CREATED:20191218T211324Z
LAST-MODIFIED:20200313T180351Z
UID:1009438-1583798400-1584316799@3wmagazine.com
SUMMARY:***RESCHEDULED TO AUG. 19 TO SEPT. 27*** - Ann
DESCRIPTION:***RESCHEDULED TO AUG. 19 TO SEPT. 27*** – “Ann” is the inspiring and hilarious story of a captivating woman who was even bigger than the state from which she hailed: Ann Richards\, former governor of Texas. This acclaimed\, one-woman tour-de-force brings the charismatic and storied former governor of Texas into TheatreSquared’s most intimate new space. For more details\, visit www.theatre2.org.
URL:https://3wmagazine.com/event/ann-week-4-2020/
LOCATION:TheatreSquared\, 477 W. Spring St.\, Fayetteville\, AR\, 72701\, United States
CATEGORIES:Happenings,March,Sponsored
ATTACH;FMTTYPE=image/jpeg:https://3wmagazine.com/wp-content/uploads/2020/01/Show-Website-Page-Header-Ann-1920x1080-2-e1579626666492.jpg
END:VEVENT
BEGIN:VEVENT
DTSTART;VALUE=DATE:20200311
DTEND;VALUE=DATE:20200312
DTSTAMP:20260424T060849
CREATED:20200106T162653Z
LAST-MODIFIED:20200106T162653Z
UID:1009460-1583884800-1583971199@3wmagazine.com
SUMMARY:Celebration Luncheon
DESCRIPTION:This luncheon at the Fayetteville Town Center celebrates the successes of Life Styles\, Inc.\, clients\, staff and community partners. For details\, visit www.lifestylesinc.org.
URL:https://3wmagazine.com/event/celebration-luncheon-2020/
LOCATION:Fayetteville Town Center\, 15 West Mountain\, Fayetteville\, AR\, 72701\, United States
CATEGORIES:Happenings,Luncheon,March,Sponsored
ATTACH;FMTTYPE=image/png:https://3wmagazine.com/wp-content/uploads/2018/12/Life-Styles-Inc.-calendar-logo.png
END:VEVENT
BEGIN:VEVENT
DTSTART;VALUE=DATE:20200314
DTEND;VALUE=DATE:20200315
DTSTAMP:20260424T060849
CREATED:20200106T165444Z
LAST-MODIFIED:20200313T171312Z
UID:1009472-1584144000-1584230399@3wmagazine.com
SUMMARY:***POSTPONED*** - Nutty Runner 5K
DESCRIPTION:***POSTPONED*** – If you enjoy craft beer and exercising outdoors for a good cause\, the Nutty Runner 5K is for you! At every mile\, runners can enjoy a pint of Nutty Runner Nut-Brown Ale courtesy of Columbus House Brewery – one of Fayetteville’s favorite local hangs. The route will wind through our fair city’s historic downtown and into some of our most scenic neighborhoods. In true Fayetteville fashion\, there will be hills. But just follow the Nutty Runner race mantra and put “mind over hangover” and you’ll be just fine. For the more cautious souls who don’t feel the need to drink and run\, there’s the Designated Driver division. However you choose to participate\, there will be additional beer\, shirts\, and merch available for purchase during the post-race festivities. It’s a guaranteed good time for all. For more information\, visit www.nuttyrunner5k.com.
URL:https://3wmagazine.com/event/nutty-runner-5k-2020/
LOCATION:Columbus House Brewery\, 701 W North St\, Fayetteville\, AR\, 72701
CATEGORIES:Happenings,March,Sponsored
ATTACH;FMTTYPE=image/png:https://3wmagazine.com/wp-content/uploads/2020/01/Main-Lockup-01-e1581352592643.png
END:VEVENT
BEGIN:VEVENT
DTSTART;VALUE=DATE:20200317
DTEND;VALUE=DATE:20200323
DTSTAMP:20260424T060849
CREATED:20191218T214043Z
LAST-MODIFIED:20200313T180451Z
UID:1009444-1584403200-1584921599@3wmagazine.com
SUMMARY:***RESCHEDULED TO AUG. 19 TO SEPT. 27*** - Ann
DESCRIPTION:***RESCHEDULED TO AUG. 19 TO SEPT. 27*** – “Ann” is the inspiring and hilarious story of a captivating woman who was even bigger than the state from which she hailed: Ann Richards\, former governor of Texas. This acclaimed\, one-woman tour-de-force brings the charismatic and storied former governor of Texas into TheatreSquared’s most intimate new space. For more details\, visit www.theatre2.org.
URL:https://3wmagazine.com/event/ann-week-5-2020/
LOCATION:TheatreSquared\, 477 W. Spring St.\, Fayetteville\, AR\, 72701\, United States
CATEGORIES:Happenings,March,Sponsored
ATTACH;FMTTYPE=image/jpeg:https://3wmagazine.com/wp-content/uploads/2020/01/Show-Website-Page-Header-Ann-1920x1080-2-e1579626666492.jpg
END:VEVENT
BEGIN:VEVENT
DTSTART;VALUE=DATE:20200324
DTEND;VALUE=DATE:20200330
DTSTAMP:20260424T060849
CREATED:20200228T202017Z
LAST-MODIFIED:20200313T180544Z
UID:1010052-1585008000-1585526399@3wmagazine.com
SUMMARY:***RESCHEDULED TO AUG. 19 TO SEPT. 27*** - Ann
DESCRIPTION:***RESCHEDULED TO AUG. 19 TO SEPT. 27*** – “Ann” is the inspiring and hilarious story of a captivating woman who was even bigger than the state from which she hailed: Ann Richards\, former governor of Texas. This acclaimed\, one-woman tour-de-force brings the charismatic and storied former governor of Texas into TheatreSquared’s most intimate new space. For more details\, visit www.theatre2.org.
URL:https://3wmagazine.com/event/ann-week-6-2020/
LOCATION:TheatreSquared\, 477 W. Spring St.\, Fayetteville\, AR\, 72701\, United States
CATEGORIES:Happenings,March,Sponsored
ATTACH;FMTTYPE=image/jpeg:https://3wmagazine.com/wp-content/uploads/2020/02/76695273_10157799606395127_592545572330668032_o-e1583344003973.jpg
END:VEVENT
BEGIN:VEVENT
DTSTART;VALUE=DATE:20200328
DTEND;VALUE=DATE:20200329
DTSTAMP:20260424T060849
CREATED:20200106T171051Z
LAST-MODIFIED:20200317T173603Z
UID:1009484-1585353600-1585439999@3wmagazine.com
SUMMARY:***POSTPONED*** - Janet's Legacy Ride
DESCRIPTION:***POSTPONED*** – ALS Association invites you on a trail ride to celebrate the life of Janet Glenn and help in the fight to end ALS. For more information\, visit www.als-arkansas.org.
URL:https://3wmagazine.com/event/janets-legacy-ride-2020/
CATEGORIES:Happenings,March,Sponsored
ATTACH;FMTTYPE=image/png:https://3wmagazine.com/wp-content/uploads/2018/12/ALS-Association-calendar-logo.png
END:VEVENT
BEGIN:VEVENT
DTSTART;VALUE=DATE:20200328
DTEND;VALUE=DATE:20200329
DTSTAMP:20260424T060849
CREATED:20200213T182249Z
LAST-MODIFIED:20200312T164209Z
UID:1009972-1585353600-1585439999@3wmagazine.com
SUMMARY:***POSTPONED*** -                   Toss Out Hunger Cornhole Tournament
DESCRIPTION:***POSTPONED*** – Toss Out Hunger Cornhole Tournament will be March 28 at the Thompson building at Washington County Fairgrounds in Fayetteville. Registration begins at 1 p.m.\, tournament begins at 2 p.m. and bingo starts at 2:30 p.m. Proceeds from the event benefit NWA Food Bank. Preregistration required before March 20. To register teams\, visit http://bidpal.net/tossouthunger. For more information on NWA Food Bank\, visit www.nwafoodbank.org.
URL:https://3wmagazine.com/event/toss-out-hunger-cornhole-tournament-2020/
LOCATION:Washington County Fairgrounds\, 2536 N McConnell Ave\, Fayetteville\, AR\, United States
CATEGORIES:Happenings,March,Sponsored
ATTACH;FMTTYPE=image/png:https://3wmagazine.com/wp-content/uploads/2020/02/Screen-Shot-2020-02-13-at-11.59.15-AM-e1581618150794.png
END:VEVENT
BEGIN:VEVENT
DTSTART;TZID=America/Denver:20200328T100000
DTEND;TZID=America/Denver:20200328T160000
DTSTAMP:20260424T060849
CREATED:20200106T172256Z
LAST-MODIFIED:20200317T190032Z
UID:1009488-1585389600-1585411200@3wmagazine.com
SUMMARY:***POSTPONED*** - Kite Festival
DESCRIPTION:***POSTPONED*** – Enjoy high-flying fun for the whole family at the Kite Festival at the Turpentine Creek Wildlife Refuge. Bring your own kite or make one on-site with the experts from KaleidoKites. For more details\, visit www.tcwr.org.
URL:https://3wmagazine.com/event/art-with-an-altitude-kite-festival-2020/
LOCATION:Turpentine Creek Wildlife Refuge\, 239 Turpentine Creek Lane\, Eureka Springs\, AR\, 72632\, United States
CATEGORIES:Family-Friendly,Happenings,March,Sponsored
ATTACH;FMTTYPE=image/jpeg:https://3wmagazine.com/wp-content/uploads/2020/01/TCWR-2020-Kite-Festival-Flyer-FRONT-Final-e1581626261164.jpg
END:VEVENT
END:VCALENDAR