BEGIN:VCALENDAR
VERSION:2.0
PRODID:-//3W Magazine - ECPv6.15.20//NONSGML v1.0//EN
CALSCALE:GREGORIAN
METHOD:PUBLISH
X-WR-CALNAME:3W Magazine
X-ORIGINAL-URL:https://3wmagazine.com
X-WR-CALDESC:Events for 3W Magazine
REFRESH-INTERVAL;VALUE=DURATION:PT1H
X-Robots-Tag:noindex
X-PUBLISHED-TTL:PT1H
BEGIN:VTIMEZONE
TZID:America/Denver
BEGIN:DAYLIGHT
TZOFFSETFROM:-0700
TZOFFSETTO:-0600
TZNAME:MDT
DTSTART:20200308T090000
END:DAYLIGHT
BEGIN:STANDARD
TZOFFSETFROM:-0600
TZOFFSETTO:-0700
TZNAME:MST
DTSTART:20201101T080000
END:STANDARD
BEGIN:DAYLIGHT
TZOFFSETFROM:-0700
TZOFFSETTO:-0600
TZNAME:MDT
DTSTART:20210314T090000
END:DAYLIGHT
BEGIN:STANDARD
TZOFFSETFROM:-0600
TZOFFSETTO:-0700
TZNAME:MST
DTSTART:20211107T080000
END:STANDARD
BEGIN:DAYLIGHT
TZOFFSETFROM:-0700
TZOFFSETTO:-0600
TZNAME:MDT
DTSTART:20220313T090000
END:DAYLIGHT
BEGIN:STANDARD
TZOFFSETFROM:-0600
TZOFFSETTO:-0700
TZNAME:MST
DTSTART:20221106T080000
END:STANDARD
END:VTIMEZONE
BEGIN:VEVENT
DTSTART;VALUE=DATE:20211020
DTEND;VALUE=DATE:20211206
DTSTAMP:20260421T151429
CREATED:20211028T155159Z
LAST-MODIFIED:20211028T155215Z
UID:1013040-1634688000-1638748799@3wmagazine.com
SUMMARY:"Tiny Beautiful Things"
DESCRIPTION:A celebration of the simple beauty of being human\, this funny and deeply touching exploration of resilience is based on Cheryl Strayed’s (Wild) journey as the beloved anonymous advice columnist for “Dear Sugar.” Over the years\, thousands of people turned to Sugar for words of wisdom\, compassion and hope. At first unsure\, Sugar finds a way to weave her own life experiences together with the deep yearning and heartrending questions from her readers. It is adapted for the stage by Nia Vardalos\, the Academy Award-nominated writer of “My Big Fat Greek Wedding.” For more details\, visit https://www.theatre2.org.
URL:https://3wmagazine.com/event/tiny-beautiful-things-2021/
CATEGORIES:December,November,October,Sponsored
END:VEVENT
BEGIN:VEVENT
DTSTART;VALUE=DATE:20211103
DTEND;VALUE=DATE:20211106
DTSTAMP:20260421T151430
CREATED:20211012T182301Z
LAST-MODIFIED:20211012T182412Z
UID:1012997-1635897600-1636156799@3wmagazine.com
SUMMARY:Aiming for Zero Luncheon and Topgolf Tournament 2021
DESCRIPTION:Project Zero is excited to announce our first-ever Aiming for Zero Luncheon & Topgolf tournament in Northwest Arkansas! This Masters themed event at 11 a.m. Nov. 3 at Kindred North will start with a special lunch and keynote speaker and adoption advocate\, Chelsea Helms of KNWA\, to celebrate National Adoption Month and Project Zero’s 10th anniversary. Project Zero will be hosting a Topgolf Tournament on Nov. 5 from 9 a.m. to noon at Topgolf in Rogers with lunch included. This event is open to anyone who would like to purchase a team or become an event sponsor. Register for the Topgolf event here: https://form.123formbuilder.com/5953230/nwa-aiming-for-zero-registration?fbclid=IwAR10lYq6SyI9c6OokoYxjMbkJm-qz0OjOVlYyaHspHiS-pbJy7Ft_pIkQ1k. \nThese unique events are designed to raise essential funds and celebrate Project Zero’s 10th year of advocating adoption\, building hope\, and connecting children and teens waiting in foster care to be adopted with forever families. For more details\, visit https://theprojectzero.org.
URL:https://3wmagazine.com/event/aiming-for-zero-luncheon-and-topgolf-tournament-2021/
CATEGORIES:November,Sponsored
ATTACH;FMTTYPE=image/jpeg:https://3wmagazine.com/wp-content/uploads/2021/10/242116017_4314219778670113_189451535850721577_n-e1634062901476.jpg
END:VEVENT
BEGIN:VEVENT
DTSTART;VALUE=DATE:20211104
DTEND;VALUE=DATE:20211105
DTSTAMP:20260421T151430
CREATED:20210901T173248Z
LAST-MODIFIED:20210901T173442Z
UID:1012841-1635984000-1636070399@3wmagazine.com
SUMMARY:Journey of Hope
DESCRIPTION:Journey of Hope presented by General Mills will be Nov. 4\, 2021\, at Rogers Convention Center from 7 a.m. – 7 p.m.\, with timed tickets required for entry. Masks required. An alternative to the Light of Hope breakfast and lunch\, this walk-thru exhibition of the foster care experience will feature artifacts and stories from children served. This event will benefit Court Appointed Special Advocates of Northwest Arkansas and its commitment to lifting up the lives of children in foster care. To make your free reservation\, please contact Colleen Smith\, colleen@nwacasa.org. For more information\, visit www.nwacasa.org/event/light-of-hope. The nonprofit will also host a virtual Journey of Hope at noon Nov. 5\, streamed from CASA’s Facebook page: https://www.facebook.com/CASAofNWA.
URL:https://3wmagazine.com/event/journey-of-hope-2021/
CATEGORIES:November,Sponsored
ATTACH;FMTTYPE=image/png:https://3wmagazine.com/wp-content/uploads/2021/09/Screen-Shot-2021-09-01-at-12.25.00-PM-1.png
END:VEVENT
BEGIN:VEVENT
DTSTART;VALUE=DATE:20211105
DTEND;VALUE=DATE:20211106
DTSTAMP:20260421T151430
CREATED:20210126T164816Z
LAST-MODIFIED:20211025T164441Z
UID:1011430-1636070400-1636156799@3wmagazine.com
SUMMARY:***CANCELED*** - EAT (Engage And Taste) at Brightwater
DESCRIPTION:***CANCELED*** – The EAT event is a culinary competition for the students enrolled in the Ignite culinary program through Bentonville Schools and is a fundraiser for Sharing & Caring of Benton County to continue providing scholarship funds to area high school students who will be furthering their studies in key disciplines\, including construction\, media production\, culinary and medical arts. For more information\, visit www.sharingandcaringkids.com.
URL:https://3wmagazine.com/event/eat-engage-and-taste-at-brightwater-2021/
CATEGORIES:November,Sponsored
END:VEVENT
BEGIN:VEVENT
DTSTART;VALUE=DATE:20211105
DTEND;VALUE=DATE:20211106
DTSTAMP:20260421T151430
CREATED:20210127T230610Z
LAST-MODIFIED:20211025T165230Z
UID:1011680-1636070400-1636156799@3wmagazine.com
SUMMARY:Big Night Gala
DESCRIPTION:The annual Big Night Gala at The Jones Center has grown into one of Northwest Arkansas’ signature holiday events. Proceeds from the event support youth programming at The Jones Center. For details\, visit www.thejonescenter.net.
URL:https://3wmagazine.com/event/big-night-gala-2021/
CATEGORIES:November,Sponsored
ATTACH;FMTTYPE=image/png:https://3wmagazine.com/wp-content/uploads/2021/01/Screen-Shot-2021-10-25-at-11.48.17-AM.png
END:VEVENT
BEGIN:VEVENT
DTSTART;VALUE=DATE:20211106
DTEND;VALUE=DATE:20211107
DTSTAMP:20260421T151430
CREATED:20210127T230927Z
LAST-MODIFIED:20211025T170358Z
UID:1011683-1636156800-1636243199@3wmagazine.com
SUMMARY:***CHANGED TO FORWARD TOGETHER FUNDRAISER*** - Art of Hospice
DESCRIPTION:***CHANGED TO FORWARD TOGETHER FUNDRAISER*** – Art of Hospice event is canceled this year. Instead\, Circle of Life has created a fundraising campaign called Forward Together to raise money for the nonprofit throughout November and December. Along with Sam’s Club\, Walmart\, and the Willard & Pat Walker Charitable Foundation\, Circle of Life invites you to help them forge ahead during the pandemic by supporting the Forward Together campaign. \nAs the nonprofit moves Forward Together\, you can share the gift of hospice with your friends and family. With your sponsorship\, you will receive a gift box\, and get to share a gift box with someone of your choice. Each box will include deluxe items for you to create a meaningful connection to our story and mission. \n100% of the funds raised through the event will stay in Northwest Arkansas. \nFor more information\, click here or visit www.nwacircleoflife.com.
URL:https://3wmagazine.com/event/art-of-hospice-2021/
CATEGORIES:November,Sponsored
END:VEVENT
BEGIN:VEVENT
DTSTART;VALUE=DATE:20211108
DTEND;VALUE=DATE:20211113
DTSTAMP:20260421T151430
CREATED:20210719T192049Z
LAST-MODIFIED:20211025T171215Z
UID:1012518-1636329600-1636761599@3wmagazine.com
SUMMARY:***CHANGED TO VIRTUAL NOV. 8-12*** - Sunshine School's Art Show
DESCRIPTION:***CHANGED TO VIRTUAL NOV. 8-12*** – Sunshine School’s Art Show has changed to a Virtual Art Show Nov. 8-12. There is a week full of fun planned\, including a live art auction\, wine pull\, giveaways\, student spotlights\, and more! The auction features artwork created by the children and adults at Sunshine School\, as well as pieces from local artists. Join Sunshine School on Facebook and at nwasunshineschool.org/artshow.
URL:https://3wmagazine.com/event/sunshine-schools-art-show-2021/
LOCATION:Osage House\, 243 Pace Lane\, Cave Springs\, AR\, United States
CATEGORIES:November,Sponsored
ATTACH;FMTTYPE=image/png:https://3wmagazine.com/wp-content/uploads/2021/10/Screen-Shot-2021-10-25-at-12.05.53-PM.png
END:VEVENT
BEGIN:VEVENT
DTSTART;VALUE=DATE:20211112
DTEND;VALUE=DATE:20211113
DTSTAMP:20260421T151430
CREATED:20210315T194902Z
LAST-MODIFIED:20210921T175719Z
UID:1011958-1636675200-1636761599@3wmagazine.com
SUMMARY:***RESCHEDULED TO NOV. 12*** - Winetopia
DESCRIPTION:***RESCHEDULED TO NOV. 12*** – Restore Humanity’s Winetopia will be at Stone Chapel at Matt Lane Farm. For more details\, visit www.restorehumanity.org.
URL:https://3wmagazine.com/event/winetopia-2021/
CATEGORIES:November,Sponsored
ATTACH;FMTTYPE=image/png:https://3wmagazine.com/wp-content/uploads/2019/01/Restore-Humanity-calendar-logo.png
END:VEVENT
BEGIN:VEVENT
DTSTART;VALUE=DATE:20211117
DTEND;VALUE=DATE:20211118
DTSTAMP:20260421T151430
CREATED:20210127T232721Z
LAST-MODIFIED:20211025T174210Z
UID:1011689-1637107200-1637193599@3wmagazine.com
SUMMARY:***VIRTUAL*** - National Philanthropy Day Luncheon
DESCRIPTION:This event includes an award ceremony recognizing the great contributions of philanthropy in Northwest Arkansas and those who are active in the philanthropic community. The virtual event will be open to the public and free to view online at noon on Nov. 17\, 2021. Viewing information will be available on the AFP Northwest Arkansas Facebook page. For more details\, visit community.afpnet.org/afparnorthwestchapter/home.
URL:https://3wmagazine.com/event/national-philanthropy-day-luncheon-2021/
CATEGORIES:November,Sponsored
ATTACH;FMTTYPE=image/jpeg:https://3wmagazine.com/wp-content/uploads/2021/10/176183932_4437780936250921_4993838297885154689_n.jpg
END:VEVENT
BEGIN:VEVENT
DTSTART;VALUE=DATE:20211117
DTEND;VALUE=DATE:20211213
DTSTAMP:20260421T151430
CREATED:20211028T155652Z
LAST-MODIFIED:20211028T155712Z
UID:1013043-1637107200-1639353599@3wmagazine.com
SUMMARY:"Marie and Rosetta"
DESCRIPTION:Born in Cotton Plant\, Arkansas\, Sister Rosetta Tharpe became a legend\, bringing fierce guitar and swing to gospel music – and blazing a path for Elvis Presley\, Johnny Cash\, Jimi Hendrix and Ray Charles. “Marie and Rosetta” chronicles her first rehearsal with a young protégée\, Marie Knight\, as they prepare for the tour that would establish them as one of the great duos in music history. For more details\, visit https://www.theatre2.org.
URL:https://3wmagazine.com/event/marie-and-rosetta-2021/
CATEGORIES:December,November,Sponsored
END:VEVENT
BEGIN:VEVENT
DTSTART;VALUE=DATE:20211119
DTEND;VALUE=DATE:20211121
DTSTAMP:20260421T151430
CREATED:20210128T030948Z
LAST-MODIFIED:20211025T171821Z
UID:1011695-1637280000-1637452799@3wmagazine.com
SUMMARY:NWA Boutique Show
DESCRIPTION:Shop over 150 merchants featuring thousands of one-of-a-kind and custom items including home décor\, clothing\, food\, art and more at the Rogers Convention Center. For more information\, visit www.nwaboutiqueshow.com.
URL:https://3wmagazine.com/event/nwa-boutique-show-2021/
CATEGORIES:November,Sponsored
ATTACH;FMTTYPE=image/png:https://3wmagazine.com/wp-content/uploads/2021/01/Screen-Shot-2021-10-25-at-12.14.19-PM.png
END:VEVENT
BEGIN:VEVENT
DTSTART;VALUE=DATE:20211120
DTEND;VALUE=DATE:20211121
DTSTAMP:20260421T151430
CREATED:20210128T031218Z
LAST-MODIFIED:20211025T172519Z
UID:1011698-1637366400-1637452799@3wmagazine.com
SUMMARY:Girls on the Run of Northwest Arkansas 5K
DESCRIPTION:Join Girls on the Run of Northwest Arkansas for its annual 5K\, which is held in downtown Bentonville. For more information\, visit www.gotrnwa.org.
URL:https://3wmagazine.com/event/girls-on-the-run-of-northwest-arkansas-5k-2021/
CATEGORIES:November,Sponsored
ATTACH;FMTTYPE=image/png:https://3wmagazine.com/wp-content/uploads/2021/01/Girls-on-the-Run-of-Northwest-Arkansas-2021-logo-e1611262771125.png
END:VEVENT
BEGIN:VEVENT
DTSTART;VALUE=DATE:20211125
DTEND;VALUE=DATE:20211126
DTSTAMP:20260421T151430
CREATED:20210128T031608Z
LAST-MODIFIED:20211025T173137Z
UID:1011701-1637798400-1637884799@3wmagazine.com
SUMMARY:Turkey Trot for Heroes
DESCRIPTION:The Turkey Trot for Heroes will be at the Center for Nonprofits in Rogers. Proceeds go toward toys\, clothing and necessities at Christmastime for veteran/first responder families in need. For more information\, visit cutt.ly/sdiaturkeytrot⁠ or www.sheepdogia.org.
URL:https://3wmagazine.com/event/turkey-trot-for-heroes-2021/
CATEGORIES:November,Sponsored
ATTACH;FMTTYPE=image/png:https://3wmagazine.com/wp-content/uploads/2021/01/Screen-Shot-2021-10-25-at-12.26.36-PM.png
END:VEVENT
END:VCALENDAR