BEGIN:VCALENDAR
VERSION:2.0
PRODID:-//3W Magazine - ECPv6.15.20//NONSGML v1.0//EN
CALSCALE:GREGORIAN
METHOD:PUBLISH
X-ORIGINAL-URL:https://3wmagazine.com
X-WR-CALDESC:Events for 3W Magazine
REFRESH-INTERVAL;VALUE=DURATION:PT1H
X-Robots-Tag:noindex
X-PUBLISHED-TTL:PT1H
BEGIN:VTIMEZONE
TZID:America/Denver
BEGIN:DAYLIGHT
TZOFFSETFROM:-0700
TZOFFSETTO:-0600
TZNAME:MDT
DTSTART:20210314T090000
END:DAYLIGHT
BEGIN:STANDARD
TZOFFSETFROM:-0600
TZOFFSETTO:-0700
TZNAME:MST
DTSTART:20211107T080000
END:STANDARD
BEGIN:DAYLIGHT
TZOFFSETFROM:-0700
TZOFFSETTO:-0600
TZNAME:MDT
DTSTART:20220313T090000
END:DAYLIGHT
BEGIN:STANDARD
TZOFFSETFROM:-0600
TZOFFSETTO:-0700
TZNAME:MST
DTSTART:20221106T080000
END:STANDARD
BEGIN:DAYLIGHT
TZOFFSETFROM:-0700
TZOFFSETTO:-0600
TZNAME:MDT
DTSTART:20230312T090000
END:DAYLIGHT
BEGIN:STANDARD
TZOFFSETFROM:-0600
TZOFFSETTO:-0700
TZNAME:MST
DTSTART:20231105T080000
END:STANDARD
END:VTIMEZONE
BEGIN:VEVENT
DTSTART;VALUE=DATE:20220601
DTEND;VALUE=DATE:20220711
DTSTAMP:20260421T113910
CREATED:20220103T040241Z
LAST-MODIFIED:20220531T194252Z
UID:1013362-1654041600-1657497599@3wmagazine.com
SUMMARY:"Miss You Like Hell"
DESCRIPTION:When a whip-smart\, deeply imaginative teenager agrees to take a road trip with her free-spirited Latina mother\, neither can imagine where it will take them. Chance encounters with a medley of characters along the way brings them closer to understanding what sets them apart – and what connects them forever. A new musical with vast heart and fierce humor that exudes joy\, frustration\, and love of being a family in a changing America. This play contains adult language and themes (including discussions of self-harm and suicide). For more details\, visit https://www.theatre2.org/.
URL:https://3wmagazine.com/event/miss-you-like-hell-2022/
CATEGORIES:July,June,Sponsored
ATTACH;FMTTYPE=image/jpeg:https://3wmagazine.com/wp-content/uploads/2022/01/283376891_10160112889640127_8017740216346118653_n.jpg
END:VEVENT
BEGIN:VEVENT
DTSTART;VALUE=DATE:20220629
DTEND;VALUE=DATE:20220718
DTSTAMP:20260421T113910
CREATED:20220531T193704Z
LAST-MODIFIED:20220531T193704Z
UID:1014276-1656460800-1658102399@3wmagazine.com
SUMMARY:"FLEX"
DESCRIPTION:TheatreSquared (T2) will produce the co-world premiere of FLEX by Candrice Jones\, an Arkansas native and winner of the 2020 Steinberg Playwright Award. FLEX tells the story of a girls’ high school basketball team from Plainnole\, Arkansas. It’s 1997\, and the women of the Lady Train team are inspired by the successes of the WNBA. With aspirations of going pro\, they must first navigate the pressures of being young\, Black and female in rural Arkansas. Will their fouls off the court tear their team apart? Or can they keep their pact to stick together through hell or high water? This powerful new play celebrates the fierce athleticism of women’s basketball with all the adrenaline and swagger of a four-quarter game. This play contains strong adult language and themes. For more details\, visit https://www.theatre2.org/.
URL:https://3wmagazine.com/event/flex/
CATEGORIES:July,June,Sponsored
ATTACH;FMTTYPE=image/png:https://3wmagazine.com/wp-content/uploads/2019/12/TheatreSquared-2020-calendar-logo.png
END:VEVENT
BEGIN:VEVENT
DTSTART;VALUE=DATE:20220712
DTEND;VALUE=DATE:20220713
DTSTAMP:20260421T113910
CREATED:20220701T045634Z
LAST-MODIFIED:20220701T054138Z
UID:1014414-1657584000-1657670399@3wmagazine.com
SUMMARY:Summer Swing
DESCRIPTION:A new take on the annual “Bowl for Kids’ Sake Event.” Enjoy a fun\, team-focused “par-tee” while supporting mentorship in 2022. This event is geared toward team building and networking at Top Golf in Rogers. Each team comprises 6 golfers. No golf skills necessary. The golf dates are July 12\, 13\, 19\, 20 and 21. For more details\, visit https://bbbsnwa.org/.
URL:https://3wmagazine.com/event/summer-swing-2022/
LOCATION:Topgolf\, 3919 S. JB Hunt Drive\, Rogers\, AR\, 72758\, United States
CATEGORIES:July,Sponsored
ATTACH;FMTTYPE=image/png:https://3wmagazine.com/wp-content/uploads/2022/06/BBBSswingad-1-copy.png
END:VEVENT
BEGIN:VEVENT
DTSTART;VALUE=DATE:20220717
DTEND;VALUE=DATE:20220718
DTSTAMP:20260421T113910
CREATED:20220701T050541Z
LAST-MODIFIED:20220701T050611Z
UID:1014418-1658016000-1658102399@3wmagazine.com
SUMMARY:Dog Days of Summer
DESCRIPTION:Bring your four-legged friends and the rest of the family to explore and enjoy the beautiful 60 acres at Sassafras Springs Vineyard & Winery. Sassafras Springs Vineyard will donate 10% of food and drink sales to Humane Society of the Ozarks. Free to attend. The event includes a silent auction\, adoptable pets\, door prizes & more. For more details\, please call Humane Society of the Ozarks at 479-444-7387 or visit https://hsozarks.org/.
URL:https://3wmagazine.com/event/dog-days-of-summer-2022/
LOCATION:Sassafras Springs Vineyard & Winery\, 6461 E Guy Terry Rd\, Springdale\, AR\, 72764\, United States
CATEGORIES:July,Sponsored
ATTACH;FMTTYPE=image/jpeg:https://3wmagazine.com/wp-content/uploads/2022/06/1.jpeg
END:VEVENT
BEGIN:VEVENT
DTSTART;VALUE=DATE:20220719
DTEND;VALUE=DATE:20220720
DTSTAMP:20260421T113910
CREATED:20220701T051108Z
LAST-MODIFIED:20220701T051131Z
UID:1014422-1658188800-1658275199@3wmagazine.com
SUMMARY:Art of Wine: Winemaker’s Dinner
DESCRIPTION:Fine dining enthusiasts won’t want to miss this special evening of food & wine at Walton Arts Center\, featuring a collaborative menu from Chef Elliot Hunt of Atlas the Restaurant and Chef William Mauk of Ella’s Table\, paired with award winning and highly rated wines by E&J Gallo. Proceeds benefit arts education programming. For more details and to purchase tickets\, visit https://waltonartscenter.org/.
URL:https://3wmagazine.com/event/art-of-wine-winemakers-dinner-2022/
LOCATION:Walton Arts Center\, 495 W. Dickson St.\, Fayetteville\, AR\, 72701\, United States
CATEGORIES:July,Sponsored
ATTACH;FMTTYPE=image/jpeg:https://3wmagazine.com/wp-content/uploads/2022/06/AOW_WinemakersDinner_Slide-1-scaled.jpg
END:VEVENT
BEGIN:VEVENT
DTSTART;VALUE=DATE:20220721
DTEND;VALUE=DATE:20220722
DTSTAMP:20260421T113910
CREATED:20220103T043915Z
LAST-MODIFIED:20220701T044217Z
UID:1013412-1658361600-1658447999@3wmagazine.com
SUMMARY:Summer Pop-Up
DESCRIPTION:Join NextUp Northwest Arkansas at Beautiful Lives for a pop-up event! Come to shop\, network\, and learn from the Beautiful Lives staff how we can support their cause. For more details\, visit https://www.nextupisnow.org/regions/northwest-arkansas/.
URL:https://3wmagazine.com/event/summer-pop-up-2022/
CATEGORIES:July,Sponsored
ATTACH;FMTTYPE=image/jpeg:https://3wmagazine.com/wp-content/uploads/2022/01/274202155_2214682475341002_1935135133593057766_n.jpg
END:VEVENT
BEGIN:VEVENT
DTSTART;VALUE=DATE:20220721
DTEND;VALUE=DATE:20220725
DTSTAMP:20260421T113910
CREATED:20220701T053319Z
LAST-MODIFIED:20220701T053339Z
UID:1014433-1658361600-1658707199@3wmagazine.com
SUMMARY:"The Hunchback of Notre Dame"
DESCRIPTION:Arts One Presents is excited to announce its upcoming summer musical “The Hunchback of Notre Dame” at the Pat Ellison Performing Arts Center in Springdale. “The Hunchback of Notre Dame” is based on the 1831 novel by Victor Hugo with songs from the 1996 Walt Disney Animation Studios. Inspired by the universal desire to fit in\, this musical tells the story of Quasimodo\, a young man taught to hide himself and his differences away in the bell towers of Notre Dame. As he ventures into the world and falls in love\, the audience sees his world expand. Set in a time period of great change\, determinism\, revolution and social strife\, this story concludes that love and kindness are the most important shared human traits. Tickets are on sale now via Arts One Presents website: https://www.artsonepresents.org/performingarts.
URL:https://3wmagazine.com/event/the-hunchback-of-notre-dame-week-1-2022/
CATEGORIES:July,Sponsored
ATTACH;FMTTYPE=image/jpeg:https://3wmagazine.com/wp-content/uploads/2022/06/IMG_9259.jpg
END:VEVENT
BEGIN:VEVENT
DTSTART;VALUE=DATE:20220722
DTEND;VALUE=DATE:20220723
DTSTAMP:20260421T113910
CREATED:20220701T053844Z
LAST-MODIFIED:20220701T053912Z
UID:1014441-1658448000-1658534399@3wmagazine.com
SUMMARY:Art of Wine: Uncorked!
DESCRIPTION:Indulge in an endless assortment of wine and bubbly. Savor small bites and delicious treats from your favorite local restaurants. Toast to a night out to remember! The party of the summer is back at Walton Arts Center – and it’s better than ever. Proceeds benefit arts education programming. For more details\, visit https://waltonartscenter.org/.
URL:https://3wmagazine.com/event/art-of-wine-uncorked-2022/
CATEGORIES:July,Sponsored
ATTACH;FMTTYPE=image/jpeg:https://3wmagazine.com/wp-content/uploads/2022/06/FY22_AOW_Uncorked_MagicInfo-1-scaled.jpg
END:VEVENT
BEGIN:VEVENT
DTSTART;VALUE=DATE:20220722
DTEND;VALUE=DATE:20220725
DTSTAMP:20260421T113910
CREATED:20220701T055305Z
LAST-MODIFIED:20220701T055330Z
UID:1014445-1658448000-1658707199@3wmagazine.com
SUMMARY:Charity Pickleball Tournament
DESCRIPTION:Join Matrix Racquet Club for the Charity Pickleball Tournament July 22-24. A portion of the proceeds will benefit the Northwest  Arkansas Children’s Shelter. Registration deadline is July 15\, 2022. Register today at https://www.pickleballtournaments.com/tournamentinfo.pl?tid=6364.
URL:https://3wmagazine.com/event/charity-pickleball-tournament-july-2022/
LOCATION:Matrix Racquet Club\, 1219 Mills Lane\, Lowell\, Arkansas\, 72745
CATEGORIES:July,Sponsored
ATTACH;FMTTYPE=image/jpeg:https://3wmagazine.com/wp-content/uploads/2022/06/IMG_9260.jpg
END:VEVENT
BEGIN:VEVENT
DTSTART;VALUE=DATE:20220726
DTEND;VALUE=DATE:20220727
DTSTAMP:20260421T113910
CREATED:20220701T060129Z
LAST-MODIFIED:20220701T060207Z
UID:1014451-1658793600-1658879999@3wmagazine.com
SUMMARY:Angels Paying it Forward Impact Celebration
DESCRIPTION:Join Circle of Life in celebration of our Angels Paying it Forward and the impact they make on hospice patients and families. The event on July 26 at Heroncrest Event Center features special guest Kelly Cervantes. Interested in hosting a table? Table Angels have the opportunity to invite 9 guests to their table. Please email guest names to khorrell@nwacircleoflife.org. The luncheon is free to attend. Register for attendance at: https://4agc.com/commerce_pages/720dff93-c0cf-47db-b43f-e7b375e97acb?fbclid=IwAR1_bgt4PAojZxAMkh0-nW0IDYX9strnQzsFl9Rwl_GmQsopvsAmiGXvjXg. For more details\, visit https://nwacircleoflife.com.
URL:https://3wmagazine.com/event/angels-paying-it-forward-impact-celebration-2022/
LOCATION:Heroncrest Event Center
CATEGORIES:July,Sponsored
ATTACH;FMTTYPE=image/jpeg:https://3wmagazine.com/wp-content/uploads/2022/06/285345919_387217466757420_5535008707425217757_n.jpg
END:VEVENT
BEGIN:VEVENT
DTSTART;VALUE=DATE:20220728
DTEND;VALUE=DATE:20220729
DTSTAMP:20260421T113910
CREATED:20220103T044540Z
LAST-MODIFIED:20220701T060642Z
UID:1013419-1658966400-1659052799@3wmagazine.com
SUMMARY:Spark of Hope
DESCRIPTION:Join Single Parent Scholarship Fund of NWA on Thursday\, July 28 from 6-8 p.m. for its annual Spark of Hope at the Rogers Convention Center. Experience an evening filled with inspiration and celebration as the nonprofit honors its single parent recipients and supporters. For more details\, visit https://spsfnwa.org/.
URL:https://3wmagazine.com/event/spark-of-hope-2022/
LOCATION:Rogers Convention Center
CATEGORIES:July,Sponsored
ATTACH;FMTTYPE=image/jpeg:https://3wmagazine.com/wp-content/uploads/2022/01/IMG_9261.jpg
END:VEVENT
BEGIN:VEVENT
DTSTART;VALUE=DATE:20220728
DTEND;VALUE=DATE:20220801
DTSTAMP:20260421T113910
CREATED:20220701T053530Z
LAST-MODIFIED:20220701T053551Z
UID:1014437-1658966400-1659311999@3wmagazine.com
SUMMARY:"The Hunchback of Notre Dame"
DESCRIPTION:Arts One Presents is excited to announce its upcoming summer musical “The Hunchback of Notre Dame” at the Pat Ellison Performing Arts Center in Springdale. “The Hunchback of Notre Dame” is based on the 1831 novel by Victor Hugo with songs from the 1996 Walt Disney Animation Studios. Inspired by the universal desire to fit in\, this musical tells the story of Quasimodo\, a young man taught to hide himself and his differences away in the bell towers of Notre Dame. As he ventures into the world and falls in love\, the audience sees his world expand. Set in a time period of great change\, determinism\, revolution and social strife\, this story concludes that love and kindness are the most important shared human traits. Tickets are on sale now via Arts One Presents website: https://www.artsonepresents.org/performingarts.
URL:https://3wmagazine.com/event/the-hunchback-of-notre-dame-week-2-2022/
CATEGORIES:July,Sponsored
ATTACH;FMTTYPE=image/jpeg:https://3wmagazine.com/wp-content/uploads/2022/06/IMG_9259.jpg
END:VEVENT
BEGIN:VEVENT
DTSTART;VALUE=DATE:20220729
DTEND;VALUE=DATE:20220801
DTSTAMP:20260421T113910
CREATED:20220103T045040Z
LAST-MODIFIED:20220701T052103Z
UID:1013425-1659052800-1659311999@3wmagazine.com
SUMMARY:"DISASTER!"
DESCRIPTION:It’s 1979\, and New York’s hottest A-listers are lining up for the opening of a floating casino and discotheque. Also attending is a faded disco star\, a sexy nightclub singer with her eleven-year-old twins\, a disaster expert\, a feminist reporter\, an older couple with a secret\, a pair of young guys who are looking for ladies\, an untrustworthy businessman and a nun with a gambling addiction. What begins as a night of boogie fever quickly changes to panic as the ship succumbs to multiple disasters\, such as earthquakes\, tidal waves and infernos. As the night turns into day\, everyone struggles to survive and\, quite possibly\, repair the love that they have lost… or at least escape the killer rats.  Audiences and critics are wild for this hilarious homage to the era of bell-bottoms\, platform shoes and the hustle. Featuring some of the most unforgettable songs of the ’70s. “Knock on Wood\,” “Hooked on a Feeling\,” “Sky High\,” “I Am Woman” and “Hot Stuff.” For more details\, visit https://www.arkansaspublictheatre.org/.
URL:https://3wmagazine.com/event/disaster-week-1-2022/
CATEGORIES:July,Sponsored
ATTACH;FMTTYPE=image/png:https://3wmagazine.com/wp-content/uploads/2022/01/IMG_9262.png
END:VEVENT
BEGIN:VEVENT
DTSTART;VALUE=DATE:20220730
DTEND;VALUE=DATE:20220731
DTSTAMP:20260421T113910
CREATED:20220103T044735Z
LAST-MODIFIED:20220701T061149Z
UID:1013422-1659139200-1659225599@3wmagazine.com
SUMMARY:Dream Big Charity Gala
DESCRIPTION:Join Children’s Safety Center for the 15th annual Dream Big Charity Gala presented by Johnson & Johnson. This year’s circus themed event is sure to entertain and kicks off promptly at 7 p.m. at the Fayetteville Town Center. Guests will enjoy live music provided by NWA’s own Boom Kinetic and various Cirque acts\, both presented by Arvest Bank\, exciting carnival games in the midway\, and an impactful program about the Children’s Safety Center’s mission to help local child abuse victims. For more details\, visit https://www.childrenssafetycenter.org/.
URL:https://3wmagazine.com/event/dream-big-charity-gala-2022/
LOCATION:Fayetteville Town Center\, 15 West Mountain\, Fayetteville\, AR\, 72701\, United States
CATEGORIES:July,Sponsored
ATTACH;FMTTYPE=image/jpeg:https://3wmagazine.com/wp-content/uploads/2022/01/IMG_9263.jpg
END:VEVENT
END:VCALENDAR