BEGIN:VCALENDAR
VERSION:2.0
PRODID:-//3W Magazine - ECPv6.15.20//NONSGML v1.0//EN
CALSCALE:GREGORIAN
METHOD:PUBLISH
X-ORIGINAL-URL:https://3wmagazine.com
X-WR-CALDESC:Events for 3W Magazine
REFRESH-INTERVAL;VALUE=DURATION:PT1H
X-Robots-Tag:noindex
X-PUBLISHED-TTL:PT1H
BEGIN:VTIMEZONE
TZID:America/Denver
BEGIN:DAYLIGHT
TZOFFSETFROM:-0700
TZOFFSETTO:-0600
TZNAME:MDT
DTSTART:20230312T090000
END:DAYLIGHT
BEGIN:STANDARD
TZOFFSETFROM:-0600
TZOFFSETTO:-0700
TZNAME:MST
DTSTART:20231105T080000
END:STANDARD
BEGIN:DAYLIGHT
TZOFFSETFROM:-0700
TZOFFSETTO:-0600
TZNAME:MDT
DTSTART:20240310T090000
END:DAYLIGHT
BEGIN:STANDARD
TZOFFSETFROM:-0600
TZOFFSETTO:-0700
TZNAME:MST
DTSTART:20241103T080000
END:STANDARD
BEGIN:DAYLIGHT
TZOFFSETFROM:-0700
TZOFFSETTO:-0600
TZNAME:MDT
DTSTART:20250309T090000
END:DAYLIGHT
BEGIN:STANDARD
TZOFFSETFROM:-0600
TZOFFSETTO:-0700
TZNAME:MST
DTSTART:20251102T080000
END:STANDARD
END:VTIMEZONE
BEGIN:VEVENT
DTSTART;VALUE=DATE:20240327
DTEND;VALUE=DATE:20240506
DTSTAMP:20260424T004255
CREATED:20240108T070642Z
LAST-MODIFIED:20240229T200626Z
UID:1018093-1711497600-1714953599@3wmagazine.com
SUMMARY:“Laughs in Spanish”
DESCRIPTION:Art Basel is about to begin and Mariana\, the director of a swanky modern art gallery\, has a problem: her showroom is an active crime scene. Part caper comedy and part telenovela\, “Laughs in Spanish” shows how far Mariana will go to save the show — even if it means accepting help from her mother\, a larger-than-life film-and-television star who always steals the spotlight. \nIn co-production with Stages Houston \nFor more details\, visit https://www.theatre2.org/laughs-in-spanish.
URL:https://3wmagazine.com/event/laughs-in-spanish-2024/
LOCATION:TheatreSquared\, 477 W. Spring St.\, Fayetteville\, AR\, 72701\, United States
CATEGORIES:April,March,May,Sponsored
ATTACH;FMTTYPE=image/jpeg:https://3wmagazine.com/wp-content/uploads/2024/02/laughsforweb.jpg
END:VEVENT
BEGIN:VEVENT
DTSTART;VALUE=DATE:20240401
DTEND;VALUE=DATE:20240402
DTSTAMP:20260424T004255
CREATED:20240109T212525Z
LAST-MODIFIED:20240401T143733Z
UID:1018134-1711929600-1712015999@3wmagazine.com
SUMMARY:Pinwheels for Prevention
DESCRIPTION:Join the fight against child abuse by participating in Pinwheels for Prevention. This event is held annually\, all across the nation during the month of April\, which is Child Abuse Prevention Month. This nationally recognized event acknowledges the importance of communities working together to prevent child physical and sexual abuse. Kick off the month by placing banners\, signs\, and pinwheels outside of your business or home. Pinwheels are placed alongside to recognize the importance of our children\, the future they represent\, and the things our community can do every day to make sure they are safe and protected.\nYou can do your part this April by purchasing one of these signs or banners and place it outside your home or business along with sparkly pinwheels. 1836Ink has graciously agreed to donate a portion of the sales of these signs back to the Children’s Safety Center. You can purchase directly from their website http://shop.1836ink.co/csc/.
URL:https://3wmagazine.com/event/pinwheels-for-prevention-2024/
CATEGORIES:April,Sponsored
ATTACH;FMTTYPE=image/jpeg:https://3wmagazine.com/wp-content/uploads/2024/04/434556907_831486295688121_3202304063502421340_n.jpg
END:VEVENT
BEGIN:VEVENT
DTSTART;VALUE=DATE:20240401
DTEND;VALUE=DATE:20240402
DTSTAMP:20260424T004255
CREATED:20240109T212705Z
LAST-MODIFIED:20240401T141530Z
UID:1018137-1711929600-1712015999@3wmagazine.com
SUMMARY:Cherishing Children Rally - Gentry
DESCRIPTION:
URL:https://3wmagazine.com/event/cherishing-children-pinwheel-rally-gentry-2024/
CATEGORIES:April,Sponsored
ATTACH;FMTTYPE=image/jpeg:https://3wmagazine.com/wp-content/uploads/2024/04/433545849_818772166963632_1309610990704448253_n.jpg
END:VEVENT
BEGIN:VEVENT
DTSTART;VALUE=DATE:20240403
DTEND;VALUE=DATE:20240404
DTSTAMP:20260424T004255
CREATED:20240109T212925Z
LAST-MODIFIED:20240401T144000Z
UID:1018140-1712102400-1712188799@3wmagazine.com
SUMMARY:Big Business Brunch
DESCRIPTION:
URL:https://3wmagazine.com/event/big-business-brunch-april-2024/
CATEGORIES:April,Sponsored
ATTACH;FMTTYPE=image/png:https://3wmagazine.com/wp-content/uploads/2019/01/BBBS-of-NWA-calendar-logo.png
END:VEVENT
BEGIN:VEVENT
DTSTART;VALUE=DATE:20240405
DTEND;VALUE=DATE:20240406
DTSTAMP:20260424T004255
CREATED:20240109T213349Z
LAST-MODIFIED:20240401T141643Z
UID:1018150-1712275200-1712361599@3wmagazine.com
SUMMARY:Cherishing Children Rally - Bentonville
DESCRIPTION:
URL:https://3wmagazine.com/event/cherishing-children-pinwheel-rally-bentonville-2024/
CATEGORIES:April,Sponsored
ATTACH;FMTTYPE=image/jpeg:https://3wmagazine.com/wp-content/uploads/2024/04/433545849_818772166963632_1309610990704448253_n-1.jpg
END:VEVENT
BEGIN:VEVENT
DTSTART;VALUE=DATE:20240405
DTEND;VALUE=DATE:20240415
DTSTAMP:20260424T004255
CREATED:20240109T213220Z
LAST-MODIFIED:20240401T144244Z
UID:1018147-1712275200-1713139199@3wmagazine.com
SUMMARY:"Into the Woods"
DESCRIPTION:
URL:https://3wmagazine.com/event/into-the-woods-2024/
CATEGORIES:April,Sponsored
ATTACH;FMTTYPE=image/png:https://3wmagazine.com/wp-content/uploads/2024/04/421555363_10161255427664182_2777007091322964451_n.png
END:VEVENT
BEGIN:VEVENT
DTSTART;VALUE=DATE:20240407
DTEND;VALUE=DATE:20240408
DTSTAMP:20260424T004255
CREATED:20240402T150323Z
LAST-MODIFIED:20240402T150734Z
UID:1019273-1712448000-1712534399@3wmagazine.com
SUMMARY:Dog Days of Summer
DESCRIPTION:Join Humane Society of the Ozarks on Sunday\, April 7\, for a delightful spring day at Sassafras Springs Vineyard to kick off the Dog Days of Summer! Bring your furry friends and family to explore 15+ scenic acres. From 12-5 p.m.\, revel in the beautiful surroundings with no admission fee. DOGS WELCOME! \nIndulge in exceptional wines at the tasting room or on spacious outdoor decks. Sassafras Springs will also have other beverages\, snacks & pizzas for purchase. Don’t forget your dog’s favorite toy for some creek-side fun (on a leash\, please)! \nFestivities include:\nMusic\nCaricature Drawings\nSilent Auction\nDoor Prizes\nComplimentary Dog Treats provided by DogWatch Doggie Day Care & Boarding \nSassafras Springs Vineyard will generously donate 10% of food and drink sales to the Humane Society of the Ozarks. \nTimeline of Events:\n12-4 p.m.: NWA Caricature drawings by NWA Caricatures\n1-3 p.m.: Visit with HSO dogs available for adoption
URL:https://3wmagazine.com/event/dog-days-of-summer-2024/
LOCATION:Sassafras Springs Vineyard & Winery\, 6461 E Guy Terry Rd\, Springdale\, AR\, 72764\, United States
CATEGORIES:April,Sponsored
ATTACH;FMTTYPE=image/png:https://3wmagazine.com/wp-content/uploads/2024/04/Screen-Shot-2024-04-02-at-10.00.32-AM.png
END:VEVENT
BEGIN:VEVENT
DTSTART;VALUE=DATE:20240411
DTEND;VALUE=DATE:20240412
DTSTAMP:20260424T004255
CREATED:20240109T214038Z
LAST-MODIFIED:20240307T170038Z
UID:1018163-1712793600-1712879999@3wmagazine.com
SUMMARY:Success Stories Brunch
DESCRIPTION:
URL:https://3wmagazine.com/event/success-stories-brunch-2024/
CATEGORIES:April,Sponsored
ATTACH;FMTTYPE=image/png:https://3wmagazine.com/wp-content/uploads/2024/03/Success-Stories-Brunch.png
END:VEVENT
BEGIN:VEVENT
DTSTART;VALUE=DATE:20240411
DTEND;VALUE=DATE:20240412
DTSTAMP:20260424T004255
CREATED:20240109T214151Z
LAST-MODIFIED:20240401T144755Z
UID:1018166-1712793600-1712879999@3wmagazine.com
SUMMARY:Network & Learn
DESCRIPTION:
URL:https://3wmagazine.com/event/network-learn-april-2024/
CATEGORIES:April,Sponsored
ATTACH;FMTTYPE=image/jpeg:https://3wmagazine.com/wp-content/uploads/2024/04/432941348_18343158082102435_1498379309669751144_n.jpg
END:VEVENT
BEGIN:VEVENT
DTSTART;VALUE=DATE:20240412
DTEND;VALUE=DATE:20240415
DTSTAMP:20260424T004255
CREATED:20240109T214435Z
LAST-MODIFIED:20240307T170515Z
UID:1018172-1712880000-1713139199@3wmagazine.com
SUMMARY:Vintage Market Days
DESCRIPTION:
URL:https://3wmagazine.com/event/vintage-market-days-spring-2024/
LOCATION:Benton County Fairgrounds\, 7640 SW Regional Airport Blvd.\, Bentonville\, AR\, United States
CATEGORIES:April,Sponsored
ATTACH;FMTTYPE=image/jpeg:https://3wmagazine.com/wp-content/uploads/2024/03/277441-640.jpg
END:VEVENT
BEGIN:VEVENT
DTSTART;VALUE=DATE:20240413
DTEND;VALUE=DATE:20240414
DTSTAMP:20260424T004255
CREATED:20240109T214602Z
LAST-MODIFIED:20240401T145259Z
UID:1018175-1712966400-1713052799@3wmagazine.com
SUMMARY:Walk for Wishes NWA
DESCRIPTION:
URL:https://3wmagazine.com/event/walk-for-wishes-nwa-2024/
CATEGORIES:April,Sponsored
ATTACH;FMTTYPE=image/jpeg:https://3wmagazine.com/wp-content/uploads/2024/04/428046249_793003862868332_3852346597764166110_n.jpg
END:VEVENT
BEGIN:VEVENT
DTSTART;VALUE=DATE:20240413
DTEND;VALUE=DATE:20240414
DTSTAMP:20260424T004255
CREATED:20240109T214928Z
LAST-MODIFIED:20240401T145507Z
UID:1018178-1712966400-1713052799@3wmagazine.com
SUMMARY:Reading the Greens
DESCRIPTION:
URL:https://3wmagazine.com/event/reading-the-greens-2024/
CATEGORIES:April,Sponsored
ATTACH;FMTTYPE=image/jpeg:https://3wmagazine.com/wp-content/uploads/2024/04/429772938_831200752371308_8333977416557829339_n.jpg
END:VEVENT
BEGIN:VEVENT
DTSTART;VALUE=DATE:20240413
DTEND;VALUE=DATE:20240414
DTSTAMP:20260424T004255
CREATED:20240401T130919Z
LAST-MODIFIED:20240401T131021Z
UID:1019220-1712966400-1713052799@3wmagazine.com
SUMMARY:Havenwood Open House
DESCRIPTION:
URL:https://3wmagazine.com/event/havenwood-open-house-2024/
CATEGORIES:April,Sponsored
ATTACH;FMTTYPE=image/jpeg:https://3wmagazine.com/wp-content/uploads/2024/04/433266545_10124369858779474_494719793774908566_n.jpg
END:VEVENT
BEGIN:VEVENT
DTSTART;VALUE=DATE:20240414
DTEND;VALUE=DATE:20240415
DTSTAMP:20260424T004255
CREATED:20240109T215105Z
LAST-MODIFIED:20240401T145748Z
UID:1018181-1713052800-1713139199@3wmagazine.com
SUMMARY:Wine Dinner
DESCRIPTION:
URL:https://3wmagazine.com/event/wine-dinner-2024/
CATEGORIES:April,Sponsored
ATTACH;FMTTYPE=image/png:https://3wmagazine.com/wp-content/uploads/2024/04/RH_logo_CMYK_tm2.png
END:VEVENT
BEGIN:VEVENT
DTSTART;VALUE=DATE:20240416
DTEND;VALUE=DATE:20240421
DTSTAMP:20260424T004255
CREATED:20240108T071512Z
LAST-MODIFIED:20240401T145911Z
UID:1018105-1713225600-1713657599@3wmagazine.com
SUMMARY:Dr. Compton Native Tree and Plant Sale
DESCRIPTION:
URL:https://3wmagazine.com/event/dr-compton-native-tree-and-plant-sale-2024/
CATEGORIES:April,Sponsored
ATTACH;FMTTYPE=image/png:https://3wmagazine.com/wp-content/uploads/2024/04/NTPS-Web-Tile.png
END:VEVENT
BEGIN:VEVENT
DTSTART;VALUE=DATE:20240417
DTEND;VALUE=DATE:20240513
DTSTAMP:20260424T004255
CREATED:20240109T215450Z
LAST-MODIFIED:20240401T150631Z
UID:1018187-1713312000-1715558399@3wmagazine.com
SUMMARY:“Fat Ham”
DESCRIPTION:Winner of the 2022 Pulitzer Prize for Drama\, “Fat Ham” is a deliciously funny send-up of Shakespeare’s “Hamlet” that took Broadway by storm in 2023 following a sold-out run at The Public Theater. When the ghost of Juicy’s father demands that Juicy avenge his murder\, fatal intent doesn’t come easy to this sensitive\, self-aware\, young Black man in search of his own happiness and liberation. From an uproarious Southern family cookout emerges a compelling examination of love and loss\, pain and joy\, revenge and karaoke. \nIn co-production with City Theatre\, Pittsburgh\, PA \nFor more details\, visit https://www.theatre2.org/fat-ham.
URL:https://3wmagazine.com/event/fat-ham-2024/
CATEGORIES:April,May,Sponsored
ATTACH;FMTTYPE=image/jpeg:https://3wmagazine.com/wp-content/uploads/2024/04/fathamforweb2.jpg
END:VEVENT
BEGIN:VEVENT
DTSTART;VALUE=DATE:20240419
DTEND;VALUE=DATE:20240420
DTSTAMP:20260424T004255
CREATED:20240109T215631Z
LAST-MODIFIED:20240401T131550Z
UID:1018190-1713484800-1713571199@3wmagazine.com
SUMMARY:UnGala
DESCRIPTION:
URL:https://3wmagazine.com/event/ungala-2024/
CATEGORIES:April,Sponsored
ATTACH;FMTTYPE=image/jpeg:https://3wmagazine.com/wp-content/uploads/2024/04/409089342_817149877120016_3849607850702900552_n.jpg
END:VEVENT
BEGIN:VEVENT
DTSTART;VALUE=DATE:20240420
DTEND;VALUE=DATE:20240421
DTSTAMP:20260424T004255
CREATED:20240205T170016Z
LAST-MODIFIED:20240401T133029Z
UID:1018873-1713571200-1713657599@3wmagazine.com
SUMMARY:Community Festival & Cruise In
DESCRIPTION:
URL:https://3wmagazine.com/event/community-festival-and-cruise-in-2024/
CATEGORIES:April,Sponsored
ATTACH;FMTTYPE=image/jpeg:https://3wmagazine.com/wp-content/uploads/2024/04/417392041_442964748055431_3458022732824323926_n.jpg
END:VEVENT
BEGIN:VEVENT
DTSTART;VALUE=DATE:20240420
DTEND;VALUE=DATE:20240421
DTSTAMP:20260424T004255
CREATED:20240307T181812Z
LAST-MODIFIED:20240307T181857Z
UID:1019118-1713571200-1713657599@3wmagazine.com
SUMMARY:Touch-a-Truck
DESCRIPTION:Join Junior League of NWA for Touch-a-Truck on April 20 at Rogers Convention Center. The event will include a 9-10 a.m. quiet hour for children with sensory needs and then general admission is 10 a.m. to 2 p.m. The rain date is May 11\, 2024. For more details\, visit https://www.juniorleaguenwa.org/touchatruck/.
URL:https://3wmagazine.com/event/touch-a-truck-2024/
LOCATION:Rogers Convention Center
CATEGORIES:April,Sponsored
ATTACH;FMTTYPE=image/png:https://3wmagazine.com/wp-content/uploads/2024/03/Picture1-e1614712610655-1.png
END:VEVENT
BEGIN:VEVENT
DTSTART;VALUE=DATE:20240425
DTEND;VALUE=DATE:20240426
DTSTAMP:20260424T004255
CREATED:20240109T220719Z
LAST-MODIFIED:20240401T133704Z
UID:1018218-1714003200-1714089599@3wmagazine.com
SUMMARY:Wall of Distinction Banquet
DESCRIPTION:
URL:https://3wmagazine.com/event/wall-of-distinction-banquet-2024/
CATEGORIES:April,Sponsored
ATTACH;FMTTYPE=image/png:https://3wmagazine.com/wp-content/uploads/2024/04/428604486_808326911333531_6583445694826736209_n.png
END:VEVENT
BEGIN:VEVENT
DTSTART;VALUE=DATE:20240426
DTEND;VALUE=DATE:20240427
DTSTAMP:20260424T004255
CREATED:20240109T221240Z
LAST-MODIFIED:20240401T134241Z
UID:1018224-1714089600-1714175999@3wmagazine.com
SUMMARY:Red Shoe Soirée
DESCRIPTION:Join Ronald McDonald House Charities of Arkoma for an evening of celebrating a decade of dedication to supporting families at the 10th Annual Red Shoe Soirée on Friday\, April 26 at Heroncrest Event Center. Doors open at 7 p.m.\, and program begins at 8 p.m. This upbeat evening will be filled with cocktails\, dinner\, and meaningful connections\, all in support of the nonprofit’s mission to provide essential services that remove barriers\, strengthen families\, and promote healing for children in need of healthcare. The Dress Code is Cocktail Attire. Throughout the evening\, you’ll have the opportunity to learn more about RMHC of Arkoma’s impactful programs and how your generosity directly contributes to our mission. Every donation received will help us continue providing comfort\, care\, and support to families when they need it most. For ticket information\, exclusive VIP party\, and sponsorship inquiries\, please contact Meagan Piroutek\, meagan@rmhcofarkoma.org or visit NWAREDSHOESOIREE.COM.
URL:https://3wmagazine.com/event/red-shoe-soiree-2024/
LOCATION:Heroncrest Event Center
CATEGORIES:April,Sponsored
ATTACH;FMTTYPE=image/jpeg:https://3wmagazine.com/wp-content/uploads/2024/04/426155973_790705969769382_4614788600236970547_n.jpg
END:VEVENT
BEGIN:VEVENT
DTSTART;VALUE=DATE:20240426
DTEND;VALUE=DATE:20240427
DTSTAMP:20260424T004255
CREATED:20240109T221344Z
LAST-MODIFIED:20240401T134431Z
UID:1018227-1714089600-1714175999@3wmagazine.com
SUMMARY:Family Fun Festival & 5K
DESCRIPTION:
URL:https://3wmagazine.com/event/family-fun-festival-5k-2024/
CATEGORIES:April,Sponsored
ATTACH;FMTTYPE=image/jpeg:https://3wmagazine.com/wp-content/uploads/2024/04/426411860_790733513100831_2736088513479323560_n.jpg
END:VEVENT
BEGIN:VEVENT
DTSTART;VALUE=DATE:20240426
DTEND;VALUE=DATE:20240427
DTSTAMP:20260424T004255
CREATED:20240109T221702Z
LAST-MODIFIED:20240401T134848Z
UID:1018233-1714089600-1714175999@3wmagazine.com
SUMMARY:Baby Ball
DESCRIPTION:
URL:https://3wmagazine.com/event/baby-ball-2024/
CATEGORIES:April,Sponsored
ATTACH;FMTTYPE=image/png:https://3wmagazine.com/wp-content/uploads/2024/04/426831121_841928897979215_2382035056456223819_n.png
END:VEVENT
BEGIN:VEVENT
DTSTART;VALUE=DATE:20240427
DTEND;VALUE=DATE:20240428
DTSTAMP:20260424T004255
CREATED:20240109T220130Z
LAST-MODIFIED:20240401T132555Z
UID:1018203-1714176000-1714262399@3wmagazine.com
SUMMARY:Big Bass Tournament
DESCRIPTION:
URL:https://3wmagazine.com/event/big-bass-tournament-2024/
CATEGORIES:April,Sponsored
ATTACH;FMTTYPE=image/jpeg:https://3wmagazine.com/wp-content/uploads/2024/04/422354153_391387849949190_4626683863706117570_n.jpg
END:VEVENT
BEGIN:VEVENT
DTSTART;VALUE=DATE:20240427
DTEND;VALUE=DATE:20240428
DTSTAMP:20260424T004255
CREATED:20240109T222110Z
LAST-MODIFIED:20240401T135201Z
UID:1018242-1714176000-1714262399@3wmagazine.com
SUMMARY:The Great Southern Beer Festival
DESCRIPTION:
URL:https://3wmagazine.com/event/the-great-southern-beer-festival-2024/
CATEGORIES:April,Sponsored
ATTACH;FMTTYPE=image/jpeg:https://3wmagazine.com/wp-content/uploads/2024/04/423716225_340424405498914_2123469215093879149_n.jpg
END:VEVENT
BEGIN:VEVENT
DTSTART;VALUE=DATE:20240427
DTEND;VALUE=DATE:20240428
DTSTAMP:20260424T004255
CREATED:20240109T222213Z
LAST-MODIFIED:20240401T135341Z
UID:1018245-1714176000-1714262399@3wmagazine.com
SUMMARY:Heroes Gala
DESCRIPTION:
URL:https://3wmagazine.com/event/heroes-gala-2024/
CATEGORIES:April,Sponsored
ATTACH;FMTTYPE=image/png:https://3wmagazine.com/wp-content/uploads/2024/04/428701767_803881475102658_2630103914630344122_n.png
END:VEVENT
END:VCALENDAR