BEGIN:VCALENDAR
VERSION:2.0
PRODID:-//3W Magazine - ECPv6.15.20//NONSGML v1.0//EN
CALSCALE:GREGORIAN
METHOD:PUBLISH
X-WR-CALNAME:3W Magazine
X-ORIGINAL-URL:https://3wmagazine.com
X-WR-CALDESC:Events for 3W Magazine
REFRESH-INTERVAL;VALUE=DURATION:PT1H
X-Robots-Tag:noindex
X-PUBLISHED-TTL:PT1H
BEGIN:VTIMEZONE
TZID:America/Denver
BEGIN:DAYLIGHT
TZOFFSETFROM:-0700
TZOFFSETTO:-0600
TZNAME:MDT
DTSTART:20180311T090000
END:DAYLIGHT
BEGIN:STANDARD
TZOFFSETFROM:-0600
TZOFFSETTO:-0700
TZNAME:MST
DTSTART:20181104T080000
END:STANDARD
BEGIN:DAYLIGHT
TZOFFSETFROM:-0700
TZOFFSETTO:-0600
TZNAME:MDT
DTSTART:20190310T090000
END:DAYLIGHT
BEGIN:STANDARD
TZOFFSETFROM:-0600
TZOFFSETTO:-0700
TZNAME:MST
DTSTART:20191103T080000
END:STANDARD
BEGIN:DAYLIGHT
TZOFFSETFROM:-0700
TZOFFSETTO:-0600
TZNAME:MDT
DTSTART:20200308T090000
END:DAYLIGHT
BEGIN:STANDARD
TZOFFSETFROM:-0600
TZOFFSETTO:-0700
TZNAME:MST
DTSTART:20201101T080000
END:STANDARD
END:VTIMEZONE
BEGIN:VEVENT
DTSTART;VALUE=DATE:20191101
DTEND;VALUE=DATE:20191104
DTSTAMP:20260425T080754
CREATED:20190827T170412Z
LAST-MODIFIED:20190827T170412Z
UID:1009119-1572566400-1572825599@3wmagazine.com
SUMMARY:A Comedy of Tenors
DESCRIPTION:In this hilarious sequel to “Lend Me a Tenor\,” we have one hotel suite\, four tenors\, two wives\, three girlfriends\, and a soccer stadium filled with screaming fans. What could possibly go wrong? It’s 1930s Paris and the stage is set for the concert of the century – as long as producer Henry Saunders can keep Italian superstar Tito Merelli and his hot-blooded wife\, Maira\, from causing runaway chaos. Prepare for an uproarious ride\, full of mistaken identities\, bedroom hijinks\, and madcap delight. For more details\, visit www.arkansaspublictheatre.org.
URL:https://3wmagazine.com/event/a-comedy-of-tenors-first-weekend-2019/
LOCATION:The Victory Theater\, 116 S. 2nd St.\, Rogers\, AR\, United States
CATEGORIES:Happenings,November,Sponsored
ATTACH;FMTTYPE=image/jpeg:https://3wmagazine.com/wp-content/uploads/2019/08/ea2216c8591f9b55197034be61c715ea_750x600-e1566925412853.jpg
END:VEVENT
BEGIN:VEVENT
DTSTART;VALUE=DATE:20191102
DTEND;VALUE=DATE:20191103
DTSTAMP:20260425T080754
CREATED:20190213T195429Z
LAST-MODIFIED:20190620T163322Z
UID:1008405-1572652800-1572739199@3wmagazine.com
SUMMARY:Art of Hospice
DESCRIPTION:Enjoy an evening at Crystal Bridges Museum of American Art\, featuring an elegant dinner and wine pairings inspired by artwork selected from the museum’s collection. For more information\, visit www.nwacircleoflife.com.
URL:https://3wmagazine.com/event/art-of-hospice-2019/
LOCATION:Crystal Bridges Museum of American Art\, 600 Museum Way\, Bentonville\, AR\, 72712\, United States
CATEGORIES:Happenings,November,Sponsored
ATTACH;FMTTYPE=image/jpeg:https://3wmagazine.com/wp-content/uploads/2016/08/Circle-of-Life-Hospice-e1550087745463.jpg
END:VEVENT
BEGIN:VEVENT
DTSTART;VALUE=DATE:20191102
DTEND;VALUE=DATE:20191104
DTSTAMP:20260425T080754
CREATED:20190213T200845Z
LAST-MODIFIED:20190403T175528Z
UID:1008407-1572652800-1572825599@3wmagazine.com
SUMMARY:Bam Bam Weekend
DESCRIPTION:This weekend includes educational programming and fun activities about all things Ursus (bears) at the Turpentine Creek Wildlife Refuge. Guests will learn about the Refuge’s resident bears and participate in other activities during this unique educational offering. For more details\, visit www.turpentinecreek.org.
URL:https://3wmagazine.com/event/bam-bam-weekend-2019/
LOCATION:Turpentine Creek Wildlife Refuge\, 239 Turpentine Creek Lane\, Eureka Springs\, AR\, 72632\, United States
CATEGORIES:Happenings,November,Sponsored
ATTACH;FMTTYPE=image/jpeg:https://3wmagazine.com/wp-content/uploads/2019/01/49213261_10155666043552186_9089542694157418496_o-e1553992320666.jpg
END:VEVENT
END:VCALENDAR