BEGIN:VCALENDAR
VERSION:2.0
PRODID:-//3W Magazine - ECPv6.15.20//NONSGML v1.0//EN
CALSCALE:GREGORIAN
METHOD:PUBLISH
X-ORIGINAL-URL:https://3wmagazine.com
X-WR-CALDESC:Events for 3W Magazine
REFRESH-INTERVAL;VALUE=DURATION:PT1H
X-Robots-Tag:noindex
X-PUBLISHED-TTL:PT1H
BEGIN:VTIMEZONE
TZID:America/Denver
BEGIN:DAYLIGHT
TZOFFSETFROM:-0700
TZOFFSETTO:-0600
TZNAME:MDT
DTSTART:20180311T090000
END:DAYLIGHT
BEGIN:STANDARD
TZOFFSETFROM:-0600
TZOFFSETTO:-0700
TZNAME:MST
DTSTART:20181104T080000
END:STANDARD
BEGIN:DAYLIGHT
TZOFFSETFROM:-0700
TZOFFSETTO:-0600
TZNAME:MDT
DTSTART:20190310T090000
END:DAYLIGHT
BEGIN:STANDARD
TZOFFSETFROM:-0600
TZOFFSETTO:-0700
TZNAME:MST
DTSTART:20191103T080000
END:STANDARD
BEGIN:DAYLIGHT
TZOFFSETFROM:-0700
TZOFFSETTO:-0600
TZNAME:MDT
DTSTART:20200308T090000
END:DAYLIGHT
BEGIN:STANDARD
TZOFFSETFROM:-0600
TZOFFSETTO:-0700
TZNAME:MST
DTSTART:20201101T080000
END:STANDARD
END:VTIMEZONE
BEGIN:VEVENT
DTSTART;TZID=America/Denver:20191119T073000
DTEND;TZID=America/Denver:20191119T083000
DTSTAMP:20260425T104646
CREATED:20190620T155930Z
LAST-MODIFIED:20190620T155930Z
UID:1008824-1574148600-1574152200@3wmagazine.com
SUMMARY:Light of Hope Breakfast
DESCRIPTION:CASA of Northwest Arkansas hosts a breakfast to raise funds\, volunteers and awareness for the advocacy of abused and neglected children in Northwest Arkansas. The breakfast will feature a keynote address from Steve Bratspies\, Chief Merchandising Officer\, Walmart U.S. For more details\, visit www.nwacasa.org.
URL:https://3wmagazine.com/event/light-of-hope-breakfast-2019/
LOCATION:John Q. Hammons Center\, 3303 S. Pinnacle Hills Pkwy.\, Rogers\, AR\, 72758\, United States
CATEGORIES:Happenings,November,Sponsored
ATTACH;FMTTYPE=image/jpeg:https://3wmagazine.com/wp-content/uploads/2015/08/CASA.jpg
END:VEVENT
END:VCALENDAR