BEGIN:VCALENDAR
VERSION:2.0
PRODID:-//3W Magazine - ECPv6.15.20//NONSGML v1.0//EN
CALSCALE:GREGORIAN
METHOD:PUBLISH
X-ORIGINAL-URL:https://3wmagazine.com
X-WR-CALDESC:Events for 3W Magazine
REFRESH-INTERVAL;VALUE=DURATION:PT1H
X-Robots-Tag:noindex
X-PUBLISHED-TTL:PT1H
BEGIN:VTIMEZONE
TZID:America/Denver
BEGIN:DAYLIGHT
TZOFFSETFROM:-0700
TZOFFSETTO:-0600
TZNAME:MDT
DTSTART:20190310T090000
END:DAYLIGHT
BEGIN:STANDARD
TZOFFSETFROM:-0600
TZOFFSETTO:-0700
TZNAME:MST
DTSTART:20191103T080000
END:STANDARD
BEGIN:DAYLIGHT
TZOFFSETFROM:-0700
TZOFFSETTO:-0600
TZNAME:MDT
DTSTART:20200308T090000
END:DAYLIGHT
BEGIN:STANDARD
TZOFFSETFROM:-0600
TZOFFSETTO:-0700
TZNAME:MST
DTSTART:20201101T080000
END:STANDARD
BEGIN:DAYLIGHT
TZOFFSETFROM:-0700
TZOFFSETTO:-0600
TZNAME:MDT
DTSTART:20210314T090000
END:DAYLIGHT
BEGIN:STANDARD
TZOFFSETFROM:-0600
TZOFFSETTO:-0700
TZNAME:MST
DTSTART:20211107T080000
END:STANDARD
END:VTIMEZONE
BEGIN:VEVENT
DTSTART;VALUE=DATE:20200310
DTEND;VALUE=DATE:20200316
DTSTAMP:20260424T103559
CREATED:20191218T211324Z
LAST-MODIFIED:20200313T180351Z
UID:1009438-1583798400-1584316799@3wmagazine.com
SUMMARY:***RESCHEDULED TO AUG. 19 TO SEPT. 27*** - Ann
DESCRIPTION:***RESCHEDULED TO AUG. 19 TO SEPT. 27*** – “Ann” is the inspiring and hilarious story of a captivating woman who was even bigger than the state from which she hailed: Ann Richards\, former governor of Texas. This acclaimed\, one-woman tour-de-force brings the charismatic and storied former governor of Texas into TheatreSquared’s most intimate new space. For more details\, visit www.theatre2.org.
URL:https://3wmagazine.com/event/ann-week-4-2020/
LOCATION:TheatreSquared\, 477 W. Spring St.\, Fayetteville\, AR\, 72701\, United States
CATEGORIES:Happenings,March,Sponsored
ATTACH;FMTTYPE=image/jpeg:https://3wmagazine.com/wp-content/uploads/2020/01/Show-Website-Page-Header-Ann-1920x1080-2-e1579626666492.jpg
END:VEVENT
BEGIN:VEVENT
DTSTART;VALUE=DATE:20200314
DTEND;VALUE=DATE:20200315
DTSTAMP:20260424T103559
CREATED:20200106T165444Z
LAST-MODIFIED:20200313T171312Z
UID:1009472-1584144000-1584230399@3wmagazine.com
SUMMARY:***POSTPONED*** - Nutty Runner 5K
DESCRIPTION:***POSTPONED*** – If you enjoy craft beer and exercising outdoors for a good cause\, the Nutty Runner 5K is for you! At every mile\, runners can enjoy a pint of Nutty Runner Nut-Brown Ale courtesy of Columbus House Brewery – one of Fayetteville’s favorite local hangs. The route will wind through our fair city’s historic downtown and into some of our most scenic neighborhoods. In true Fayetteville fashion\, there will be hills. But just follow the Nutty Runner race mantra and put “mind over hangover” and you’ll be just fine. For the more cautious souls who don’t feel the need to drink and run\, there’s the Designated Driver division. However you choose to participate\, there will be additional beer\, shirts\, and merch available for purchase during the post-race festivities. It’s a guaranteed good time for all. For more information\, visit www.nuttyrunner5k.com.
URL:https://3wmagazine.com/event/nutty-runner-5k-2020/
LOCATION:Columbus House Brewery\, 701 W North St\, Fayetteville\, AR\, 72701
CATEGORIES:Happenings,March,Sponsored
ATTACH;FMTTYPE=image/png:https://3wmagazine.com/wp-content/uploads/2020/01/Main-Lockup-01-e1581352592643.png
END:VEVENT
END:VCALENDAR