BEGIN:VCALENDAR
VERSION:2.0
PRODID:-//3W Magazine - ECPv6.15.20//NONSGML v1.0//EN
CALSCALE:GREGORIAN
METHOD:PUBLISH
X-ORIGINAL-URL:https://3wmagazine.com
X-WR-CALDESC:Events for 3W Magazine
REFRESH-INTERVAL;VALUE=DURATION:PT1H
X-Robots-Tag:noindex
X-PUBLISHED-TTL:PT1H
BEGIN:VTIMEZONE
TZID:America/Denver
BEGIN:DAYLIGHT
TZOFFSETFROM:-0700
TZOFFSETTO:-0600
TZNAME:MDT
DTSTART:20190310T090000
END:DAYLIGHT
BEGIN:STANDARD
TZOFFSETFROM:-0600
TZOFFSETTO:-0700
TZNAME:MST
DTSTART:20191103T080000
END:STANDARD
BEGIN:DAYLIGHT
TZOFFSETFROM:-0700
TZOFFSETTO:-0600
TZNAME:MDT
DTSTART:20200308T090000
END:DAYLIGHT
BEGIN:STANDARD
TZOFFSETFROM:-0600
TZOFFSETTO:-0700
TZNAME:MST
DTSTART:20201101T080000
END:STANDARD
BEGIN:DAYLIGHT
TZOFFSETFROM:-0700
TZOFFSETTO:-0600
TZNAME:MDT
DTSTART:20210314T090000
END:DAYLIGHT
BEGIN:STANDARD
TZOFFSETFROM:-0600
TZOFFSETTO:-0700
TZNAME:MST
DTSTART:20211107T080000
END:STANDARD
END:VTIMEZONE
BEGIN:VEVENT
DTSTART;VALUE=DATE:20200414
DTEND;VALUE=DATE:20200420
DTSTAMP:20260423T010048
CREATED:20200228T203245Z
LAST-MODIFIED:20200313T180833Z
UID:1010058-1586822400-1587340799@3wmagazine.com
SUMMARY:***RESCHEDULED TO AUG. 19 TO SEPT. 27*** - Ann
DESCRIPTION:***RESCHEDULED TO AUG. 19 TO SEPT. 27*** – “Ann” is the inspiring and hilarious story of a captivating woman who was even bigger than the state from which she hailed: Ann Richards\, former governor of Texas. This acclaimed\, one-woman tour-de-force brings the charismatic and storied former governor of Texas into TheatreSquared’s most intimate new space. For more details\, visit www.theatre2.org.
URL:https://3wmagazine.com/event/ann-week-9-2020/
LOCATION:TheatreSquared\, 477 W. Spring St.\, Fayetteville\, AR\, 72701\, United States
CATEGORIES:April,Happenings,Sponsored
ATTACH;FMTTYPE=image/jpeg:https://3wmagazine.com/wp-content/uploads/2020/02/76695273_10157799606395127_592545572330668032_o-e1583344003973.jpg
END:VEVENT
BEGIN:VEVENT
DTSTART;VALUE=DATE:20200416
DTEND;VALUE=DATE:20200419
DTSTAMP:20260423T010048
CREATED:20200106T204441Z
LAST-MODIFIED:20200312T164947Z
UID:1009531-1586995200-1587254399@3wmagazine.com
SUMMARY:***CANCELED*** - NWA Fashion Week
DESCRIPTION:***CANCELED*** – The spring NWA Fashion Week at Record in Bentonville highlights designers\, artists\, boutiques and other creative professionals who are committed to building a vibrant\, inspired creative community in Northwest Arkansas. Visit www.nwafw.com for details.
URL:https://3wmagazine.com/event/nwa-fashion-week-spring-2020/
LOCATION:Record\, 104 SW A St.\, Bentonville\, AR\, 72712\, United States
CATEGORIES:April,Happenings,Sponsored
ATTACH;FMTTYPE=image/jpeg:https://3wmagazine.com/wp-content/uploads/2020/01/87821767_3031857890199141_3127534814886887424_o-e1583768588713.jpg
END:VEVENT
BEGIN:VEVENT
DTSTART;VALUE=DATE:20200418
DTEND;VALUE=DATE:20200419
DTSTAMP:20260423T010048
CREATED:20200106T211228Z
LAST-MODIFIED:20200320T211436Z
UID:1009544-1587168000-1587254399@3wmagazine.com
SUMMARY:***CANCELED*** - Big Bass Tournament
DESCRIPTION:***CANCELED*** – Get out those rods and reels for the Big Bass Tournament to help open the door of athletic experience to disadvantaged youth. For more details\, visit www.pagnozziparker.org.
URL:https://3wmagazine.com/event/big-bass-tournament-2020/
LOCATION:Prairie Creek on Beaver Lake
CATEGORIES:April,Happenings,Sponsored
ATTACH;FMTTYPE=image/png:https://3wmagazine.com/wp-content/uploads/2020/01/Screen-Shot-2020-02-13-at-11.47.50-AM-e1581616305175.png
END:VEVENT
BEGIN:VEVENT
DTSTART;VALUE=DATE:20200418
DTEND;VALUE=DATE:20200419
DTSTAMP:20260423T010048
CREATED:20200106T211451Z
LAST-MODIFIED:20200330T155311Z
UID:1009546-1587168000-1587254399@3wmagazine.com
SUMMARY:***POSTPONED*** - Cats at the Castle Fundraiser
DESCRIPTION:***POSTPONED*** – This fundraiser includes a gourmet dinner\, dessert\, live entertainment\, art and more at Castle Rogue’s Manor. For details\, visit www.tcwr.org.
URL:https://3wmagazine.com/event/cats-at-the-castle-fundraiser-2020/
LOCATION:Castle Rogue’s Manor\, State Highway 187\, Beaver\, AR\, 72613\, United States
CATEGORIES:April,Happenings,Sponsored
ATTACH;FMTTYPE=image/png:https://3wmagazine.com/wp-content/uploads/2020/01/TCWR-2020-calendar-logo.png
END:VEVENT
BEGIN:VEVENT
DTSTART;VALUE=DATE:20200418
DTEND;VALUE=DATE:20200419
DTSTAMP:20260423T010048
CREATED:20200106T215102Z
LAST-MODIFIED:20200330T155449Z
UID:1009571-1587168000-1587254399@3wmagazine.com
SUMMARY:***POSTPONED*** - UnGala
DESCRIPTION:***POSTPONED*** – The annual UnGala is not a typical soirée. This adults-only event features fun with science\, food and drinks at the Scott Family Amazeum. For more details\, visit www.amazeum.org.
URL:https://3wmagazine.com/event/ungala-2020/
LOCATION:Scott Family Amazeum\, 1009 Museum Way\, Bentonville\, AR\, 72712\, United States
CATEGORIES:April,Happenings,Sponsored
ATTACH;FMTTYPE=image/jpeg:https://3wmagazine.com/wp-content/uploads/2020/01/84409592_1218252445035320_2197547741012295680_o-e1582228859438.jpg
END:VEVENT
END:VCALENDAR