BEGIN:VCALENDAR
VERSION:2.0
PRODID:-//3W Magazine - ECPv6.15.20//NONSGML v1.0//EN
CALSCALE:GREGORIAN
METHOD:PUBLISH
X-WR-CALNAME:3W Magazine
X-ORIGINAL-URL:https://3wmagazine.com
X-WR-CALDESC:Events for 3W Magazine
REFRESH-INTERVAL;VALUE=DURATION:PT1H
X-Robots-Tag:noindex
X-PUBLISHED-TTL:PT1H
BEGIN:VTIMEZONE
TZID:America/Denver
BEGIN:DAYLIGHT
TZOFFSETFROM:-0700
TZOFFSETTO:-0600
TZNAME:MDT
DTSTART:20190310T090000
END:DAYLIGHT
BEGIN:STANDARD
TZOFFSETFROM:-0600
TZOFFSETTO:-0700
TZNAME:MST
DTSTART:20191103T080000
END:STANDARD
BEGIN:DAYLIGHT
TZOFFSETFROM:-0700
TZOFFSETTO:-0600
TZNAME:MDT
DTSTART:20200308T090000
END:DAYLIGHT
BEGIN:STANDARD
TZOFFSETFROM:-0600
TZOFFSETTO:-0700
TZNAME:MST
DTSTART:20201101T080000
END:STANDARD
BEGIN:DAYLIGHT
TZOFFSETFROM:-0700
TZOFFSETTO:-0600
TZNAME:MDT
DTSTART:20210314T090000
END:DAYLIGHT
BEGIN:STANDARD
TZOFFSETFROM:-0600
TZOFFSETTO:-0700
TZNAME:MST
DTSTART:20211107T080000
END:STANDARD
END:VTIMEZONE
BEGIN:VEVENT
DTSTART;VALUE=DATE:20200424
DTEND;VALUE=DATE:20200426
DTSTAMP:20260423T035206
CREATED:20200106T214048Z
LAST-MODIFIED:20200417T153022Z
UID:1009563-1587686400-1587859199@3wmagazine.com
SUMMARY:***CHANGED TO ONLINE SALE APRIL 27-MAY 8*** - Plant Sale
DESCRIPTION:***CHANGED TO ONLINE SALE APRIL 27-MAY 8*** – Shop for your garden at the Botanical Garden of the Ozarks. From 5-8 p.m. April 24\, the sale will be open to garden members only. The public sale will be 8 a.m. to noon April 25. For details\, visit www.bgozarks.org.
URL:https://3wmagazine.com/event/bgo-plant-sale-2020/
LOCATION:Botanical Garden of the Ozarks\, 4703 N. Crossover Rd.\, Fayetteville\, AR\, 72764\, United States
CATEGORIES:April,Happenings,Sponsored
ATTACH;FMTTYPE=image/png:https://3wmagazine.com/wp-content/uploads/2019/01/BGO-calendar-logo.png
END:VEVENT
BEGIN:VEVENT
DTSTART;VALUE=DATE:20200424
DTEND;VALUE=DATE:20200426
DTSTAMP:20260423T035206
CREATED:20200106T214251Z
LAST-MODIFIED:20200318T191118Z
UID:1009565-1587686400-1587859199@3wmagazine.com
SUMMARY:Native Tree and Plant Sale
DESCRIPTION:The annual Native Tree and Plant Sale at Compton Gardens features events for the entire family\, music and demonstrations from local craftsmen. For details\, visit www.peelcompton.org.
URL:https://3wmagazine.com/event/native-tree-and-plant-sale-2020/
LOCATION:Compton Gardens\, 312 N. Main St.\, Bentonville\, AR\, 72712\, United States
CATEGORIES:April,Happenings,Sponsored
ATTACH;FMTTYPE=image/png:https://3wmagazine.com/wp-content/uploads/2019/01/The-Peel-Compton-Foundation-calendar-logo.png
END:VEVENT
BEGIN:VEVENT
DTSTART;VALUE=DATE:20200425
DTEND;VALUE=DATE:20200426
DTSTAMP:20260423T035206
CREATED:20200106T214826Z
LAST-MODIFIED:20200417T154358Z
UID:1009569-1587772800-1587859199@3wmagazine.com
SUMMARY:***CHANGED TO VIRTUAL EVENT ON APRIL 25 WITH ONLINE AUCTION ON APRIL 20-25*** - The Big Party
DESCRIPTION:***CHANGED TO VIRTUAL EVENT ON APRIL 25 WITH ONLINE AUCTION ON APRIL 20-25*** – The 2020 Big Party is on! We’re going to be Partying from Home on April 25. Join Fayetteville Junior Civic League from 7-8:30 p.m. April 25 to enjoy live music from The Jeff Fox Band from our own homes. Participate in the 2020 Big Party in 4 ways: Buy tickets to Big Party From Home to receive your code for the virtual party April 25; bid on amazing items in the online auction from April 20-25; purchase a raffle ticket for the incredible $4\,900 Botox & Juvederm package from Premier Dermatology; or make a donation of any amount\, anytime! The link for the online auction is bidpal.net/bigparty20. For more information\, please visit www.Facebook.com/FayettevilleJuniorCivicLeague.
URL:https://3wmagazine.com/event/the-big-party-2020/
CATEGORIES:April,Happenings,Sponsored
ATTACH;FMTTYPE=image/jpeg:https://3wmagazine.com/wp-content/uploads/2020/01/IMG-1147-e1587138159808.jpg
END:VEVENT
END:VCALENDAR