BEGIN:VCALENDAR
VERSION:2.0
PRODID:-//3W Magazine - ECPv6.15.20//NONSGML v1.0//EN
CALSCALE:GREGORIAN
METHOD:PUBLISH
X-WR-CALNAME:3W Magazine
X-ORIGINAL-URL:https://3wmagazine.com
X-WR-CALDESC:Events for 3W Magazine
REFRESH-INTERVAL;VALUE=DURATION:PT1H
X-Robots-Tag:noindex
X-PUBLISHED-TTL:PT1H
BEGIN:VTIMEZONE
TZID:America/Denver
BEGIN:DAYLIGHT
TZOFFSETFROM:-0700
TZOFFSETTO:-0600
TZNAME:MDT
DTSTART:20190310T090000
END:DAYLIGHT
BEGIN:STANDARD
TZOFFSETFROM:-0600
TZOFFSETTO:-0700
TZNAME:MST
DTSTART:20191103T080000
END:STANDARD
BEGIN:DAYLIGHT
TZOFFSETFROM:-0700
TZOFFSETTO:-0600
TZNAME:MDT
DTSTART:20200308T090000
END:DAYLIGHT
BEGIN:STANDARD
TZOFFSETFROM:-0600
TZOFFSETTO:-0700
TZNAME:MST
DTSTART:20201101T080000
END:STANDARD
BEGIN:DAYLIGHT
TZOFFSETFROM:-0700
TZOFFSETTO:-0600
TZNAME:MDT
DTSTART:20210314T090000
END:DAYLIGHT
BEGIN:STANDARD
TZOFFSETFROM:-0600
TZOFFSETTO:-0700
TZNAME:MST
DTSTART:20211107T080000
END:STANDARD
END:VTIMEZONE
BEGIN:VEVENT
DTSTART;VALUE=DATE:20200501
DTEND;VALUE=DATE:20200504
DTSTAMP:20260423T093149
CREATED:20200112T220925Z
LAST-MODIFIED:20200714T175743Z
UID:1009596-1588291200-1588550399@3wmagazine.com
SUMMARY:***RESCHEDULED TO FEB. 5-14\, 2021*** - Buyer & Cellar
DESCRIPTION:***RESCHEDULED TO FEB. 5-14\, 2021*** – Alex More has a story to tell. A struggling actor in L.A.\, he takes a job working in the Malibu basement of a beloved megastar\, Barbra Streisand. One day\, the Lady Herself comes downstairs to play. It feels like real bonding in the basement\, but will their relationship ever make it upstairs? This is an outrageous comedy about the price of fame\, the cost of things\, and the oddest of odd jobs. For tickets and more details\, visit www.arkansaspublictheatre.org.
URL:https://3wmagazine.com/event/buyer-and-cellar-week-1-2020/
LOCATION:Arkansas Public Theatre\, 116 S. Second St.\, Rogers\, AR\, 72756\, United States
CATEGORIES:Happenings,May,Sponsored
ATTACH;FMTTYPE=image/png:https://3wmagazine.com/wp-content/uploads/2019/12/APT-Buyer-Cellar-2020-calendar-logo.png
END:VEVENT
BEGIN:VEVENT
DTSTART;VALUE=DATE:20200502
DTEND;VALUE=DATE:20200503
DTSTAMP:20260423T093150
CREATED:20200112T221636Z
LAST-MODIFIED:20200323T182732Z
UID:1009600-1588377600-1588463999@3wmagazine.com
SUMMARY:***CHANGED TO VIRTUAL RACE*** - Heather Ridley-Fleeman Battle for Hope
DESCRIPTION:***CHANGED TO VIRTUAL RACE*** – Choose your time. Choose your route. The race is in honor of Heather\, who passed away from colon cancer in 2004. Proceeds go toward cancer support and educational programs provided by Hope Cancer Resources. For details\, visit www.heathersraceforhope.com.
URL:https://3wmagazine.com/event/heather-ridley-fleeman-battle-for-hope-2020/
LOCATION:Old Tiger Stadium\, 810 Bella Vista Road\, Bentonville\, AR\, United States
CATEGORIES:Happenings,May,Sponsored
ATTACH;FMTTYPE=image/jpeg:https://3wmagazine.com/wp-content/uploads/2020/01/90206207_2455448477895161_7837596445048832000_o-e1584988038535.jpg
END:VEVENT
BEGIN:VEVENT
DTSTART;VALUE=DATE:20200502
DTEND;VALUE=DATE:20200503
DTSTAMP:20260423T093150
CREATED:20200112T221911Z
LAST-MODIFIED:20200629T181545Z
UID:1009602-1588377600-1588463999@3wmagazine.com
SUMMARY:***CHANGED TO VIRTUAL EVENT WITH ONLINE AUCTION IN MAY; IN-PERSON EVENT RUN FOR THE ROSES RE-IMAGINED SET FOR JULY 31 HAS NOW BEEN CANCELED*** - Run for the Roses Hope Gala
DESCRIPTION:***CHANGED TO VIRTUAL EVENT WITH ONLINE AUCTION IN MAY; IN-PERSON EVENT RUN FOR THE ROSES RE-IMAGINED SET FOR JULY 31 HAS NOW BEEN CANCELED*** – JDRF will be hosting a virtual Run for the Roses event on May 2 at 6 p.m. Content will be shared on Zoom as well as JDRF’s Facebook Live. There will also be a virtual auction featuring packages from across the state of Arkansas. The auction will be open May 2-9 at https://jdrf-arkansas.ejoinme.org/virtualauction. Run for the Roses Re-Imagined in-person event on July 31 at Barn at the Springs has now been canceled. For more information\, visit https://jdrf-arkansas.ejoinme.org/runfortheroses2020.
URL:https://3wmagazine.com/event/run-for-the-roses-hope-gala-2020/
CATEGORIES:Happenings,May,Sponsored
ATTACH;FMTTYPE=image/jpeg:https://3wmagazine.com/wp-content/uploads/2020/01/91995892_3076482755698157_8714207018283433984_n-e1586368764831.jpg
END:VEVENT
BEGIN:VEVENT
DTSTART;TZID=America/Denver:20200502T120000
DTEND;TZID=America/Denver:20200502T170000
DTSTAMP:20260423T093150
CREATED:20200213T183529Z
LAST-MODIFIED:20200320T173348Z
UID:1009976-1588420800-1588438800@3wmagazine.com
SUMMARY:***CANCELED*** - Washington Elementary Tour of Homes
DESCRIPTION:***CANCELED*** – The Washington Elementary Tour of Homes will be May 2. The Tour of Homes is a annual fundraiser for Washington Elementary School. Donations go to a variety of projects\, including teacher supplies\, the Wildcat school garden\, kindergarten camp\, school events and family connection nights. Donations also go to the Children’s Fund\, which helps provide items like backpacks\, clothing\, and emergency assistance for Washington Elementary students in need. For more information\, visit https://washington.fayar.net/o/wes.
URL:https://3wmagazine.com/event/washington-elementary-tour-of-homes-2020/
CATEGORIES:Happenings,May,Sponsored
END:VEVENT
END:VCALENDAR