BEGIN:VCALENDAR
VERSION:2.0
PRODID:-//3W Magazine - ECPv6.15.20//NONSGML v1.0//EN
CALSCALE:GREGORIAN
METHOD:PUBLISH
X-ORIGINAL-URL:https://3wmagazine.com
X-WR-CALDESC:Events for 3W Magazine
REFRESH-INTERVAL;VALUE=DURATION:PT1H
X-Robots-Tag:noindex
X-PUBLISHED-TTL:PT1H
BEGIN:VTIMEZONE
TZID:America/Denver
BEGIN:DAYLIGHT
TZOFFSETFROM:-0700
TZOFFSETTO:-0600
TZNAME:MDT
DTSTART:20190310T090000
END:DAYLIGHT
BEGIN:STANDARD
TZOFFSETFROM:-0600
TZOFFSETTO:-0700
TZNAME:MST
DTSTART:20191103T080000
END:STANDARD
BEGIN:DAYLIGHT
TZOFFSETFROM:-0700
TZOFFSETTO:-0600
TZNAME:MDT
DTSTART:20200308T090000
END:DAYLIGHT
BEGIN:STANDARD
TZOFFSETFROM:-0600
TZOFFSETTO:-0700
TZNAME:MST
DTSTART:20201101T080000
END:STANDARD
BEGIN:DAYLIGHT
TZOFFSETFROM:-0700
TZOFFSETTO:-0600
TZNAME:MDT
DTSTART:20210314T090000
END:DAYLIGHT
BEGIN:STANDARD
TZOFFSETFROM:-0600
TZOFFSETTO:-0700
TZNAME:MST
DTSTART:20211107T080000
END:STANDARD
END:VTIMEZONE
BEGIN:VEVENT
DTSTART;VALUE=DATE:20200504
DTEND;VALUE=DATE:20200505
DTSTAMP:20260422T115226
CREATED:20200112T225933Z
LAST-MODIFIED:20200430T162556Z
UID:1009626-1588550400-1588636799@3wmagazine.com
SUMMARY:***POSTPONED*** - Golf Tournament
DESCRIPTION:***POSTPONED*** – This annual golf tournament benefiting Autism Involves Me and Horses for Healing at Shadow Valley Country Club features morning and afternoon flights. To register\, visit aimnwa.org/golf-tournament.
URL:https://3wmagazine.com/event/autism-involves-me-and-horses-for-healing-annual-golf-tournament-2020/
LOCATION:Shadow Valley Country Club\, 7001 W. Shadow Valley Rd.\, Rogers\, AR\, United States
CATEGORIES:Happenings,May,Sponsored
ATTACH;FMTTYPE=image/png:https://3wmagazine.com/wp-content/uploads/2020/04/Screen-Shot-2020-04-17-at-11.26.27-AM-e1587141112398.png
END:VEVENT
END:VCALENDAR