BEGIN:VCALENDAR
VERSION:2.0
PRODID:-//3W Magazine - ECPv6.15.20//NONSGML v1.0//EN
CALSCALE:GREGORIAN
METHOD:PUBLISH
X-WR-CALNAME:3W Magazine
X-ORIGINAL-URL:https://3wmagazine.com
X-WR-CALDESC:Events for 3W Magazine
REFRESH-INTERVAL;VALUE=DURATION:PT1H
X-Robots-Tag:noindex
X-PUBLISHED-TTL:PT1H
BEGIN:VTIMEZONE
TZID:America/Denver
BEGIN:DAYLIGHT
TZOFFSETFROM:-0700
TZOFFSETTO:-0600
TZNAME:MDT
DTSTART:20190310T090000
END:DAYLIGHT
BEGIN:STANDARD
TZOFFSETFROM:-0600
TZOFFSETTO:-0700
TZNAME:MST
DTSTART:20191103T080000
END:STANDARD
BEGIN:DAYLIGHT
TZOFFSETFROM:-0700
TZOFFSETTO:-0600
TZNAME:MDT
DTSTART:20200308T090000
END:DAYLIGHT
BEGIN:STANDARD
TZOFFSETFROM:-0600
TZOFFSETTO:-0700
TZNAME:MST
DTSTART:20201101T080000
END:STANDARD
BEGIN:DAYLIGHT
TZOFFSETFROM:-0700
TZOFFSETTO:-0600
TZNAME:MDT
DTSTART:20210314T090000
END:DAYLIGHT
BEGIN:STANDARD
TZOFFSETFROM:-0600
TZOFFSETTO:-0700
TZNAME:MST
DTSTART:20211107T080000
END:STANDARD
END:VTIMEZONE
BEGIN:VEVENT
DTSTART;VALUE=DATE:20200704
DTEND;VALUE=DATE:20200705
DTSTAMP:20260421T161728
CREATED:20200113T021512Z
LAST-MODIFIED:20200514T171315Z
UID:1009691-1593820800-1593907199@3wmagazine.com
SUMMARY:***CHANGED TO VIRTUAL EVENT*** - Run for Veterans
DESCRIPTION:***CHANGED TO VIRTUAL EVENT*** – This year’s Run for Veterans race is virtual\, and there will still be both timed and un-timed options. The 4-mile race is a chip-timed race\, and the 1-mile fun walk is un-timed\, and open to those who wish to participate\, but do not want to run. The race will be on a course of your chosing! Whether you run on your local trail system\, on your neighborhood sidewalk or take a scenic route\, you can participate in the 2020 Run for Veterans! People can participate between July 4 and July 12. All proceeds benefit Veteran clients of 7hills. For more information and to register\, visit 7hillscenter.org/runforvets/.
URL:https://3wmagazine.com/event/run-for-veterans-2020/
CATEGORIES:Happenings,July,Sponsored
ATTACH;FMTTYPE=image/png:https://3wmagazine.com/wp-content/uploads/2019/01/7hills-Homeless-Center-calendar-logo.png
END:VEVENT
END:VCALENDAR